Workbook

Sheet Взносы
A1: Оплата членских взносов
A2: Участок | B2: ФИО | C2: 2012/2013 | E2: 2013/2014 | G2: 2014/2015 | I2: 2015/2016 | K2: 2016/2017 | N2: Итого
A3: №1 | B3: Рябцева | C3: 7300 | D3: -7300 | E3: 10300 | F3: =-1000-7300-2000 -> -10300 | G3: 9800 | H3: -9800 | I3: 8400 | J3: -8400 | K3: 7550 | L3: -7550 | N3: =SUM(C3:M3) -> 0
A4: №2 | B4: Антипов | C4: 7300 | D4: -7300 | E4: 10300 | F4: =-8300-2000 -> -10300 | G4: 9800 | H4: -9800 | I4: 8400 | J4: -8400 | K4: 7550 | L4: -7550 | N4: =SUM(C4:M4) -> 0
A5: №3 | B5: Ханина | C5: 7300 | D5: -7300 | E5: 10300 | F5: =-1000-7000 -> -8000 | G5: 9800 | H5: -9800 | I5: 8400 | J5: -8400 | K5: 7550 | N5: =SUM(C5:M5) -> 9850
A6: №5 | B6: Павлюк | C6: 7300 | D6: -7300 | E6: 10300 | F6: -8300 | G6: 9800 | H6: -9800 | I6: 8400 | K6: 7550 | L6: -7550 | N6: =SUM(C6:M6) -> 10400
A7: №6 | B7: Бордюк | C7: 7300 | D7: -7300 | E7: 10300 | F7: -8300 | G7: 9800 | H7: =-9800-2000 -> -11800 | I7: 8400 | J7: -8400 | K7: 7550 | L7: -7550 | N7: =SUM(C7:M7) -> 0
A8: №7 | B8: Еропкин | C8: 7300 | D8: -7300 | E8: 10300 | F8: =-8300-2000 -> -10300 | G8: 9800 | H8: =-9300-500 -> -9800 | I8: 8400 | J8: -8300 | K8: 7550 | L8: -6500 | N8: =SUM(C8:M8) -> 1150
A9: №8 | B9: Шатилов | C9: 7300 | E9: 10300 | F9: =-1000-7300 -> -8300 | G9: 9800 | H9: -9800 | I9: 8400 | J9: -8400 | K9: 7550 | L9: -7500 | N9: =SUM(C9:M9) -> 9350
A10: №9 | B10: Ворнаков | C10: 7300 | D10: -7300 | E10: 10300 | F10: -8300 | G10: 9800 | H10: -11800 | I10: 8400 | J10: -8400 | K10: 7550 | N10: =SUM(C10:M10) -> 7550
A11: №10 | B11: Усова | C11: 7300 | D11: -7300 | E11: 10300 | F11: -8300 | G11: 9800 | H11: =-2000-9800 -> -11800 | I11: 8400 | J11: -8400 | K11: 7550 | N11: =SUM(C11:M11) -> 7550
A12: №11 | B12: Щербачев | C12: 7300 | D12: -7300 | E12: 10300 | F12: =-8300-2000 -> -10300 | G12: 9800 | H12: -9800 | I12: 8400 | J12: -8400 | K12: 7550 | L12: -7550 | N12: =SUM(C12:M12) -> 0
A13: №12 | B13: Козлов | C13: 7300 | D13: =-3650-3650 -> -7300 | E13: 10300 | F13: -8300 | G13: 9800 | H13: -11800 | I13: 8400 | J13: -8400 | K13: 7550 | L13: -7550 | N13: =SUM(C13:M13) -> 0
A14: №13 | B14: Самсонов | C14: 7300 | D14: -7300 | E14: 10300 | F14: =-1000-7300-2000 -> -10300 | G14: 9800 | H14: -9800 | I14: 8400 | J14: -8400 | K14: 7550 | L14: -7550 | N14: =SUM(C14:M14) -> 0
A15: №14 | B15: Корчагина | C15: 7300 | D15: -7300 | E15: 10300 | F15: =-7300-1000-2000 -> -10300 | G15: 9800 | H15: -9800 | I15: 8400 | J15: -8400 | K15: 7550 | L15: =-7150-400 -> -7550 | N15: =SUM(C15:M15) -> 0
A16: №15 | B16: Кречет | C16: 7300 | D16: -7300 | E16: 10300 | F16: =-5600-400-3000-2300 -> -11300 | G16: 9800 | H16: -9800 | I16: 8400 | J16: -8400 | K16: 7550 | L16: -7550 | N16: =SUM(C16:M16) -> -1000
A17: №16 | B17: Назаров | C17: 7300 | D17: -7300 | E17: 10300 | F17: =-7300-1000 -> -8300 | G17: 9800 | H17: -9800 | I17: 8400 | J17: -8400 | K17: 7550 | N17: =SUM(C17:M17) -> 9550
A18: №17 | B18: Розофарова | C18: 7300 | D18: -7300 | E18: 10300 | F18: -22000 | G18: 9800 | H18: -15000 | I18: 8400 | K18: 7550 | N18: =SUM(C18:M18) -> -950
A19: №18 | B19: Пухова | C19: 7300 | D19: -7300 | E19: 10300 | F19: =-1000-6000 -> -7000 | G19: 9800 | H19: =-3000-2000-1000 -> -6000 | I19: 8400 | J19: =-12200-5000 -> -17200 | K19: 7550 | N19: =SUM(C19:M19) -> 5850
A20: №19 | B20: Ермилина | C20: 7300 | D20: -7300 | E20: 10300 | F20: -8300 | G20: 9800 | H20: -9800 | I20: 8400 | J20: -10400 | K20: 7550 | L20: -7550 | N20: =SUM(C20:M20) -> 0
A21: №20 | B21: Артюхова | C21: 7300 | D21: -7300 | E21: 10300 | F21: =-8300-2000 -> -10300 | G21: 9800 | H21: -9800 | I21: 8400 | J21: -8400 | K21: 7550 | L21: -7550 | N21: =SUM(C21:M21) -> 0
A22: №21 | B22: Виноградов | C22: 7300 | D22: -7300 | E22: 10300 | F22: =-8300-2000 -> -10300 | G22: 9800 | H22: -9800 | I22: 8400 | J22: -8400 | K22: 7550 | L22: -7550 | N22: =SUM(C22:M22) -> 0
A23: №22 | B23: Волчкова | C23: 7300 | D23: -7300 | E23: 10300 | F23: =-1000-7300-2000 -> -10300 | G23: 9800 | H23: -9800 | I23: 8400 | J23: -8400 | K23: 7550 | L23: -7150 | N23: =SUM(C23:M23) -> 400
A24: №23 | B24: Горбунов | C24: 7300 | D24: -7300 | E24: 10300 | F24: =-7300-1000-2000 -> -10300 | G24: 9800 | H24: -9800 | I24: 8400 | J24: -8400 | K24: 7550 | L24: -7550 | N24: =SUM(C24:M24) -> 0
A25: №24 | B25: Мартанова | C25: 7300 | D25: -7300 | E25: 10300 | F25: -10300 | G25: 9800 | H25: =-9800-10300 -> -20100 | I25: 8400 | K25: 7550 | L25: -6150 | N25: =SUM(C25:M25) -> -500
A26: №25 | B26: Садовникова | C26: 7300 | D26: =-3000-4300 -> -7300 | E26: 10300 | F26: -8300 | G26: 9800 | H26: -14000 | I26: 8400 | J26: -8400 | K26: 7550 | N26: =SUM(C26:M26) -> 5350
A27: №26 | B27: Колотушкина | C27: 7300 | D27: -7300 | E27: 10300 | F27: =-1000-7300-2000 -> -10300 | G27: 9800 | H27: -9800 | I27: 8400 | J27: -8400 | K27: 7550 | L27: -7550 | N27: =SUM(C27:M27) -> 0
A28: №27 | B28: Рассказихин | C28: 7300 | D28: -7300 | E28: 10300 | F28: =-1000-7300-2000 -> -10300 | G28: 9800 | H28: =-7300-2500 -> -9800 | I28: 8400 | J28: -8400 | K28: 7550 | L28: -7550 | N28: =SUM(C28:M28) -> 0
A29: №28 | B29: Хруцкая | C29: 7300 | D29: -7300 | E29: 10300 | F29: =-8300-2000 -> -10300 | G29: 9800 | H29: -9800 | I29: 8400 | J29: -8400 | K29: 7550 | L29: -7550 | N29: =SUM(C29:M29) -> 0
A30: №29 | B30: Сахаров | C30: 7300 | D30: -7300 | E30: 10300 | F30: -10300 | G30: 9800 | H30: -9800 | I30: 8400 | J30: =-8400-2000 -> -10400 | K30: 7550 | N30: =SUM(C30:M30) -> 5550
A31: №30 | B31: Засыпкина | C31: 7300 | D31: -7300 | E31: 10300 | F31: -8300 | G31: 9800 | H31: =-2000-9800 -> -11800 | I31: 8400 | J31: -8400 | K31: 7550 | L31: =-7150-400 -> -7550 | N31: =SUM(C31:M31) -> 0
A32: №31А | B32: Сизых | C32: 7300 | D32: -7300 | E32: 10300 | F32: =-8300-2000 -> -10300 | G32: 9800 | H32: -9800 | I32: 8400 | J32: =-2400-3000-3000 -> -8400 | K32: 7550 | L32: -7550 | N32: =SUM(C32:M32) -> 0
A33: №31Б | B33: Акмеева | C33: 7300 | D33: -7300 | E33: 10300 | F33: -7300 | G33: 9800 | H33: -7000 | I33: 8400 | J33: =-2000-7800 -> -9800 | K33: 7550 | L33: -7550 | N33: =SUM(C33:M33) -> 4400
A34: №32 | B34: Горюшкин | C34: 7300 | D34: -7300 | E34: 10300 | F34: -8300 | G34: 9800 | H34: =-2000-9800 -> -11800 | I34: 8400 | J34: -8400 | K34: 7550 | L34: -7550 | N34: =SUM(C34:M34) -> 0
A35: №33 | B35: Житенев | C35: 7300 | D35: -7300 | E35: 10300 | F35: =-8300-2000 -> -10300 | G35: 9800 | H35: -9800 | I35: 8400 | J35: -8400 | K35: 7550 | L35: -7550 | N35: =SUM(C35:M35) -> 0
A36: №34 | B36: Корчененков | C36: 7300 | D36: -7300 | E36: 10300 | F36: =-8300-2000 -> -10300 | G36: 9800 | H36: -9800 | I36: 8400 | J36: -8400 | K36: 7550 | L36: -7550 | N36: =SUM(C36:M36) -> 0
A37: №35А | B37: Яковлева | C37: 7300 | D37: -7300 | E37: 10300 | F37: -7800 | G37: 9800 | H37: =-9800-2000 -> -11800 | I37: 8400 | J37: -8400 | K37: 7550 | L37: -8550 | N37: =SUM(C37:M37) -> -500
A38: №35Б | B38: Осипова И. | C38: 7300 | D38: -7300 | E38: 10300 | F38: =-7800-2000 -> -9800 | G38: 9800 | H38: -9800 | I38: 8400 | J38: -8000 | K38: 7550 | L38: -8050 | N38: =SUM(C38:M38) -> 400
A39: №36 | B39: Кулишкин | C39: 7300 | D39: -7300 | E39: 10300 | F39: =-1000-7300 -> -8300 | G39: 9800 | H39: -9800 | I39: 8400 | J39: =-10279.55-121 -> -10400.55 | K39: 7550 | L39: -7550 | N39: =SUM(C39:M39) -> -0.55
A40: №37 | B40: Бирюкова | C40: 7300 | D40: -7300 | E40: 10300 | F40: =-3000-7300 -> -10300 | G40: 9800 | H40: =-2500-7300 -> -9800 | I40: 8400 | J40: =-2000-8400 -> -10400 | K40: 7550 | L40: -15100 | N40: =SUM(C40:M40) -> -9550
A41: №38 | B41: Бирюкова | C41: 7300 | D41: -7300 | E41: 10300 | F41: =-3000-7300 -> -10300 | G41: 9800 | I41: 8400 | K41: 7550 | N41: =SUM(C41:M41) -> 25750
A42: №39 | B42: Хорошева | C42: 7300 | D42: -7300 | E42: 10300 | F42: =-8300-2000 -> -10300 | G42: 9800 | H42: -9800 | I42: 8400 | J42: =-7700-700 -> -8400 | K42: 7550 | L42: -7550 | N42: =SUM(C42:M42) -> 0
A43: №40 | B43: Кожухова | C43: 7300 | D43: -7300 | E43: 10300 | F43: -8300 | G43: 9800 | H43: -9800 | I43: 8400 | J43: =-8300-2100 -> -10400 | K43: 7550 | N43: =SUM(C43:M43) -> 7550
A44: №41 | B44: Сахарова | C44: 7300 | E44: 10300 | G44: 9800 | I44: 8400 | K44: 7550 | N44: =SUM(C44:M44) -> 43350
A45: №42 | B45: Павленко | C45: 7300 | D45: -7300 | E45: 10300 | F45: =-7300-1000 -> -8300 | G45: 9800 | H45: -9800 | I45: 8400 | J45: -8400 | K45: 7550 | L45: =-1000-3000-3500 -> -7500 | N45: =SUM(C45:M45) -> 2050
A46: №43 | B46: Андреев | C46: 7300 | D46: -7300 | E46: 10300 | F46: -8300 | G46: 9800 | H46: =-9800-2000 -> -11800 | I46: 8400 | J46: -8400 | K46: 7550 | L46: -7550 | N46: =SUM(C46:M46) -> 0
A47: №44 | B47: Макарычев | C47: 7300 | D47: -7300 | E47: 10300 | F47: -8300 | G47: 9800 | H47: =-2000-9800 -> -11800 | I47: 8400 | J47: -8400 | K47: 7550 | L47: -7550 | N47: =SUM(C47:M47) -> 0
A48: №45 | B48: Александрова | C48: 7300 | D48: -7300 | E48: 10300 | F48: -8300 | G48: 9800 | H48: =-2000-9800 -> -11800 | I48: 8400 | J48: -8400 | K48: 7550 | L48: -7550 | N48: =SUM(C48:M48) -> 0
A49: №46 | B49: Макаренков | C49: 7300 | D49: -7300 | E49: 10300 | F49: =-1000-7300-2000 -> -10300 | G49: 9800 | H49: -9800 | I49: 8400 | J49: -8400 | K49: 7550 | L49: -7550 | N49: =SUM(C49:M49) -> 0
A50: №47 | B50: Степанова | C50: 7300 | D50: -7300 | E50: 10300 | F50: =-1000-7300-2000 -> -10300 | G50: 9800 | H50: -9800 | I50: 8400 | J50: -8400 | K50: 7550 | L50: -7550 | N50: =SUM(C50:M50) -> 0
A51: №48 | B51: Севастьянов | C51: 7300 | D51: -7300 | E51: 10300 | F51: -8300 | G51: 9800 | H51: -11800 | I51: 8400 | J51: -8400 | K51: 7550 | L51: -7550 | N51: =SUM(C51:M51) -> 0
A52: №49 | B52: Жаркова, Филим | C52: 7300 | D52: -7300 | E52: 10300 | F52: =-8300-2000 -> -10300 | G52: 9800 | H52: -9800 | I52: 8400 | J52: -8400 | K52: 7550 | L52: -7550 | N52: =SUM(C52:M52) -> 0
A53: №50 | B53: Корчененкова | C53: 7300 | D53: -7300 | E53: 10300 | F53: =-8300-2000 -> -10300 | G53: 9800 | H53: -9800 | I53: 8400 | J53: -8400 | K53: 7550 | L53: -7500 | N53: =SUM(C53:M53) -> 50
A54: №51А | B54: Солдатов А. | C54: 7300 | D54: -7300 | E54: 10300 | F54: =-1000-7300 -> -8300 | G54: 9800 | H54: =-2000-9800 -> -11800 | I54: 8400 | J54: -8400 | K54: 7550 | N54: =SUM(C54:M54) -> 7550
A55: №51Б | B55: Солдатов Ю. | C55: 7300 | D55: -7300 | E55: 10300 | F55: =-10300-2000 -> -12300 | G55: 9800 | H55: -9800 | I55: 8400 | J55: -6400 | K55: 7550 | L55: -7550 | N55: =SUM(C55:M55) -> 0
A56: №52 | B56: Глот | C56: 7300 | D56: -7300 | E56: 10300 | F56: -8300 | G56: 9800 | I56: 8400 | K56: 7550 | N56: =SUM(C56:M56) -> 27750
A57: №53 | B57: Власова | C57: 7300 | D57: =-3000-4300 -> -7300 | E57: 10300 | F57: -8300 | G57: 9800 | H57: -9800 | I57: 8400 | J57: -10000 | K57: 7550 | L57: -8000 | N57: =SUM(C57:M57) -> -50
A58: №54 | B58: Кучер | C58: 7300 | D58: -7300 | E58: 10300 | F58: =-1000-7300-2000 -> -10300 | G58: 9800 | H58: -9800 | I58: 8400 | J58: -8400 | K58: 7550 | N58: =SUM(C58:M58) -> 7550
A59: №55А | B59: Яхонтова | C59: 7300 | D59: -7300 | E59: 10300 | F59: -7300 | G59: 9800 | H59: =-700-9800 -> -10500 | I59: 8400 | J59: =-6000-5000 -> -11000 | K59: 7550 | L59: -8000 | N59: =SUM(C59:M59) -> -750
A60: №55Б | B60: Ромашина | C60: 7300 | D60: -7300 | E60: 10300 | G60: 9800 | H60: -8300 | I60: 8400 | J60: -8000 | K60: 7550 | L60: -8000 | N60: =SUM(C60:M60) -> 11750
A61: №56А | B61: Меньшова | C61: 7300 | D61: -7300 | E61: 10300 | F61: =-1000-7300 -> -8300 | G61: 9800 | I61: 8400 | J61: -9800 | K61: 7550 | L61: =-8400-7550 -> -15950 | N61: =SUM(C61:M61) -> 2000
A62: №56Б | B62: Кучер | C62: 7300 | D62: -7300 | E62: 10300 | G62: 9800 | I62: 8400 | K62: 7550 | N62: =SUM(C62:M62) -> 36050
A63: №57А | B63: Подлегаева | C63: 7300 | D63: =-3000-4300 -> -7300 | E63: 10300 | F63: -4000 | G63: 9800 | H63: -5000 | I63: 8400 | J63: -8400 | K63: 7550 | L63: -7550 | N63: =SUM(C63:M63) -> 11100
A64: №57Б | B64: Филатова | C64: 7300 | D64: =-3000-4300 -> -7300 | E64: 10300 | F64: -4300 | G64: 9800 | H64: -5000 | I64: 8400 | J64: -8400 | K64: 7550 | L64: -7550 | N64: =SUM(C64:M64) -> 10800
A65: №58 | B65: Родин | C65: 7300 | D65: -7300 | E65: 10300 | F65: -8300 | G65: 9800 | H65: =-2000-9800 -> -11800 | I65: 8400 | J65: -8400 | K65: 7550 | N65: =SUM(C65:M65) -> 7550
A66: №59 | B66: Большов | C66: 7300 | D66: -7300 | E66: 10300 | F66: =-8300-2000 -> -10300 | G66: 9800 | H66: -9800 | I66: 8400 | J66: -8400 | K66: 7550 | L66: -7550 | N66: =SUM(C66:M66) -> 0
A67: №60А | B67: Костылева | C67: 7300 | D67: -7300 | E67: 10300 | F67: =-1000-7300-2000 -> -10300 | G67: 9800 | H67: =-7300-2500 -> -9800 | I67: 8400 | J67: -9800 | K67: 7550 | L67: -7550 | N67: =SUM(C67:M67) -> -1400
A68: №60Б | B68: Глебова | C68: 7300 | D68: -7300 | E68: 10300 | F68: =-1000-7300-2000 -> -10300 | G68: 9800 | H68: -9800 | I68: 8400 | J68: -10300 | K68: 7550 | L68: -8000 | N68: =SUM(C68:M68) -> -2350
A69: №61 | B69: Парамонова | C69: 7300 | D69: =-1000-6300 -> -7300 | E69: 10300 | F69: =-4300-4000-2000 -> -10300 | G69: 9800 | H69: -4800 | I69: 8400 | K69: 7550 | L69: -7500 | N69: =SUM(C69:M69) -> 13450
A70: №62 | B70: Голубятникова | C70: 7300 | D70: -7300 | E70: 10300 | F70: -8300 | G70: 9800 | H70: -9800 | I70: 8400 | J70: -8400 | K70: 7550 | L70: -7550 | N70: =SUM(C70:M70) -> 2000
A71: №63 | B71: Федюшкин | C71: 7300 | D71: -7000 | E71: 10300 | F71: -8300.63 | G71: 9800 | H71: -9300 | I71: 8400 | J71: -10000 | K71: 7550 | L71: -10000 | N71: =SUM(C71:M71) -> -1250.63
A72: №64 | B72: Савкина | C72: 7300 | D72: =-3500-3800 -> -7300 | E72: 10300 | F72: =-7300-1000-2000 -> -10300 | G72: 9800 | H72: -9800 | I72: 8400 | J72: -8400 | K72: 7550 | L72: -7550 | N72: =SUM(C72:M72) -> 0
A73: №65 | B73: Буланова | C73: 7300 | D73: =-4000-2300-1000 -> -7300 | E73: 10300 | F73: =-5000-3300-2000 -> -10300 | G73: 9800 | H73: =-3000-2000-2800-2000 -> -9800 | I73: 8400 | J73: =-6000-2400 -> -8400 | K73: 7550 | L73: =-5000-2550-5000 -> -12550 | N73: =SUM(C73:M73) -> -5000
A74: №66 | B74: Кудрявцева | C74: 7300 | D74: -7300 | E74: 10300 | F74: -8300 | G74: 9800 | H74: =-9800-2000 -> -11800 | I74: 8400 | J74: -8400 | K74: 7550 | L74: -7550 | N74: =SUM(C74:M74) -> 0
A75: №68 | B75: Илюхина | C75: 7300 | D75: -7300 | E75: 10300 | F75: =-8300-2000 -> -10300 | G75: 9800 | H75: -9800 | I75: 8400 | J75: -8400 | K75: 7550 | L75: -7550 | N75: =SUM(C75:M75) -> 0
A76: №69 | B76: Кербер | C76: 7300 | D76: -7300 | E76: 10300 | F76: =-10300-2000-8300 -> -20600 | G76: 9800 | H76: -7800 | I76: 8400 | J76: -2100 | K76: 7550 | L76: -7550 | N76: =SUM(C76:M76) -> -2000
A77: №70 | B77: Бибина | C77: 7300 | D77: =-4000-3300 -> -7300 | E77: 10300 | F77: -8300 | G77: 9800 | H77: =-9800-2000 -> -11800 | I77: 8400 | J77: -8400 | K77: 7550 | L77: -7550 | N77: =SUM(C77:M77) -> 0
A78: №71 | B78: Кондратьева | C78: 7300 | D78: =-3500-4000 -> -7500 | E78: 10300 | F78: =-8300-1000 -> -9300 | G78: 9800 | H78: =-3000-6800 -> -9800 | I78: 8400 | J78: =-5000-1700-2000-190-8255.53 -> -17145.53 | K78: 7550 | N78: =SUM(C78:M78) -> -395.53
A79: №72 | B79: Суздальцев | C79: 7300 | D79: -7300 | E79: 10300 | G79: 9800 | H79: -9800 | I79: 8400 | J79: -18700 | K79: 7550 | N79: =SUM(C79:M79) -> 7550
A80: №73 | B80: Меньшов | C80: 7300 | D80: -7300 | E80: 10300 | F80: =-1000-7300 -> -8300 | G80: 9800 | I80: 8400 | J80: =-2000-9800 -> -11800 | K80: 7550 | L80: =-7550-8400 -> -15950 | N80: =SUM(C80:M80) -> 0
A81: №74,4 | B81: Гаврилова | C81: 7300 | D81: -7300 | E81: 10300 | F81: -10300 | G81: 19600 | I81: 16800 | J81: -10800 | K81: =7550+7550 -> 15100 | L81: -22500 | N81: =SUM(C81:M81) -> 18200
A82: №75 | B82: Астафьев | C82: 7300 | D82: -7300 | E82: 10300 | F82: =-8300-2000 -> -10300 | G82: 9800 | H82: -2000 | I82: 8400 | J82: =-3000-3400-9800 -> -16200 | K82: 7550 | L82: -7550 | N82: =SUM(C82:M82) -> 0
A83: №76 | B83: Виленкина | C83: 7300 | D83: -7300 | E83: 10300 | F83: =-7300-1000 -> -8300 | G83: 9800 | H83: -9800 | I83: 8400 | J83: -9800 | K83: 7550 | L83: =-8400-5300 -> -13700 | N83: =SUM(C83:M83) -> -5550
A84: №77 | B84: Озеров | C84: 7300 | D84: -7300 | E84: 10300 | G84: 9800 | I84: 8400 | J84: -18200 | K84: 7550 | N84: =SUM(C84:M84) -> 17850
A85: №78 | B85: Нестеренко | C85: 7300 | D85: -7300 | E85: 10300 | F85: =-10300-2000 -> -12300 | G85: 9800 | H85: -7800 | I85: 8400 | J85: -8400 | K85: 7550 | L85: -7550 | N85: =SUM(C85:M85) -> 0
A86: №79 | B86: Ханина | C86: 7300 | E86: 10300 | F86: =-1000-7300 -> -8300 | G86: 9800 | H86: -9800 | I86: 8400 | K86: 7550 | N86: =SUM(C86:M86) -> 25250
A87: №80 | B87: Рыжова | C87: 7300 | D87: -7300 | E87: 10300 | F87: =-1000-7300 -> -8300 | G87: 9800 | H87: =-7300-200 -> -7500 | I87: 8400 | J87: =-8400-9600 -> -18000 | K87: 7550 | N87: =SUM(C87:M87) -> 2250
A88: №81 | B88: Пономарева | C88: 7300 | D88: -7300 | E88: 10300 | F88: =-8300-2000 -> -10300 | G88: 9800 | H88: =-5000-4800 -> -9800 | I88: 8400 | J88: -8200 | K88: 7550 | L88: -7550 | N88: =SUM(C88:M88) -> 200
A89: №82 | B89: Кочергова | C89: 7300 | D89: =-3000-4300 -> -7300 | E89: 10300 | F89: -7300 | G89: 9800 | H89: -9800 | I89: 8400 | J89: -8400 | K89: 7550 | L89: =-7150-3000-400 -> -10550 | N89: =SUM(C89:M89) -> 0
A90: №83 | B90: Коршунова | C90: 7300 | E90: 10300 | G90: 9800 | I90: 8400 | K90: 7550 | N90: =SUM(C90:M90) -> 43350

Sheet свод по электричеству
A10: Участок | B10: ФИО | C10: 2011 | D10: 2012 | E10: 2013 | F10: 2014 | G10: 2015 | H10: 2016 | I10: 2017 | J10: 2018 | K10: Итого
A11: №1 | B11: Рябцева | C11: ='2011'!J11 -> 160.8 | D11: ='2012'!AB11 -> 774.23 | E11: ='2013'!AB11 -> 282.06 | F11: ='2014'!AB11 -> -444.04 | G11: ='2015'!AC11 -> -0.0024 | H11: ='2016'!AB11 -> 2930.3964 | I11: ='2017'!AB11 -> -1956.9784 | K11: =SUM(C11:J11) -> 1746.4656
A12: №2 | B12: Антипов | C12: ='2011'!J12 -> 465.08 | D12: ='2012'!AB12 -> 743.27 | E12: ='2013'!AB12 -> -517.45 | F12: ='2014'!AB12 -> -205.17 | G12: ='2015'!AC12 -> 606.5237 | H12: ='2016'!AB12 -> -799.1683 | I12: ='2017'!AB12 -> 68.6548 | K12: =SUM(C12:J12) -> 361.7402
A13: №3 | B13: Ханина | C13: ='2011'!J13 -> 147.15 | D13: ='2012'!AB13 -> -340.68 | E13: ='2013'!AB13 -> 208.93 | F13: ='2014'!AB13 -> 169.2 | G13: ='2015'!AC13 -> -8082.8139 | H13: ='2016'!AB13 -> 460.4845 | I13: ='2017'!AB13 -> -187.6159 | K13: =SUM(C13:J13) -> -7625.3453
A14: №5 | B14: Павлюк | C14: ='2011'!J14 -> 2902.15 | D14: ='2012'!AB14 -> 902.39 | E14: ='2013'!AB14 -> 3091.6 | F14: ='2014'!AB14 -> -3616.57 | G14: ='2015'!AC14 -> 0 | H14: ='2016'!AB14 -> 0 | I14: ='2017'!AB14 -> 0 | K14: =SUM(C14:J14) -> 3279.57
A15: №6 | B15: Бордюг | C15: ='2011'!J15 -> 36.43 | D15: ='2012'!AB15 -> 699.98 | E15: ='2013'!AB15 -> 1178.16 | F15: ='2014'!AB15 -> -2031.17 | G15: ='2015'!AC15 -> -2.2737368e-12 | H15: ='2016'!AB15 -> 0 | I15: ='2017'!AB15 -> 0 | K15: =SUM(C15:J15) -> -116.6
A16: №7 | B16: Еропкин | C16: ='2011'!J16 -> 153.69 | D16: ='2012'!AB16 -> -1367.96 | E16: ='2013'!AB16 -> 1827.42 | F16: ='2014'!AB16 -> -2749.16 | G16: ='2015'!AC16 -> -1062.8573 | H16: ='2016'!AB16 -> 1213.7197 | I16: ='2017'!AB16 -> 8159.889 | K16: =SUM(C16:J16) -> 6174.7414
A17: №8 | B17: Шатилов | C17: ='2011'!J17 -> 1522.18 | D17: ='2012'!AB17 -> -8858.61 | E17: ='2013'!AB17 -> 8254.31 | F17: ='2014'!AB17 -> -3610.73 | G17: ='2015'!AC17 -> 5996.8183 | H17: ='2016'!AB17 -> 4126.7148 | I17: ='2017'!AB17 -> 5995.9174 | K17: =SUM(C17:J17) -> 13426.601
A18: №9 | B18: Ворнаков | C18: ='2011'!J18 -> 75.15 | D18: ='2012'!AB18 -> 0.52 | E18: ='2013'!AB18 -> 552.49 | F18: ='2014'!AB18 -> 324.87 | G18: ='2015'!AC18 -> -1301.9297 | H18: ='2016'!AB18 -> 292.3099 | I18: ='2017'!AB18 -> 180.8608 | K18: =SUM(C18:J18) -> 124.271
A19: №10 | B19: Усова | C19: ='2011'!J19 -> 23.72 | D19: ='2012'!AB19 -> -20.04 | E19: ='2013'!AB19 -> 178.2 | F19: ='2014'!AB19 -> -85.64 | G19: ='2015'!AC19 -> 813.3533 | H19: ='2016'!AB19 -> -520.1686 | I19: ='2017'!AB19 -> 422.274 | K19: =SUM(C19:J19) -> 811.6987
A20: №11 | B20: Щербачев | C20: ='2011'!J20 -> 102.87 | D20: ='2012'!AB20 -> -82.39 | E20: ='2013'!AB20 -> 120.89 | F20: ='2014'!AB20 -> -403.06 | G20: ='2015'!AC20 -> 0 | H20: ='2016'!AB20 -> 0 | I20: ='2017'!AB20 -> 0 | K20: =SUM(C20:J20) -> -261.69
A21: №12 | B21: Козлов | C21: ='2011'!J21 -> 120.05 | D21: ='2012'!AB21 -> -481.13 | E21: ='2013'!AB21 -> -115.96 | F21: ='2014'!AB21 -> 395.92 | G21: ='2015'!AC21 -> 0 | H21: ='2016'!AB21 -> 0 | I21: ='2017'!AB21 -> 0 | K21: =SUM(C21:J21) -> -81.12
A22: №13 | B22: Самсонов | C22: ='2011'!J22 -> 358.63 | D22: ='2012'!AB22 -> 99.75 | E22: ='2013'!AB22 -> 1564.27 | F22: ='2014'!AB22 -> 1200.79 | G22: ='2015'!AC22 -> -2885.904 | H22: ='2016'!AB22 -> -0.0013 | I22: ='2017'!AB22 -> 3274.2139 | K22: =SUM(C22:J22) -> 3611.7486
... A68: №56А | B68: Меньшова | C68: ='2011'!J68 -> 7.82 | D68: ='2012'!AB68 -> -540.45 | E68: ='2013'!AB68 -> -112.24 | F68: ='2014'!AB68 -> -902.15 | G68: ='2015'!AC68 -> 969.7859 | H68: ='2016'!AB68 -> -1140.168 | I68: ='2017'!AB68 -> 289.4632 | K68: =SUM(C68:J68) -> -1427.9389
A69: №56Б | B69: Кучер | C69: ='2011'!J69 -> 76.88 | D69: ='2012'!AB69 -> 736.78 | E69: ='2013'!AB69 -> 278.54 | F69: ='2014'!AB69 -> 734.84 | G69: ='2015'!AC69 -> 1625.1186 | H69: ='2016'!AB69 -> -128.0318 | I69: ='2017'!AB69 -> -395.6335 | J69: -1184.69 | K69: =SUM(C69:J69) -> 1743.8033
A70: №57А | B70: Филатова | C70: ='2011'!J70 -> 53.21 | D70: ='2012'!AB70 -> 669.21 | E70: ='2013'!AB70 -> 3.27 | F70: ='2014'!AB70 -> -113.21 | G70: ='2015'!AC70 -> -477.1774 | H70: ='2016'!AB70 -> -719.1825 | I70: ='2017'!AB70 -> 157.8943 | K70: =SUM(C70:J70) -> -425.9856
A71: №57Б | B71: Подлегаева | C71: ='2011'!J71 -> 9.65 | D71: ='2012'!AB71 -> -56.2 | E71: ='2013'!AB71 -> -222.3 | F71: ='2014'!AB71 -> -72.37 | G71: ='2015'!AC71 -> -676.0465 | H71: ='2016'!AB71 -> -104.4448 | I71: ='2017'!AB71 -> 81.132 | K71: =SUM(C71:J71) -> -1040.5793
A72: №58 | B72: Родин | C72: ='2011'!J72 -> 36.74 | D72: ='2012'!AB72 -> 151.13 | E72: ='2013'!AB72 -> -61.6 | F72: ='2014'!AB72 -> 208.75 | G72: ='2015'!AC72 -> 192.8035 | H72: ='2016'!AB72 -> -511.0792 | I72: ='2017'!AB72 -> 187.4616 | K72: =SUM(C72:J72) -> 204.2059
A73: №59 | B73: Большов | C73: ='2011'!J73 -> 74.72 | D73: ='2012'!AB73 -> 6.83 | E73: ='2013'!AB73 -> -926.85 | F73: ='2014'!AB73 -> 319.86 | G73: ='2015'!AC73 -> -197.6776 | H73: ='2016'!AB73 -> 162.453 | I73: ='2017'!AB73 -> 357.6714 | K73: =SUM(C73:J73) -> -202.9932
A74: №60А | B74: Костылева | C74: ='2011'!J74 -> 3.96 | D74: ='2012'!AB74 -> -632.88 | E74: ='2013'!AB74 -> -889.31 | F74: ='2014'!AB74 -> -436.96 | G74: ='2015'!AC74 -> 137.6507 | H74: ='2016'!AB74 -> 1790.8681 | I74: ='2017'!AB74 -> 330.5994 | K74: =SUM(C74:J74) -> 303.9282
A75: №60Б | B75: Глебова | C75: ='2011'!J75 -> 332.12 | D75: ='2012'!AB75 -> -145.86 | E75: ='2013'!AB75 -> 323.76 | F75: ='2014'!AB75 -> -188.6 | G75: ='2015'!AC75 -> -125.0146 | H75: ='2016'!AB75 -> -305.1762 | I75: ='2017'!AB75 -> -1502.9669 | K75: =SUM(C75:J75) -> -1611.7377
A76: №61 | B76: Парамонова | C76: ='2011'!J76 -> 201.39 | D76: ='2012'!AB76 -> -2445.23 | E76: ='2013'!AB76 -> -1261.04 | F76: ='2014'!AB76 -> -1670.56 | G76: ='2015'!AC76 -> -42.22 | H76: ='2016'!AB76 -> 0 | I76: ='2017'!AB76 -> 0 | K76: =SUM(C76:J76) -> -5217.66
A77: №61А | B77: Парамонова | C77: ='2011'!J77 -> 1154.67 | D77: ='2012'!AB77 -> 428.45 | E77: ='2013'!AB77 -> 372.24 | F77: ='2014'!AB77 -> 1404.45 | G77: ='2015'!AC77 -> 0 | H77: ='2016'!AB77 -> 0 | I77: ='2017'!AB77 -> 0 | K77: =SUM(C77:J77) -> 3359.81
A78: №62 | B78: Голубятникова | C78: ='2011'!J78 -> 1923.9 | D78: ='2012'!AB78 -> -363.29 | E78: ='2013'!AB78 -> -3443.75 | F78: ='2014'!AB78 -> -3237.45 | G78: ='2015'!AC78 -> -1805.0188 | H78: ='2016'!AB78 -> 4489.2851 | I78: ='2017'!AB78 -> -6827.2883 | K78: =SUM(C78:J78) -> -9263.612
A79: №62А | B79: Голубятникова | C79: ='2011'!J79 -> 324.79 | D79: ='2012'!AB79 -> 1410.62 | E79: ='2013'!AB79 -> 1660.8 | F79: ='2014'!AB79 -> 1707.64 | G79: ='2015'!AC79 -> 1874.9547 | H79: ='2016'!AB79 -> -1085.3486 | I79: ='2017'!AB79 -> 2300.0704 | K79: =SUM(C79:J79) -> 8193.5265
A80: №63 | B80: Федюшкин | C80: ='2011'!J80 -> 20.47 | D80: ='2012'!AB80 -> -25.59 | E80: ='2013'!AB80 -> 278.47 | F80: ='2014'!AB80 -> -188.41 | G80: ='2015'!AC80 -> 302.9307 | H80: ='2016'!AB80 -> -546.1115 | I80: ='2017'!AB80 -> 10.5024 | K80: =SUM(C80:J80) -> -147.7384
A81: №64 | B81: Савкина | C81: ='2011'!J81 -> 1237.33 | D81: ='2012'!AB81 -> 1504.88 | E81: ='2013'!AB81 -> 2159.2 | F81: ='2014'!AB81 -> -1800.15 | G81: ='2015'!AC81 -> 0 | H81: ='2016'!AB81 -> 0 | I81: ='2017'!AB81 -> 0 | K81: =SUM(C81:J81) -> 3101.26
... A100: №83 | B100: Коршунова | C100: ='2011'!J100 -> 0 | D100: ='2012'!AB100 -> 0 | E100: ='2013'!AB100 -> 0 | F100: ='2014'!AB100 -> 0 | G100: ='2015'!AC100 -> 0 | H100: ='2016'!AB100 -> 0 | I100: ='2017'!AB100 -> 0 | K100: =SUM(C100:J100) -> 0
A101: ИТОГО | C101: =SUM(C11:C100) -> 34026.83 | D101: =SUM(D11:D100) -> -6668.49 | E101: =SUM(E11:E100) -> 55115.07 | F101: =SUM(F11:F100) -> -15113.31 | G101: =SUM(G11:G100) -> -74720.253 | H101: =SUM(H11:H100) -> 3458.5713 | I101: =SUM(I11:I100) -> -3552.4288 | J101: =SUM(J11:J100) -> -1184.69 | K101: =SUM(K11:K100) -> -8638.7002

Sheet 2017
A10: Участок | B10: ФИО | C10: 42736 | E10: 42767 | G10: 42795 | I10: 42826 | K10: 42856 | M10: 42887 | O10: 42917 | Q10: 42948 | S10: 42979 | U10: 43009 | W10: 43040 | Y10: 43070 | AB10: Итого
A11: №1 | B11: Рябцева | C11: 755.9459 | D11: =-351.36-616.32 -> -967.68 | E11: 861.1464 | G11: 345.8371 | H11: =-755.95-861.15 -> -1617.1 | I11: 378.6859 | J11: -345.84 | K11: 2634.7896 | L11: =-378.69-2634.79 -> -3013.48 | M11: 2818.5604 | N11: -2818.56 | O11: 3479.9553 | Q11: 2304.1991 | R11: =-2304.2-6594.39 -> -8898.59 | S11: 2426.5886 | U11: 2125.1523 | V11: -2426.59 | W11: 347.9608 | Y11: 457.7602 | Z11: =-347.96-457.76 -> -805.72 | AB11: =SUM(C11:AA11) -> -1956.9784
A12: №2 | B12: Антипов | C12: 18.4294 | E12: 1260.9469 | G12: 2329.5656 | I12: 1077.1018 | J12: -3600 | K12: 120.6174 | M12: 754.3868 | O12: 1218.7994 | Q12: 370.3594 | R12: -3500 | S12: 476.2289 | U12: 142.2192 | W12: 0 | X12: -600 | Y12: 0 | AB12: =SUM(C12:AA12) -> 68.6548
A13: №3 | B13: Ханина | C13: 3.7176 | E13: 3.7729 | F13: -440 | G13: 3.4379 | I13: 3.7176 | J13: -170.25 | K13: 80.6744 | M13: 121.065 | O13: 84.5123 | Q13: 106.6565 | S13: 3.933 | U13: 3.6963 | W13: 3.2856 | Y13: 4.165 | AB13: =SUM(C13:AA13) -> -187.6159
A14: №5 | B14: Павлюк | AB14: =SUM(C14:AA14) -> 0
A15: №6 | B15: Бордюг | AB15: =SUM(C15:AA15) -> 0
A16: №7 | B16: Еропкин | C16: 0 | E16: 2.3779 | G16: 1530.7938 | I16: 470.3059 | K16: 144.8489 | M16: 720.9122 | O16: 1008.713 | Q16: 467.0695 | S16: 593.9562 | U16: 590.5727 | W16: 298.3909 | Y16: 2331.948 | AB16: =SUM(C16:AA16) -> 8159.889
A17: №8 | B17: Шатилов | C17: 8250.6978 | E17: 1471.5422 | F17: -5005.84 | G17: 1341.3034 | I17: 248.1757 | J17: -12510 | K17: 1060.9353 | M17: 836.3438 | O17: 2065.1742 | Q17: 1226.9924 | S17: 1152.446 | U17: 1452.4075 | W17: 2732.9411 | Y17: 1672.798 | AB17: =SUM(C17:AA17) -> 5995.9174
A18: №9 | B18: Ворнаков | C18: 4.4039 | E18: 4.3128 | G18: 3.9778 | I18: 4.3681 | K18: 4.9406 | M18: 32.6735 | O18: 32.2359 | Q18: 17.4511 | S18: 58.2878 | U18: 8.7308 | W18: 4.1441 | Y18: 5.3344 | AB18: =SUM(C18:AA18) -> 180.8608
A19: №10 | B19: Усова | C19: 3.6623 | E19: 3.607 | G19: 3.3631 | I19: 11.4401 | K19: 107.1286 | L19: -311 | M19: 74.8302 | O19: 54.7321 | Q19: 178.3567 | S19: 101.5159 | U19: 64.1903 | W19: 106.3307 | Y19: 24.117 | AB19: =SUM(C19:AA19) -> 422.274
A20: №11 | B20: Щербачев | AB20: =SUM(C20:AA20) -> 0
A21: №12 | B21: Козлов | AB21: =SUM(C21:AA21) -> 0
A22: №13 | B22: Самсонов | C22: 310.2511 | E22: 219.9661 | G22: 276.1868 | H22: -530.22 | I22: 1053.108 | K22: 758.8945 | M22: 560.5332 | O22: 525.1323 | P22: -1319.42 | Q22: 422.2148 | R22: -947.34 | S22: 309.4405 | U22: 754.3052 | W22: 938.2744 | X22: -1063.75 | Y22: 1006.637 | AB22: =SUM(C22:AA22) -> 3274.2139
A23: №14 | B23: Корчагина | C23: 15.5762 | E23: 15.7616 | G23: 14.311 | I23: 15.7421 | K23: 614.2173 | M23: 2155.9296 | N23: -2155 | O23: 2391.4962 | Q23: 1450.0156 | R23: -6769.79 | S23: 2304.0624 | U23: 1392.6364 | W23: 29.1227 | Y23: 17.8712 | Z23: -5193.71 | AB23: =SUM(C23:AA23) -> -3701.7577
A24: №15 | B24: Кречет | C24: 16.2983 | E24: 342.8848 | F24: -359.18 | G24: 14.9615 | I24: 16.4121 | K24: 3337.4468 | L24: -3368.82 | M24: 2759.5224 | N24: -2759.52 | O24: 2463.7438 | Q24: 1674.8964 | R24: =-2463.74-1674.9 -> -4138.64 | S24: 3107.9121 | T24: -3107.91 | U24: 3632.6048 | W24: 341.2769 | X24: =-3632.6-341.28 -> -3973.88 | Y24: 382.7282 | Z24: -382.73 | AB24: =SUM(C24:AA24) -> 0.0081
A25: №16 | B25: Назаров | AB25: =SUM(C25:AA25) -> 0
A26: №17 | B26: Розофарова | C26: 4.869 | E26: 4.9243 | G26: 4.4982 | I26: 4.9991 | K26: 5.204 | M26: 4.4624 | O26: 67.0332 | Q26: 19.4701 | S26: 5.2811 | U26: 25.9244 | W26: 4.4388 | Y26: 5.534 | AB26: =SUM(C26:AA26) -> 156.6386
A27: №18 | B27: Колесников | C27: 0 | E27: 0 | G27: 0 | I27: 0 | K27: 137.9617 | M27: 82.5759 | O27: 280.3009 | Q27: 392.5914 | R27: -1000 | S27: 677.7253 | U27: 534.9509 | V27: -1070.32 | W27: 15.1197 | Y27: 0 | AB27: =SUM(C27:AA27) -> 50.9058
A28: №19 | B28: Ермилина | C28: 0 | E28: 0 | G28: 0 | I28: 0 | K28: 44.99 | M28: 203.5353 | O28: 128.3712 | Q28: 281.9734 | S28: 310.8161 | U28: 146.3691 | V28: -1000 | W28: 0 | Y28: 0 | AB28: =SUM(C28:AA28) -> 116.0551
A29: №20 | B29: Артюхова | C29: 0 | E29: 0 | G29: 0 | I29: 0 | K29: 471.2845 | M29: 1216.8616 | N29: =-471.28-1216.86 -> -1688.14 | O29: 1435.2055 | Q29: 841.3623 | R29: =-1435.21-841.36 -> -2276.57 | S29: 1022.8368 | T29: =-269.68-1022.84 -> -1292.52 | U29: 999.6382 | W29: 16.53 | X29: =-999.64-16.53 -> -1016.17 | Y29: 0 | AB29: =SUM(C29:AA29) -> -269.6811
A30: №21 | B30: Виноградов | AB30: =SUM(C30:AA30) -> 0
A31: №22 | B31: Волчкова | C31: 2.6768 | D31: -1755.44 | E31: 2.6215 | G31: 2.4166 | I31: 228.9896 | K31: 1507.6074 | L31: -385 | M31: 2855.3789 | N31: -1507.61 | O31: 3135.2718 | Q31: 1859.9186 | S31: 2228.5427 | T31: =-7850.57-2230 -> -10080.57 | U31: 2560.7789 | W31: 42.688 | X31: -2560.78 | Y31: 0 | AB31: =SUM(C31:AA31) -> -1862.5092
A32: №23 | B32: Горбунова | C32: 13.7711 | D32: =-13.77-13.82 -> -27.59 | E32: 13.7711 | G32: 13.3386 | H32: =-13.34-13.77 -> -27.11 | I32: 15.378 | J32: -15.38 | K32: 462.35 | L32: -462.35 | M32: 912.6746 | O32: 1380.0704 | P32: =-912.67-1380.07 -> -2292.74 | Q32: 1211.2699 | S32: 1015.195 | T32: -1211.27 | U32: 887.2696 | W32: 17.6779 | X32: -887.27 | Y32: 16.8387 | AB32: =SUM(C32:AA32) -> 1035.8949
A33: №24 | B33: Мартанова | C33: 4.7194 | E33: 4.5535 | G33: 4.1827 | I33: 4.6641 | K33: 146.6582 | M33: 246.2414 | O33: 3405.4302 | Q33: 1376.1332 | S33: 731.8288 | U33: 12.4846 | W33: 5.1881 | X33: -6000 | Y33: 5.2393 | AB33: =SUM(C33:AA33) -> -52.6765
A34: №25 | B34: Садовникова | C34: 4.0331 | E34: 4.0331 | G34: 3.6623 | I34: 4.1079 | K34: 82.2941 | M34: 215.2149 | N34: -2500 | O34: 103.6576 | Q34: 329.942 | S34: 433.1238 | T34: -2000 | U34: 177.8034 | W34: 3.5803 | Y34: 4.6546 | AB34: =SUM(C34:AA34) -> -3133.8929
A35: №26 | B35: Колотушкина | C35: 0 | E35: 0 | G35: 0 | I35: 0 | K35: 8.1844 | M35: 272.1745 | O35: 662.6751 | Q35: 267.0003 | S35: 234.3934 | U35: 13.0191 | W35: 0 | X35: -1082.95 | Y35: 0 | AB35: =SUM(C35:AA35) -> 374.4968
A36: №26Б | B36: Андреева | C36: 0 | D36: -724.21 | E36: 0 | G36: 0 | I36: 0 | K36: 0 | M36: 0 | O36: 22.4695 | Q36: 318.9158 | S36: 20.0596 | U36: 0 | W36: 0 | X36: -289 | Y36: 0 | AB36: =SUM(C36:AA36) -> -651.7651
A37: №27 | B37: Рассказихин | C37: 4.2185 | E37: 4.238 | G37: 3.8835 | I37: 4.238 | K37: 172.5157 | M37: 232.409 | O37: 374.7479 | Q37: 275.2707 | S37: 190.8637 | U37: 29.7047 | W37: 3.9121 | X37: -1630.31 | Y37: 4.8495 | AB37: =SUM(C37:AA37) -> -329.4587
A38: №28 | B38: Хруцкая | C38: 0 | E38: 0 | G38: 0 | I38: 0 | K38: 0.966 | M38: 101.7657 | N38: -300 | O38: 184.0461 | Q38: 4.0072 | S38: 4.9284 | U38: 4.6546 | W38: 4.1859 | Y38: 5.3391 | AB38: =SUM(C38:AA38) -> 9.893
A39: №29 | B39: Сахаров | C39: 0 | E39: 0 | G39: 0 | I39: 0 | K39: 25.6455 | L39: -284.79 | M39: 0 | O39: 183.0602 | Q39: 64.788 | S39: 78.265 | U39: 1.856 | W39: 15.486 | X39: -369.1 | Y39: 7.0436 | AB39: =SUM(C39:AA39) -> -277.7457
A40: №30 | B40: Засыпкина | C40: 0 | E40: 0 | G40: 0 | I40: 0 | K40: 986.0509 | M40: 1680.3165 | O40: 1672.1918 | P40: -3318.94 | Q40: 822.2668 | S40: 1951.52 | T40: -2455.65 | U40: 909.0197 | V40: -2860.54 | W40: 0 | Y40: 0 | AB40: =SUM(C40:AA40) -> -613.7643
A41: №31А | B41: Сизых | AB41: =SUM(C41:AA41) -> 0
A42: №31Б | B42: Акмеева | C42: 6.6776 | E42: 8.3919 | G42: 26.8589 | I42: 13.3884 | K42: 344.7556 | M42: 509.9565 | O42: 707.0705 | P42: -600 | Q42: 371.8414 | S42: 503.6473 | U42: 392.7292 | W42: 27.3488 | Y42: 15.6098 | AB42: =SUM(C42:AA42) -> 2328.2759
A43: №32 | B43: Горюшкин | C43: 11.7838 | E43: 11.7675 | G43: 10.7625 | I43: 11.9139 | K43: 515.3361 | M43: 1424.8011 | N43: =-558.64-1424.8 -> -1983.44 | O43: 1026.3123 | P43: -1026.31 | Q43: 881.0533 | R43: -881.05 | S43: 1179.5473 | U43: 473.1244 | W43: 57.6624 | Y43: 13.3953 | Z43: -1179.55 | AB43: =SUM(C43:AA43) -> 547.1099
A44: №33 | B44: Житенев | AB44: =SUM(C44:AA44) -> 0
A45: №34 | B45: Корчененков | C45: 12928.855 | D45: -8579.91 | E45: 8975.3071 | G45: 11542.292 | H45: =-8975.31-11542.29-12928.86 -> -33446.46 | I45: 2939.7674 | J45: -2939.77 | K45: 9441.8106 | L45: -9441.81 | M45: 4842.9806 | N45: -2094.14 | O45: 6302.7987 | Q45: 2774.6365 | R45: -9077.44 | S45: 6139.7891 | U45: 10305.236 | V45: =-6139.79-10305.24 -> -16445.03 | W45: 9999.0444 | Y45: 10246.355 | Z45: =-9999.04-10246.36 -> -20245.4 | AB45: =SUM(C45:AA45) -> -5831.0878
A46: №35 | B46: Осипова, Яковл. | C46: 4.5535 | E46: 4.5535 | G46: 4.2185 | I46: 4.6641 | K46: 4.8332 | M46: 16.9017 | O46: 40.7592 | Q46: 141.6833 | S46: 2057.706 | U46: 3.0698 | W46: 0 | Y46: 0 | AB46: =SUM(C46:AA46) -> 2282.9428
A47: №36 | B47: Осипова О. | C47: 0 | E47: 0 | G47: 0 | I47: 0 | K47: 0 | M47: 12.2766 | O47: 0 | Q47: 15.3632 | S47: 12.3263 | U47: 0.3527 | W47: 0 | Y47: 0 | AB47: =SUM(C47:AA47) -> 40.3188
A48: №37 | B48: Бирюкова | C48: 4634.3604 | D48: -4700 | E48: 31226.948 | G48: 4999.8848 | H48: -31230 | I48: 1202.5773 | J48: =-5000-1205 -> -6205 | K48: 1252.8239 | L48: -1255 | M48: 1315.2018 | N48: -1320 | O48: 1581.1427 | P48: -1585 | Q48: 904.9164 | R48: -905 | S48: 1363.3106 | T48: -1365 | U48: 2485.9971 | V48: -2490 | W48: 1484.3513 | X48: -1485 | Y48: 1712.1866 | Z48: -1715 | AB48: =SUM(C48:AA48) -> -91.299
A49: №39 | B49: Хорошева | C49: 13.5304 | E49: 13.4751 | G49: 12.2489 | I49: 13.6052 | K49: 193.9656 | M49: 352.4593 | N49: =-69.96-352.4 -> -422.36 | O49: 768.4879 | Q49: 338.3469 | S49: 710.4963 | U49: 465.915 | W49: 8.2929 | X49: =-1106.85-1176.42 -> -2283.27 | Y49: 10.4995 | AB49: =SUM(C49:AA49) -> 195.693
A50: №40 | B50: Кожухова | C50: 0 | E50: 0 | G50: 0 | I50: 0 | K50: 0 | M50: 0 | O50: 0 | Q50: 0 | S50: 0.116 | U50: 0 | W50: 0 | Y50: 0 | AB50: =SUM(C50:AA50) -> 0.116
A51: №41 | B51: Сахарова | C51: 3.7176 | E51: 3.7729 | G51: 3.4574 | I51: 3.903 | K51: 3.8087 | M51: 3.5322 | O51: 4.6755 | Q51: 3.1487 | S51: 3.8541 | U51: 3.6592 | W51: 3.2856 | Y51: 4.165 | AB51: =SUM(C51:AA51) -> 44.9799
A52: №42 | B52: Павленко | C52: 4.8137 | E52: 4.7389 | G52: 4.3681 | I52: 4.8885 | K52: 419.3046 | M52: 604.6331 | O52: 1585.9916 | Q52: 615.7541 | R52: -4062 | S52: 965.6603 | T52: -965.66 | U52: 161.5868 | W52: 4.3228 | Y52: 7.3461 | AB52: =SUM(C52:AA52) -> -644.2514
A53: №43 | B53: Андреев | C53: 4147.1607 | D53: -4196.11 | E53: 30.6172 | F53: -3000 | G53: 1598.5341 | I53: 20.1655 | J53: -1629.15 | K53: 1774.3176 | M53: 867.4309 | N53: -2661.92 | O53: 1654.6286 | Q53: 1053.1348 | S53: 1938.2941 | U53: 1151.2988 | W53: 2001.6595 | X53: -5797.35 | Y53: 2338.6488 | Z53: -4340.31 | AB53: =SUM(C53:AA53) -> -3048.9494
A54: №44 | B54: Осипова О. | C54: 4.4982 | E54: 4.4982 | G54: 4.1274 | I54: 4.5535 | K54: 10.103 | M54: 469.0793 | O54: 1460.3105 | Q54: 1119.3334 | S54: 2557.0327 | U54: 1074.4734 | V54: -5136 | W54: 0 | Y54: 0 | AB54: =SUM(C54:AA54) -> 1572.0096
A55: №45 | B55: Сухова | C55: 0.7806 | E55: 0.5952 | G55: 0.6505 | I55: 0.5952 | K55: 0.6505 | M55: 76.7254 | O55: 345.2406 | Q55: 272.3447 | S55: 201.0034 | T55: -895.96 | U55: 0.6845 | W55: 0.6056 | Y55: 0.8005 | AB55: =SUM(C55:AA55) -> 4.7167
A56: №46 | B56: Макаренков | AB56: =SUM(C56:AA56) -> 0
A57: №47 | B57: Степанова | AB57: =SUM(C57:AA57) -> 0
A58: №48 | B58: Севастьянов | C58: 0 | E58: 0 | G58: 0 | I58: 0 | K58: 0 | M58: 0 | O58: 0 | Q58: 603.8152 | S58: 921.1134 | U58: 0 | W58: 0 | Y58: 0 | AB58: =SUM(C58:AA58) -> 1524.9286
A59: №49 | B59: Жаркова, Филим | C59: 44.3671 | E59: 78.6435 | G59: 38.5423 | I59: 45.0071 | K59: 71.6288 | M59: 37.596 | O59: 1103.3199 | Q59: 386.7513 | R59: -1103.32 | S59: 271.8394 | T59: =-386.75-3405.65 -> -3792.4 | U59: 515.5248 | W59: 221.5281 | Y59: 58.0505 | AB59: =SUM(C59:AA59) -> -2022.9212
A60: №50 | B60: Корчененкова | C60: 4.4787 | E60: 4.3128 | G60: 4.0331 | I60: 4.3681 | K60: 9.55 | M60: 543.343 | O60: 1093.5026 | Q60: 745.1447 | S60: 938.8846 | T60: -5000 | U60: 4.4017 | W60: 3.9121 | Y60: 5.0653 | AB60: =SUM(C60:AA60) -> -1639.0033
A61: №51А | B61: Солдатов А. | C61: 164.4106 | E61: 165.1164 | G61: 137.6295 | I61: 148.7366 | K61: 171.9421 | M61: 252.5716 | O61: 263.8436 | Q61: 191.4568 | S61: 167.2009 | U61: 250.4354 | W61: 21.8513 | Y61: 13.1795 | AB61: =SUM(C61:AA61) -> 1948.3743
A62: №51Б | B62: Солдатов С. | C62: 9.4973 | D62: -473.04 | E62: 9.4973 | G62: 8.6614 | H62: -27.66 | I62: 12.8153 | K62: 570.1961 | M62: 704.4812 | N62: =-583.02-704.48 -> -1287.5 | O62: 1132.5995 | Q62: 664.5312 | R62: -1132.6 | S62: 497.2773 | T62: -664.53 | U62: 363.7172 | W62: 8.8196 | X62: -861 | Y62: 10.9891 | Z62: -19.81 | AB62: =SUM(C62:AA62) -> -473.0575
A63: №52 | B63: Глот | C63: 0 | E63: 0 | G63: 0 | I63: 0 | K63: 1.0408 | M63: 4.573 | O63: 6.2812 | Q63: 4.4179 | S63: 5.36 | U63: 4.9702 | W63: 4.4968 | Y63: 5.7498 | AB63: =SUM(C63:AA63) -> 36.8897
A64: №53 | B64: Власова | AB64: =SUM(C64:AA64) -> 0
A65: №54 | B65: Кучер | C65: 761.6332 | E65: 3.2627 | G65: 202.3303 | I65: 211.0449 | K65: 579.571 | L65: -2677.05 | M65: 1219.4209 | O65: 570.7677 | Q65: 636.5419 | R65: -2000 | S65: 815.3048 | T65: -1631.14 | AB65: =SUM(C65:AA65) -> -1308.3126
A66: №55 | B66: Червяков | C66: 3.9225 | E66: 3.903 | G66: 3.568 | I66: 53.4713 | K66: 153.3626 | M66: 89.9901 | O66: 145.2793 | Q66: 152.6703 | S66: 266.5526 | T66: -1500 | U66: 119.7997 | W66: 40.3685 | Y66: 4.3019 | AB66: =SUM(C66:AA66) -> -462.8102
A67: №55Б | B67: Ромашина | C67: 342.3211 | E67: 4.573 | G67: 4.1632 | I67: 120.5548 | K67: 919.9565 | M67: 682.763 | O67: 1331.018 | Q67: 622.3753 | S67: 323.1741 | U67: 144.313 | W67: 3.9701 | Y67: 5.1604 | AB67: =SUM(C67:AA67) -> 4504.3425
A68: №56А | B68: Меньшова | C68: 0.8554 | E68: 0.9107 | G68: 0.7058 | I68: 0.8359 | K68: 0.8554 | M68: 0.7253 | O68: 1.0581 | Q68: 164.8164 | S68: 116.1571 | U68: 0.7634 | W68: 0.8214 | Y68: 0.9583 | AB68: =SUM(C68:AA68) -> 289.4632
A69: №56Б | B69: Кучер | C69: 24.5141 | E69: 24.4588 | G69: 22.0422 | I69: 24.4035 | K69: 27.562 | L69: -450 | M69: 43.2017 | O69: 0 | Q69: 315.5752 | S69: 395.4163 | T69: -1375.16 | U69: 301.61 | W69: 250.7009 | Y69: 0.0418 | AB69: =SUM(C69:AA69) -> -395.6335
A70: №57А | B70: Филатова | C70: 5.0186 | E70: 5.0381 | G70: 4.573 | I70: 5.0381 | K70: 5.204 | M70: 4.6478 | O70: 6.0654 | Q70: 8.8259 | S70: 5.1442 | U70: 4.8913 | W70: 97.9348 | Y70: 5.5131 | AB70: =SUM(C70:AA70) -> 157.8943
A71: №57Б | B71: Подлегаева | C71: 4.1632 | E71: 4.1827 | G71: 3.903 | I71: 4.3486 | K71: 4.4982 | M71: 20.236 | O71: 5.3809 | Q71: 15.7733 | S71: 4.5966 | U71: 5.3088 | W71: 3.8912 | Y71: 4.8495 | AB71: =SUM(C71:AA71) -> 81.132
A72: №58 | B72: Родин | C72: 0.5757 | E72: 0.2797 | G72: 1.301 | I72: 1.5807 | K72: 17.0024 | M72: 49.7248 | O72: 33.4878 | Q72: 68.4132 | R72: -105 | S72: 58.2554 | U72: 52.794 | W72: 6.9934 | Y72: 2.0535 | AB72: =SUM(C72:AA72) -> 187.4616
A73: №59 | B73: Большов | C73: 5.539 | E73: 5.5585 | G73: 5.1292 | I73: 6.8304 | K73: 169.7166 | M73: 18.4236 | O73: 44.8198 | Q73: 24.222 | S73: 18.1022 | U73: 31.1103 | W73: 4.9864 | Y73: 23.2334 | AB73: =SUM(C73:AA73) -> 357.6714
A74: №60А | B74: Костылева | C74: 1.4311 | E74: 1.5059 | G74: 1.1156 | I74: 1.3563 | K74: 8.3794 | M74: 317.3115 | N74: -1000 | O74: 650.0683 | Q74: 440.8656 | S74: 302.6236 | T74: -400 | U74: 3.283 | W74: 1.1741 | Y74: 1.485 | AB74: =SUM(C74:AA74) -> 330.5994
A75: №60Б | B75: Глебова | C75: 0 | E75: 0 | G75: 0 | I75: 0 | K75: 106.4572 | L75: -1000 | M75: 663.2058 | N75: -1000 | O75: 600.7596 | Q75: 352.9533 | R75: -1000 | S75: 773.6572 | T75: -1000 | U75: 0 | W75: 0 | Y75: 0 | AB75: =SUM(C75:AA75) -> -1502.9669
A76: №61 | B76: Парамонова | AB76: =SUM(C76:AA76) -> 0
A77: №61А | B77: Парамонова | AB77: =SUM(C77:AA77) -> 0
A78: №62 | B78: Голубятникова | C78: 1448.7546 | D78: -4527.22 | E78: 957.156 | G78: 711.3137 | H78: -4287.32 | I78: 697.1899 | K78: 1134.9765 | M78: 997.9832 | N78: -2186.83 | O78: 1336.6494 | Q78: 856.5757 | R78: -3331.11 | S78: 1074.9448 | U78: 1078.6672 | V78: -2453.21 | W78: 903.8458 | Y78: 965.5949 | Z78: -2205.25 | AB78: =SUM(C78:AA78) -> -6827.2883
A79: №62А | B79: Голубятникова | C79: 1166.4553 | E79: 1.932 | G79: 1.7076 | I79: 1.8767 | K79: 352.7869 | M79: 123.2426 | O79: 13.1388 | Q79: 3.5244 | S79: 12.4736 | U79: 287.1235 | W79: 333.0919 | Y79: 2.7171 | AB79: =SUM(C79:AA79) -> 2300.0704
A80: №63 | B80: Федюшкин | C80: 0.9107 | E80: 0.9302 | G80: 0.8554 | I80: 0.9107 | K80: 0.9302 | M80: 0.8001 | O80: 1.0372 | Q80: 0.7054 | S80: 0.9374 | U80: 0.8214 | W80: 0.7634 | Y80: 0.9003 | AB80: =SUM(C80:AA80) -> 10.5024
A81: №64 | B81: Савкина | AB81: =SUM(C81:AA81) -> 0
A82: №65 | B82: Буланова | C82: 3.607 | E82: 3.6428 | G82: 3.3273 | I82: 3.6623 | K82: 11.902 | M82: 17.7053 | O82: 35.7797 | Q82: 11.3638 | S82: 11.5472 | U82: 6.8863 | W82: 3.5176 | Y82: 4.165 | AB82: =SUM(C82:AA82) -> 117.1063
A83: №66 | B83: Кудрявцева | C83: 0 | E83: 0 | G83: 0 | I83: 0 | K83: 85.2173 | M83: 1177.6104 | N83: -1177.61 | O83: 3308.5213 | Q83: 1319.4891 | R83: =-3308.52-1319.49 -> -4628.01 | S83: 631.604 | U83: 45.646 | W83: 0 | Y83: 30.0793 | AB83: =SUM(C83:AA83) -> 792.5474
A84: №67 | B84: сторожка | C84: 0.1659 | E84: 0 | G84: 0.2212 | I84: 0.2212 | K84: 2.7487 | M84: 1172.9831 | O84: 5.0669 | Q84: 6.3638 | S84: 3.596 | U84: 1.102 | W84: 0.638 | Y84: 0.1949 | AB84: =SUM(C84:AA84) -> 1193.3017
A85: №68 | B85: Илюхина | AB85: =SUM(C85:AA85) -> 0
A86: №69 | B86: Кербер | C86: 0 | E86: 0 | G86: 0 | I86: 0 | K86: 406.1955 | M86: 294.2255 | O86: 561.7314 | Q86: 342.6141 | S86: 405.4443 | U86: 66.8817 | V86: -2900 | W86: 7.134 | Y86: 0 | AB86: =SUM(C86:AA86) -> -815.7735
A87: №70 | B87: Бибина | C87: 0 | E87: 0 | G87: 0 | I87: 0 | K87: 543.9216 | L87: -543.92 | M87: 1269.0596 | N87: -1269.06 | O87: 2790.5624 | P87: -2790.56 | Q87: 1091.1778 | S87: 2488.1624 | T87: -1091.18 | U87: 453.1773 | V87: -2488.16 | W87: 0 | X87: =-453.18-1425.3 -> -1878.48 | Y87: 0 | AB87: =SUM(C87:AA87) -> -1425.2989
A88: №71 | B88: Кондратьева | C88: 0 | E88: 0 | G88: 0 | I88: 0 | K88: 1.301 | M88: 14.1105 | O88: 7.4553 | Q88: 5.0444 | R88: -450 | S88: 171.5023 | U88: 113.7876 | W88: 5.36 | Y88: 6.7661 | AB88: =SUM(C88:AA88) -> -124.6728
A89: №72 | B89: Суздальцев | C89: 3.8477 | E89: 3.8282 | G89: 3.5127 | I89: 3.903 | K89: 10.0532 | M89: 10.5305 | O89: 58.3386 | Q89: 75.9345 | S89: 236.8596 | U89: 142.4235 | W89: 10.268 | Y89: 4.4759 | AB89: =SUM(C89:AA89) -> 563.9754
A90: №73 | B90: Меньшов | C90: 0 | E90: 0 | G90: 0 | I90: 0 | K90: 0.0195 | M90: 0.0553 | O90: 0.058 | Q90: 0 | S90: 0 | U90: 0.1369 | W90: 0 | Y90: 0.905 | AB90: =SUM(C90:AA90) -> 1.1747
A91: №74 | B91: Гаврилова | C91: 0 | E91: 0 | G91: 0 | I91: 0 | K91: 0 | M91: 54.6256 | O91: 0 | Q91: 0 | S91: 0 | U91: 1.16 | W91: 92.7923 | Y91: 0 | AB91: =SUM(C91:AA91) -> 148.5779
A92: №75 | B92: Астафьев | C92: 0 | E92: 0 | G92: 0 | I92: 0 | K92: 488.9209 | M92: 412.3832 | O92: 1207.9723 | Q92: 667.0066 | S92: 164.9661 | T92: -5000 | U92: 16.704 | W92: 0 | Y92: 0 | AB92: =SUM(C92:AA92) -> -2042.0469
A93: №76 | B93: Виленкина | C93: 5338.3267 | D93: -5338.33 | E93: 7127.2491 | G93: 5643.2358 | H93: -7127.25 | I93: 5470.9952 | J93: -5643.24 | K93: 5252.1207 | L93: =-5471-5252.12 -> -10723.12 | M93: 1832.3583 | N93: -1832.36 | O93: 963.9271 | P93: -963.93 | Q93: 1148.6156 | S93: 2092.3051 | T93: =-1148.62-2092.31 -> -3240.93 | U93: 7098.0724 | V93: =-2488-7098.07 -> -9586.07 | W93: 8741.6114 | X93: -8741.61 | Y93: 11438.916 | Z93: -11438.92 | AB93: =SUM(C93:AA93) -> -2488.0269
A94: №77 | B94: Озеров | C94: 0 | E94: 0 | G94: 0 | I94: 0 | K94: 9.401 | M94: 8.0738 | N94: -46.79 | O94: 20.822 | Q94: 8.584 | S94: 0 | U94: 1.45 | W94: 2.262 | Y94: 0 | AB94: =SUM(C94:AA94) -> 3.8028
A95: №78 | B95: Нестеренко | C95: 0 | E95: 0 | G95: 0 | I95: 0 | J95: -1450 | K95: 256.2571 | M95: 55.8581 | O95: 157.2929 | Q95: 145.3868 | S95: 203.0801 | U95: 2.204 | W95: 3.248 | Y95: 0 | AB95: =SUM(C95:AA95) -> -626.673
A96: №79 | B96: Ханина | C96: 5.8903 | E96: 5.874 | F96: -1116 | G96: 5.4642 | I96: 5.9846 | J96: -220 | K96: 12.4157 | M96: 13.8974 | O96: 217.3316 | Q96: 351.5855 | S96: 314.9966 | U96: 237.2362 | W96: 23.5651 | Y96: 7.286 | AB96: =SUM(C96:AA96) -> -134.4728
A97: №80 | B97: Рыжова | C97: 0 | E97: 0 | G97: 0 | I97: 0 | K97: 666.9736 | L97: -666.97 | M97: 534.2493 | N97: -534.25 | O97: 315.0707 | Q97: 282.9284 | S97: 352.9932 | T97: -950 | U97: 881.8292 | V97: -881.83 | W97: 88.0044 | Y97: 0 | Z97: -88 | AB97: =SUM(C97:AA97) -> 0.9988
A98: №81 | B98: Пономарева | AB98: =SUM(C98:AA98) -> 0
A99: №82 | B99: Кочергова | C99: 3.7534 | E99: 3.8835 | G99: 3.568 | I99: 3.9583 | K99: 1444.1154 | M99: 1533.6048 | N99: =-1362.87-1533.6 -> -2896.47 | O99: 1832.3506 | Q99: 1019.3892 | R99: -1832 | S99: 1452.0043 | T99: -2500 | U99: 301.306 | W99: 3.4805 | X99: -400 | Y99: 4.339 | AB99: =SUM(C99:AA99) -> -22.717
A100: №83 | B100: Коршунова | C100: 0 | E100: 0 | G100: 0 | I100: 0 | K100: 0 | M100: 0 | O100: 0 | Q100: 0 | S100: 0 | U100: 0 | W100: 0 | Y100: 0 | AB100: =SUM(C100:AA100) -> 0

Sheet 2016
A10: Участок | B10: ФИО | C10: 42370 | E10: 42401 | G10: 42430 | I10: 42461 | K10: 42491 | M10: 42522 | O10: 42552 | Q10: 42583 | S10: 42614 | U10: 42644 | W10: 42675 | Y10: 42705 | AB10: Итого
A11: №1 | B11: Рябцева | C11: 764.3694 | E11: 572.111 | F11: -764.37 | G11: 341.0866 | H11: =-572.11-341.09 -> -913.2 | I11: 297.1419 | K11: 2117.6395 | L11: -297.14 | M11: 2008.1721 | N11: =-2117.64-2008.17 -> -4125.81 | O11: 1917.36 | P11: -1917.36 | Q11: 1909.4313 | R11: -1909.43 | S11: 2957.8322 | T11: -995.62 | U11: 1271.5702 | W11: 351.364 | X11: -1271.57 | Y11: 616.8182 | AB11: =SUM(C11:AA11) -> 2930.3964
A12: №2 | B12: Антипов | C12: 119.843 | E12: 160.6607 | G12: 261.9023 | H12: -1000 | I12: 620.624 | K12: 890.9318 | M12: 1126.5716 | N12: -3000 | O12: 850.57 | Q12: 1117.7511 | S12: 1410.9804 | T12: -3400 | U12: 2175.7676 | W12: 450.0104 | Y12: 15.2188 | Z12: -2600 | AB12: =SUM(C12:AA12) -> -799.1683
A13: №3 | B13: Ханина | C13: 3.5578 | E13: 3.523 | G13: 3.3818 | I13: 3.523 | K13: 55.4731 | M13: 136.239 | N13: -123.29 | O13: 120 | Q13: 100.6813 | S13: 77.7431 | U13: 72.6075 | W13: 3.5875 | Y13: 3.4574 | AB13: =SUM(C13:AA13) -> 460.4845
A14: №5 | B14: Павлюк | AB14: =SUM(C14:AA14) -> 0
A15: №6 | B15: Бордюг | AB15: =SUM(C15:AA15) -> 0
A16: №7 | B16: Еропкин | C16: 0 | E16: 0 | G16: 0 | I16: 20.5203 | K16: 694.9489 | M16: 600.471 | O16: 418.31 | P16: -2000 | Q16: 705.4818 | S16: 495.1641 | U16: 262.1885 | W16: 16.6351 | Y16: 0 | AB16: =SUM(C16:AA16) -> 1213.7197
A17: №8 | B17: Шатилов | C17: 15.9057 | E17: 15.9405 | G17: 14.9372 | I17: 15.9763 | K17: 2546.338 | M17: 1192.5185 | N17: -4932.54 | O17: 1862.45 | Q17: 932.6324 | S17: 1017.9388 | U17: 1197.3181 | W17: 230.7571 | Y17: 16.5422 | AB17: =SUM(C17:AA17) -> 4126.7148
A18: №9 | B18: Ворнаков | C18: 4.1216 | E18: 4.1216 | G18: 3.8402 | I18: 4.1395 | K18: 4.0689 | M18: 179.9701 | O18: 18.34 | Q18: 57.3512 | S18: 4.3876 | U18: 3.903 | W18: 4.1079 | Y18: 3.9583 | AB18: =SUM(C18:AA18) -> 292.3099
A19: №10 | B19: Усова | C19: 3.5409 | E19: 3.4524 | G19: 3.171 | I19: 43.8733 | K19: 88.657 | M19: 198.8031 | O19: 342.43 | Q19: 390.1231 | R19: =-6.99-135.7-792.19-931.35 -> -1866.23 | S19: 187.2081 | U19: 47.3426 | W19: 34.0578 | Y19: 3.4021 | AB19: =SUM(C19:AA19) -> -520.1686
A20: №11 | B20: Щербачев | AB20: =SUM(C20:AA20) -> 0
A21: №12 | B21: Козлов | AB21: =SUM(C21:AA21) -> 0
A22: №13 | B22: Самсонов | C22: 263.6028 | E22: 350.4288 | F22: -614.03 | G22: 1338.8958 | I22: 504.2546 | K22: 711.9962 | L22: -1843.15 | M22: 418.7609 | N22: -1130.76 | O22: 433.45 | Q22: 1087.236 | R22: -1520.69 | S22: 707.3045 | U22: 1975.0354 | V22: -2682.34 | W22: 986.1899 | Y22: 377.7438 | Z22: -1363.93 | AB22: =SUM(C22:AA22) -> -0.0013
A23: №14 | B23: Корчагина | C23: 14.9551 | E23: 14.8666 | G23: 13.916 | I23: 25.688 | K23: 333.6808 | M23: 1196.5319 | O23: 1311.3 | P23: -1196.53 | Q23: 1571.1171 | R23: -3332.87 | S23: 2167.6265 | U23: 1616.6205 | W23: 22.9116 | Y23: 14.7793 | AB23: =SUM(C23:AA23) -> 3774.5934
A24: №15 | B24: Кречет | C24: 222.6758 | E24: 103.9245 | G24: 40.2306 | I24: 131.9724 | K24: 1934.4353 | M24: 2190.5908 | N24: =-2682.01-2190.59 -> -4872.6 | O24: 1467.1 | P24: -1467.1 | Q24: 1752.204 | R24: -1752.2 | S24: 2879.4405 | T24: -2879.44 | U24: 3391.3606 | V24: -3391.36 | W24: 195.2245 | Y24: 432.3565 | Z24: -627.58 | AB24: =SUM(C24:AA24) -> -248.7645
A25: №16 | B25: Назаров | AB25: =SUM(C25:AA25) -> 0
A26: №17 | B26: Розофарова | C26: 0 | E26: 0.2635 | G26: 0 | I26: 0 | K26: 0 | M26: 177.8566 | O26: 56.03 | Q26: 6.3944 | S26: 175.5621 | U26: 4.9601 | W26: 4.7031 | Y26: 4.5535 | AB26: =SUM(C26:AA26) -> 430.3233
A27: №18 | B27: Пухова | C27: 0 | E27: 0 | G27: 0 | I27: 0 | K27: 56.6826 | M27: 90.2328 | O27: 124.42 | P27: =-220-125 -> -345 | Q27: 177.2505 | R27: -130 | S27: 105.1374 | U27: 35.8009 | W27: 9.7328 | Y27: 0 | AB27: =SUM(C27:AA27) -> 124.257
A28: №19 | B28: Ермилина | C28: 0 | E28: 0 | G28: 0 | I28: 0 | K28: 65.1307 | M28: 206.3649 | O28: 295.14 | Q28: 291.6511 | S28: 243.6349 | T28: -247.02 | U28: 23.8712 | W28: 0 | Y28: 0 | AB28: =SUM(C28:AA28) -> 878.7728
A29: №20 | B29: Артюхова | C29: 0 | E29: 0 | G29: 0 | I29: 0 | K29: 471.0552 | L29: -471.06 | M29: 898.4294 | N29: -898.43 | O29: 1011.58 | P29: -1011.58 | Q29: 1038.0404 | R29: -1824.29 | S29: 786.2465 | U29: 343.6885 | V29: -343.69 | W29: 0 | Y29: 0 | AB29: =SUM(C29:AA29) -> -0.01
A30: №21 | B30: Виноградов | AB30: =SUM(C30:AA30) -> 0
A31: №22 | B31: Волчкова | C31: 2.6072 | E31: 2.5366 | G31: 2.3079 | I31: 106.4258 | K31: 1027.5962 | M31: 2096.1798 | N31: =-3458.97-2100 -> -5558.97 | O31: 1486.38 | Q31: 1991.0916 | R31: -3050 | S31: 2135.4746 | U31: 1755.4378 | V31: -2135 | W31: 154.4596 | Y31: 2.4361 | AB31: =SUM(C31:AA31) -> 18.9632
A32: №23 | B32: Горбунов | C32: 13.0519 | E32: 13.1046 | F32: =-13.05-13.1 -> -26.15 | G32: 12.506 | H32: -12.51 | I32: 16.7767 | K32: 613.0858 | L32: =-16.78-613.09 -> -629.87 | M32: 1228.8658 | N32: -1228.87 | O32: 1637.53 | P32: -1637.53 | Q32: 1059.9436 | R32: -1059.94 | S32: 1179.2999 | T32: -1179.3 | U32: 736.3398 | V32: -736.34 | W32: 49.5144 | X32: -49.51 | Y32: 13.8232 | AB32: =SUM(C32:AA32) -> 13.8217
A33: №24 | B33: Мартанова | C33: 4.5651 | E33: 262.2358 | G33: 4.051 | I33: 4.3682 | K33: 243.1195 | M33: 2480.0015 | N33: -7300 | O33: 1162.76 | Q33: 1281.0574 | S33: 463.8271 | T33: -8600 | U33: 187.561 | W33: 4.3681 | Y33: 4.238 | AB33: =SUM(C33:AA33) -> -9797.8473
A34: №25 | B34: Садовникова | C34: 3.8223 | E34: 3.875 | F34: -600 | G34: 3.5757 | I34: 3.8929 | K34: 27.3984 | M34: 113.3779 | O34: 357.22 | Q34: 271.8224 | S34: 502.1659 | U34: 12.8604 | W34: 3.8672 | Y34: 3.7729 | AB34: =SUM(C34:AA34) -> 707.651
A35: №26 | B35: Колотушкина | C35: 0 | E35: 0 | F35: -813.99 | G35: 0 | I35: 3.3201 | K35: 10.6454 | M35: 485.5337 | N35: -499.5 | O35: 544.18 | P35: -544.18 | Q35: 659.6112 | S35: 902.1544 | U35: 541.4812 | V35: -2103.24 | W35: 0 | Y35: 0 | AB35: =SUM(C35:AA35) -> -813.984
A36: №26Б | B36: Андреева | C36: 0 | E36: 0 | F36: -461.29 | G36: 0 | I36: 0 | K36: 0 | M36: 0 | O36: 360.82 | Q36: 329.6304 | S36: 33.7562 | U36: 0 | W36: 0 | Y36: 0 | AB36: =SUM(C36:AA36) -> 262.9166
A37: №27 | B37: Рассказихин | C37: 4.0689 | E37: 3.9983 | G37: 3.7696 | I37: 4.0341 | K37: 55.3345 | M37: 301.4563 | O37: 426.42 | P37: -1570 | Q37: 524.8056 | S37: 349.3077 | U37: 4.0331 | W37: 37.4616 | Y37: 161.2518 | AB37: =SUM(C37:AA37) -> 305.9415
A38: №28 | B38: Хруцкая | C38: 0 | E38: 0 | G38: 0 | I38: 0 | K38: 0 | M38: 121.0172 | N38: -700 | O38: 113.91 | Q38: 4.4071 | S38: 4.7226 | U38: 209.7224 | W38: 4.5177 | Y38: 1.4311 | AB38: =SUM(C38:AA38) -> -240.2719
A39: №29 | B39: Сахаров | C39: 0 | E39: 0.0527 | G39: 0.0527 | I39: 0 | K39: 16.7059 | M39: 28.1399 | O39: 90.28 | Q39: 104.3023 | S39: 19.1524 | U39: 26.1569 | W39: 0 | Y39: 0 | AB39: =SUM(C39:AA39) -> 284.8428
A40: №30 | B40: Засыпкина | C40: 0 | E40: 0 | G40: 0 | I40: 0 | K40: 962.6431 | M40: 1107.5057 | N40: =-575.26-962.64-1107.51 -> -2645.41 | O40: 842.65 | P40: -842.65 | Q40: 1013.1141 | S40: 1933.9911 | T40: -2947.1 | U40: 652.5746 | W40: 0 | Y40: 0 | AB40: =SUM(C40:AA40) -> 77.3186
A41: №31А | B41: Сизых | AB41: =SUM(C41:AA41) -> 0
A42: №31Б | B42: Акмеева | C42: 6.4603 | E42: 7.918 | G42: 4.5273 | I42: 99.3806 | K42: 253.8845 | M42: 514.061 | N42: -4450 | O42: 443.54 | Q42: 388.4593 | S42: 666.097 | U42: 671.4731 | W42: 8.9254 | Y42: 4.7031 | AB42: =SUM(C42:AA42) -> -1380.5704
A43: №32 | B43: Горюшкин | C43: 11.097 | E43: 11.1676 | G43: 10.3751 | I43: 11.2909 | K43: 301.5855 | L43: =-24.57-345.55 -> -370.12 | M43: 1241.622 | N43: -1241.63 | O43: 1593 | P43: -1593 | Q43: 1674.0544 | R43: -1674.05 | S43: 1526.0923 | T43: -1526.09 | U43: 1363.5563 | V43: -1363.56 | W43: 42.5111 | Y43: 10.9316 | Z43: -53.46 | AB43: =SUM(C43:AA43) -> -24.6262
A44: №33 | B44: Житенев | AB44: =SUM(C44:AA44) -> 0
A45: №34 | B45: Корчененков | C45: 17942.707 | E45: 6921.5739 | F45: -17942.71 | G45: 6948.8603 | H45: =-6921.57-6948.86 -> -13870.43 | I45: 3924.6829 | J45: -3924.68 | K45: 3365.6231 | L45: -3365.62 | M45: 3678.5602 | N45: -3678.56 | O45: 2521.36 | P45: -2521.36 | Q45: 2607.2208 | S45: 5983.28 | T45: =-2607.22-5983.28 -> -8590.5 | U45: 4735.404 | V45: -4735.4 | W45: 11779.408 | X45: -11779.41 | Y45: 8579.9054 | AB45: =SUM(C45:AA45) -> 8579.9159
A46: №35 | B46: Осипова, Яковл. | C46: 4.3861 | E46: 4.4209 | G46: 4.1216 | I46: 4.404 | K46: 5.1587 | M46: 716.812 | O46: 589.04 | P46: -2000 | Q46: 161.8972 | S46: 98.8123 | U46: 9.4653 | W46: 4.4234 | Y46: 4.2933 | AB46: =SUM(C46:AA46) -> -392.7652
A47: №36 | B47: Осипова О. | C47: 0 | E47: 0 | G47: 0 | I47: 0 | K47: 0 | M47: 5.2024 | O47: 33.7 | P47: -500 | Q47: 11.9107 | S47: 15.5131 | U47: 0 | W47: 0 | Y47: 0 | AB47: =SUM(C47:AA47) -> -433.6738
A48: №37 | B48: Бирюкова | C48: 3124.6948 | D48: -3130 | E48: 2590.8013 | F48: -2600 | G48: 17734.235 | H48: -17740 | I48: 24371.117 | J48: -24400 | K48: 6149.367 | L48: -6150 | M48: 5158.8755 | N48: -5160 | O48: 3677.33 | P48: -3680 | Q48: 4485.0385 | R48: -4490 | S48: 6307.6904 | T48: -6308 | U48: 9344.4985 | V48: -9345 | W48: 34073.534 | X48: -35000 | Y48: 14538.614 | Z48: -14550 | AB48: =SUM(C48:AA48) -> -997.2043
A49: №39 | B49: Хорошева | C49: 12.9286 | E49: 12.9992 | G49: 12.0486 | I49: 12.9644 | K49: 254.0252 | L49: -63 | M49: 383.1477 | N49: =-254.3-1000 -> -1254.3 | O49: 634.89 | Q49: 546.7346 | S49: 758.5362 | T49: -758.54 | U49: 606.5649 | V49: =-793.33-800 -> -1593.33 | W49: 13.3092 | Y49: 12.8441 | AB49: =SUM(C49:AA49) -> -408.1773
A50: №40 | B50: Кожухова | C50: 0 | E50: 0 | G50: 0 | I50: 0 | K50: 0.6324 | M50: 0 | O50: 41 | Q50: 0 | S50: 0 | U50: 0 | W50: 0 | Y50: 0 | AB50: =SUM(C50:AA50) -> 41.6324
A51: №41 | B51: Сахарова | C51: 3.5051 | E51: 3.6811 | G51: 3.4524 | I51: 3.5936 | K51: 3.3997 | M51: 3.5588 | O51: 3.55 | Q51: 3.8119 | S51: 3.8672 | U51: 3.4574 | W51: 3.4574 | Y51: 3.4574 | AB51: =SUM(C51:AA51) -> 42.792
A52: №42 | B52: Павленко | C52: 4.5094 | E52: 4.58 | G52: 4.2449 | I52: 8.0055 | K52: 763.0675 | M52: 1234.6192 | O52: 935.2 | P52: -4158 | Q52: 1100.8154 | R52: -1100.82 | S52: 803.5017 | U52: 4.4429 | W52: 4.573 | Y52: 4.4429 | AB52: =SUM(C52:AA52) -> -386.8176
A53: №43 | B53: Андреев | C53: 60.4104 | D53: -2766.54 | E53: 1819.6331 | G53: 98.597 | H53: -1978.64 | I53: 2908.1021 | K53: 1692.6933 | L53: -4600.79 | M53: 1757.6403 | O53: 1327.14 | P53: -3084.78 | Q53: 1402.6075 | S53: 2414.0628 | T53: -3816.67 | U53: 3208.1896 | W53: 37.7509 | X53: -3245.94 | Y53: 48.9541 | AB53: =SUM(C53:AA53) -> -2717.5789
A54: №44 | B54: Осипова О. | C54: 4.3861 | E54: 4.3155 | G54: 4.0162 | I54: 4.3334 | K54: 4.0868 | M54: 30.9939 | O54: 162.22 | P54: -2000 | Q54: 650.17 | S54: 2419.2666 | U54: 1351.7261 | W54: 4.3323 | Y54: 4.2022 | AB54: =SUM(C54:AA54) -> 2644.0491
A55: №45 | B55: Александрова | C55: 0.6165 | E55: 0.5638 | G55: 0.5459 | I55: 0.5638 | K55: 9.0704 | M55: 73.2884 | O55: 286.33 | P55: -368.69 | Q55: 321.4766 | S55: 205.7948 | T55: =-107.72-527.27 -> -634.99 | U55: 0.7058 | W55: 0.631 | Y55: 0.5952 | AB55: =SUM(C55:AA55) -> -103.4978
A56: №46 | B56: Макаренков | AB56: =SUM(C56:AA56) -> 0
A57: №47 | B57: Степанова | C57: 0 | E57: 0 | G57: 0 | I57: 15.147 | K57: 725.8278 | L57: -415.2 | M57: 1330.11 | N57: -381.51 | O57: 1349.84 | P57: -1349.84 | AB57: =SUM(C57:AA57) -> 1274.3748
A58: №48 | B58: Севастьянов | C58: 0 | E58: 0 | G58: 0 | I58: 0 | K58: 1.6864 | M58: 11.0143 | O58: 948.66 | P58: -959.67 | Q58: 1004.91 | R58: -1113 | S58: 459.8124 | T58: -1600 | U58: 0 | W58: 0 | Y58: 0 | AB58: =SUM(C58:AA58) -> -1246.5869
A59: №49 | B59: Жаркова, Филим | C59: 26.9071 | E59: 8.1964 | G59: 5.1567 | I59: 17.8932 | K59: 388.5634 | M59: 1123.2368 | O59: 742.37 | Q59: 1037.9579 | S59: 1134.82 | T59: -3075.47 | U59: 444.9173 | W59: 90.4912 | Y59: 106.2632 | AB59: =SUM(C59:AA59) -> 2051.3032
A60: №50 | B60: Корчененкова | C60: 4.1922 | E60: 4.1922 | G60: 3.8929 | I60: 4.8783 | K60: 283.5431 | M60: 631.9433 | O60: 1035.07 | Q60: 1058.2681 | R60: -3100 | S60: 710.2733 | U60: 17.2693 | W60: 4.238 | Y60: 4.0526 | Z60: -750 | AB60: =SUM(C60:AA60) -> -88.1867
A61: №51А | B61: Солдатов А. | C61: 152.3799 | E61: 146.0031 | G61: 130.7706 | I61: 135.455 | K61: 252.3597 | M61: 187.2887 | N61: -600 | O61: 376.09 | Q61: 462.0288 | S61: 299.4315 | U61: 366.4041 | W61: 213.6695 | X61: -8000 | Y61: 155.349 | AB61: =SUM(C61:AA61) -> -5722.7701
A62: №51Б | B62: Солдатов С. | C62: 9.0715 | E62: 9.0884 | F62: -17.82 | G62: 8.455 | I62: 76.6856 | J62: =-26.62-76.69 -> -103.31 | K62: 588.0398 | L62: -588.04 | M62: 651.8091 | O62: 699.04 | P62: -651.81 | Q62: 631.3021 | R62: -1330.34 | S62: 934.7616 | T62: -934.76 | U62: 454.4745 | W62: 9.4615 | Y62: 9.107 | AB62: =SUM(C62:AA62) -> 455.2161
A63: №52 | B63: Глот | C63: 0 | E63: 0 | G63: 0 | I63: 0 | K63: 0 | M63: 0 | O63: - р. | Q63: 0 | S63: 0 | U63: 0 | W63: 0 | Y63: 0 | AB63: =SUM(C63:AA63) -> 0
A64: №53 | B64: Власова | AB64: =SUM(C64:AA64) -> 0
A65: №54 | B65: Кучер | C65: 324.6847 | E65: 304.8695 | G65: 50.9082 | I65: 43.1086 | K65: 57.0741 | M65: 218.3361 | N65: -1800 | O65: 79.03 | Q65: 46.7838 | S65: 115.8663 | U65: 109.776 | W65: 478.6508 | Y65: 393.2998 | AB65: =SUM(C65:AA65) -> 422.3879
A66: №55 | B66: Яхонтова | C66: 3.7696 | E66: 3.6463 | G66: 3.4524 | I66: 3.7696 | K66: 3.6463 | M66: 42.9976 | O66: 126.53 | Q66: 157.5082 | S66: 80.0038 | U66: 29.9298 | W66: 23.258 | Y66: 3.6428 | AB66: =SUM(C66:AA66) -> 482.1544
A67: №55Б | B67: Ромашина | C67: 4.3861 | E67: 4.5263 | G67: 3.9635 | I67: 254.7059 | K67: 546.5982 | M67: 517.309 | O67: 430.53 | Q67: 694.6105 | S67: 364.2616 | T67: -8390 | U67: 4.0884 | W67: 157.8537 | Y67: 4.3128 | AB67: =SUM(C67:AA67) -> -5402.854
A68: №56А | B68: Меньшова | C68: 0.8452 | E68: 0.8104 | G68: 0.6692 | I68: 0.7577 | K68: 0.7398 | M68: 14.6795 | O68: 73.37 | Q68: 141.6899 | R68: -1403.8 | S68: 27.5073 | U68: 0.7253 | W68: 1.0571 | Y68: 0.7806 | AB68: =SUM(C68:AA68) -> -1140.168
A69: №56Б | B69: Кучер | C69: 0 | E69: 0 | G69: 0 | I69: 19.6671 | K69: 270.7446 | M69: 588.7912 | N69: -2000 | O69: 327.35 | Q69: 423.3425 | S69: 123.8132 | U69: 65.7702 | W69: 29.0324 | Y69: 23.457 | AB69: =SUM(C69:AA69) -> -128.0318
A70: №57А | B70: Филатова | C70: 4.7381 | E70: 4.756 | G70: 4.4567 | I70: 4.7739 | K70: 127.6872 | M70: 5.1428 | O70: 8.8 | Q70: 4.8169 | S70: 4.9828 | U70: 4.5177 | V70: -1000 | W70: 101.5529 | Y70: 4.5925 | AB70: =SUM(C70:AA70) -> -719.1825
A71: №57Б | B71: Подлегаева | C71: 3.9983 | E71: 3.9635 | G71: 3.7696 | I71: 4.0689 | K71: 8.97 | M71: 6.4235 | O71: 4.13 | Q71: 9.3093 | S71: 38.9692 | T71: -200 | U71: 3.9778 | W71: 4.0721 | Y71: 3.903 | AB71: =SUM(C71:AA71) -> -104.4448
A72: №58 | B72: Родин | C72: 1.0391 | E72: 1.5502 | G72: 1.3921 | I72: 1.234 | K72: 44.6882 | M72: 68.7391 | N72: -480.5 | O72: 99.16 | P72: -115 | Q72: 80.8435 | S72: 59.7236 | U72: 45.9186 | V72: -330 | W72: 9.7974 | Y72: 0.335 | AB72: =SUM(C72:AA72) -> -511.0792
A73: №59 | B73: Большов | C73: 7.6415 | E73: 0 | G73: 0 | I73: 0 | K73: 24.1247 | M73: 35.7158 | O73: 24.95 | Q73: 23.1922 | S73: 27.8013 | U73: 8.4309 | W73: 5.3731 | Y73: 5.2235 | AB73: =SUM(C73:AA73) -> 162.453
A74: №60А | B74: Костылева | C74: 1.3563 | E74: 1.409 | G74: 1.1982 | I74: 1.233 | K74: 133.4507 | M74: 370.1785 | O74: 440.58 | Q74: 477.9521 | S74: 358.7615 | U74: 2.3322 | W74: 1.1709 | Y74: 1.2457 | AB74: =SUM(C74:AA74) -> 1790.8681
A75: №60Б | B75: Глебова | C75: 0 | E75: 0 | G75: 0 | I75: 0 | K75: 302.7767 | L75: -570 | M75: 701.6907 | N75: -702 | O75: 422.55 | P75: -425 | Q75: 467.7026 | R75: -1000 | S75: 489.4171 | U75: 7.6867 | W75: 0 | Y75: 0 | AB75: =SUM(C75:AA75) -> -305.1762
A76: №61 | B76: Парамонова | AB76: =SUM(C76:AA76) -> 0
A77: №61А | B77: Парамонова | AB77: =SUM(C77:AA77) -> 0
A78: №62 | B78: Голубятникова | C78: 1917.7944 | D78: -1123.29 | E78: 907.2649 | F78: -4377.95 | G78: 833.4975 | I78: 764.2507 | K78: 861.5942 | L78: -2806.51 | M78: 925.2316 | O78: 1388.2 | Q78: 1452.3378 | S78: 1106.8204 | U78: 986.6256 | W78: 863.8428 | Y78: 789.5752 | AB78: =SUM(C78:AA78) -> 4489.2851
A79: №62А | B79: Голубятникова | C79: 1549.4068 | E79: 3.4842 | G79: 167.1945 | I79: 2.9244 | K79: 177.0449 | M79: 72.5041 | O79: 19.55 | Q79: 293.7901 | R79: -4151.62 | S79: 202.2833 | U79: 309.4049 | W79: 262.9202 | Y79: 5.764 | AB79: =SUM(C79:AA79) -> -1085.3486
A80: №63 | B80: Федюшкин | C80: 0.8631 | E80: 0.8631 | G80: 0.8631 | I80: 0.881 | K80: 0.8631 | M80: 39.4835 | O80: 5.98 | Q80: 0.8001 | S80: 0.8554 | U80: 0.8359 | V80: -600 | W80: 0.8001 | Y80: 0.8001 | AB80: =SUM(C80:AA80) -> -546.1115
A81: №64 | B81: Савкина | AB81: =SUM(C81:AA81) -> 0
A82: №65 | B82: Буланова | C82: 3.4703 | E82: 3.4524 | G82: 3.2058 | I82: 3.4176 | K82: 6.4911 | M82: 366.6065 | N82: -397.83 | O82: 412.74 | Q82: 573.2999 | R82: -415 | S82: 382.5692 | T82: -1000 | U82: 3.4574 | W82: 3.4769 | Y82: 3.4574 | AB82: =SUM(C82:AA82) -> -47.1855
A83: №66 | B83: Кудрявцева | C83: 0 | E83: 0 | G83: 0 | I83: 0 | K83: 112.4289 | M83: 1597.1984 | O83: 902.2 | P83: -2917.02 | Q83: 1310.2759 | R83: -902.2 | S83: 572.3651 | T83: -1310.28 | U83: 183.4021 | W83: 124.5909 | Y83: 0 | AB83: =SUM(C83:AA83) -> -327.0387
A84: №67 | B84: сторожка | C84: 0.2108 | E84: 0.3162 | G84: 0.4216 | I84: 0.2635 | K84: 2.9512 | M84: 4.3393 | O84: 7.43 | Q84: 52.5637 | S84: 20.9068 | U84: 538.2501 | W84: 0.4977 | Y84: 0.0553 | AB84: =SUM(C84:AA84) -> 628.2062
A85: №68 | B85: Илюхина | AB85: =SUM(C85:AA85) -> 0
A86: №69 | B86: Кербер | C86: 0 | E86: 0 | G86: 0 | I86: 53.4288 | K86: 471.7969 | M86: 391.6373 | O86: 488.32 | Q86: 297.8843 | S86: 0 | U86: 51.0419 | W86: 36.5533 | Y86: 0 | AB86: =SUM(C86:AA86) -> 1790.6625
A87: №70 | B87: Бибина | C87: 0 | E87: 0 | G87: 0 | I87: 0 | K87: 1452.6068 | M87: 887.7815 | N87: =-282.36-1452.61-887.78 -> -2622.75 | O87: 1266.22 | Q87: 1551.3742 | R87: =-1266.22-1551.37 -> -2817.59 | S87: 869.8519 | T87: -869.85 | U87: 51.0419 | W87: 31.521 | Y87: 0 | AB87: =SUM(C87:AA87) -> -199.7927
A88: №71 | B88: Кондратьева | C88: 0 | E88: 0 | G88: 0 | I88: 0 | K88: 133.796 | M88: 149.1188 | N88: -490 | O88: 104.94 | Q88: 518.4394 | S88: 1222.516 | U88: 1026.7236 | V88: -3000 | W88: 0 | Y88: 0 | AB88: =SUM(C88:AA88) -> -334.4662
A89: №72 | B89: Суздальцев | C89: 3.6284 | E89: 3.6463 | G89: 3.4345 | I89: 3.6115 | K89: 3.6811 | M89: 3.4882 | N89: -1882.18 | O89: 3.55 | Q89: 3.9225 | S89: 12.5312 | U89: 17.631 | W89: 3.7176 | Y89: 3.6981 | AB89: =SUM(C89:AA89) -> -1815.6396
A90: №73 | B90: Меньшов | C90: 0 | E90: 0 | G90: 0 | I90: 0 | K90: 0 | M90: 0 | O90: - р. | Q90: 0 | S90: 0 | U90: 0 | W90: 0 | Y90: 0 | AB90: =SUM(C90:AA90) -> 0
A91: №74 | B91: Гаврилова | C91: 0 | E91: 0 | G91: 0 | I91: 0 | K91: 350.3408 | M91: 414.4862 | O91: 214.74 | P91: -6500 | Q91: 197.8309 | S91: 611.0295 | U91: 988.8638 | W91: 0 | Y91: 0 | AB91: =SUM(C91:AA91) -> -3722.7088
A92: №75 | B92: Астафьев | C92: 0 | E92: 0 | G92: 0 | I92: 170.2977 | K92: 679.3108 | M92: 784.8036 | O92: 513.23 | Q92: 313.638 | S92: 109.8806 | U92: 161.9855 | W92: 0 | Y92: 0 | AB92: =SUM(C92:AA92) -> 2733.1462
A93: №76 | B93: Виленкина | C93: 1899.7317 | D93: =-332.98-1899.73 -> -2232.71 | E93: 6194.6018 | F93: -6194.6 | G93: 7470.7056 | I93: 4967.3326 | J93: -7470.71 | K93: 3009.5982 | L93: -4967.33 | M93: 2532.7179 | N93: =-3009.6-2532.72 -> -5542.32 | O93: 1687.57 | P93: -3300 | Q93: 1967.1074 | R93: -3655 | S93: 3815.0509 | T93: -3159.72 | U93: 5136.0524 | W93: 8702.6141 | X93: -8702.61 | Y93: 9148.1329 | Z93: -9148.13 | AB93: =SUM(C93:AA93) -> 2158.0855
A94: №77 | B94: Озеров | C94: 0 | E94: 0 | G94: 0 | I94: 0 | K94: 7.1145 | M94: 8.5901 | O94: 3.21 | Q94: 2.212 | S94: 0 | U94: 0 | W94: 0 | Y94: 0 | AB94: =SUM(C94:AA94) -> 21.1266
A95: №78 | B95: Нестеренко | C95: 0 | D95: -900 | E95: 0 | G95: 0 | I95: 0 | K95: 147.7747 | M95: 150.7673 | O95: 188.36 | Q95: 202.6882 | S95: 141.4831 | U95: 112.5617 | W95: 4.3393 | Y95: 0 | AB95: =SUM(C95:AA95) -> 47.9743
A96: №79 | B96: Ханина | C96: 127.176 | E96: 125.6775 | G96: 118.3511 | I96: 126.7216 | K96: 195.6166 | M96: 199.7702 | N96: -1220 | O96: 279.4 | Q96: 210.9948 | S96: 425.5348 | U96: 179.9232 | W96: 17.0917 | Y96: 5.4837 | AB96: =SUM(C96:AA96) -> 791.7412
A97: №80 | B97: Рыжова | C97: 2.1806 | E97: 0 | G97: 0 | I97: 0 | K97: 338.9361 | M97: 278.7243 | N97: =-342.78-278.72 -> -621.5 | O97: 462.86 | P97: -462.86 | Q97: 124.4722 | R97: -124.47 | S97: 657.183 | U97: 242.5688 | V97: -899.75 | W97: 119.0064 | Y97: 0 | Z97: -119.01 | AB97: =SUM(C97:AA97) -> -1.6586
A98: №81 | B98: Пономарева | AB98: =SUM(C98:AA98) -> 0
A99: №82 | B99: Кочергова | C99: 3.699 | D99: -241.5 | E99: 3.6811 | G99: 3.4524 | I99: 3.699 | K99: 665.8649 | M99: 1220.3057 | N99: =-680.38-1220.31 -> -1900.69 | O99: 1063.83 | P99: -1063.83 | Q99: 1260.7693 | R99: -1260.77 | S99: 1434.7332 | T99: -1434.73 | U99: 4.5081 | W99: 25.0372 | X99: -129.92 | Y99: 3.5875 | AB99: =SUM(C99:AA99) -> -338.2726
A100: №83 | B100: Коршунова | C100: 0 | E100: 0 | G100: 0 | I100: 0 | K100: 0 | M100: 0 | O100: - р. | Q100: 0 | S100: 0 | U100: 0 | W100: 0 | Y100: 0 | AB100: =SUM(C100:AA100) -> 0

Sheet 2015
A10: Участок | B10: ФИО | C10: 41791 | D10: 42005 | F10: 42036 | H10: 42064 | J10: 42095 | L10: 42125 | N10: 42156 | P10: 42186 | R10: 42217 | T10: 42248 | V10: 42278 | X10: 42309 | Z10: 42339 | AC10: Итого
A11: №1 | B11: Рябцева | C11: 951 | D11: 796.82 | F11: 490.31 | G11: -796.82 | H11: 199.01 | I11: -490.31 | J11: 216.76 | K11: -199.01 | L11: 397.77 | M11: -216.76 | N11: 1437.51 | O11: =-397.77-951-1437.51 -> -2786.28 | P11: 2010.57 | R11: 2015.56 | S11: =-1238.73-771.84-2015.56 -> -4026.13 | T11: 3492.1972 | U11: -3492.2 | V11: 2632.0892 | W11: -2632.09 | X11: 324.2488 | Y11: -324.25 | Z11: 364.0124 | AA11: -364.01 | AC11: =SUM(C11:AB11) -> -0.0024
A12: №2 | B12: Антипов | D12: 212.9 | F12: 148.12 | G12: -430 | H12: 254.87 | J12: 139.34 | K12: -400 | L12: 672.97 | N12: 533.13 | P12: 620.14 | R12: 1056.7 | S12: -3000 | T12: 1188.9779 | V12: 1334.9379 | W12: -2500 | X12: 490.9647 | Z12: 283.4732 | AC12: =SUM(C12:AB12) -> 606.5237
A13: №3 | B13: Ханина | C13: 17 | D13: 3.32 | F13: 3.32 | H13: 2.98 | J13: 3.3 | L13: 56.53 | N13: 77.02 | O13: -245.19 | P13: 16.88 | Q13: -7977.04 | R13: 415.22 | S13: -510 | T13: 42.4697 | V13: 4.2956 | X13: 3.6284 | Z13: 3.4524 | AC13: =SUM(C13:AB13) -> -8082.8139
A14: №5 | B14: Павлюк | AC14: =SUM(C14:AB14) -> 0
A15: №6 | B15: Бордюг | D15: 3238.49 | E15: -3238.49 | F15: 3307.36 | G15: -3307.36 | H15: 2347.4 | I15: -2347.4 | J15: 2136.56 | K15: -2136.56 | L15: 2338.89 | M15: -2338.89 | N15: 602.64 | O15: -602.64 | P15: 843.51 | Q15: -843.51 | R15: 1358.86 | S15: -1358.86 | T15: 1382.719 | U15: -1382.72 | V15: 1757.971 | W15: -1757.97 | AC15: =SUM(C15:AB15) -> -2.2737368e-12
A16: №7 | B16: Еропкин | D16: - р. | F16: - р. | H16: - р. | J16: 1.44 | L16: 1056.18 | N16: 612.72 | P16: 564.63 | Q16: -3000 | R16: 544.93 | T16: 830.2447 | V16: 326.998 | X16: 0 | Y16: -2000 | Z16: 0 | AC16: =SUM(C16:AB16) -> -1062.8573
A17: №8 | B17: Шатилов | D17: 16.38 | F17: 14.59 | H17: 13.29 | J17: 1055.2 | L17: 2519.89 | N17: 343.19 | P17: 826.03 | R17: 954.53 | S17: -2123.75 | T17: 685.6322 | V17: 391.8471 | X17: 1284.2772 | Z17: 15.7118 | AC17: =SUM(C17:AB17) -> 5996.8183
A18: №9 | B18: Ворнаков | D18: 3.81 | F18: 3.76 | H18: 3.36 | J18: 3.76 | L18: 38.52 | N18: 45.88 | P18: 9.25 | Q18: -1500 | R18: 62.51 | T18: 7.6008 | V18: 7.0728 | X18: 8.1268 | Z18: 4.4199 | AC18: =SUM(C18:AB18) -> -1301.9297
A19: №10 | B19: Усова | D19: 3.04 | F19: 3.07 | H19: 2.82 | J19: 12.24 | L19: 108.77 | N19: 135.69 | P19: 269.61 | R19: 327.19 | T19: 509.187 | V19: 162.1541 | X19: 106.9552 | Z19: 13.887 | AA19: -841.26 | AC19: =SUM(C19:AB19) -> 813.3533
A20: №11 | B20: Щербачев | AC20: =SUM(C20:AB20) -> 0
A21: №12 | B21: Козлов | AC21: =SUM(C21:AB21) -> 0
A22: №13 | B22: Самсонов | D22: 1021.11 | E22: -2885.92 | F22: 368.42 | H22: 161.52 | I22: -1389.53 | J22: 95.91 | K22: -257.43 | L22: 629.86 | N22: 587.36 | P22: 875.84 | Q22: -1217.22 | R22: 772.2 | S22: -1648.04 | T22: 1109.4119 | V22: 684.2048 | W22: -1793.61 | X22: 1108.3247 | Z22: 943.6346 | AA22: -2051.95 | AC22: =SUM(C22:AB22) -> -2885.904
A23: №14 | B23: Корчагина | D23: 13.48 | F23: 13.53 | H23: 12.28 | J23: 15.61 | L23: 459.83 | N23: 1175.18 | O23: -459.83 | P23: 1613.21 | Q23: -1548.87 | R23: 1651.26 | S23: -1651.26 | T23: 1823.0552 | V23: 421.9679 | X23: 32.8204 | Y23: -3858.24 | Z23: 14.5146 | AC23: =SUM(C23:AB23) -> -271.4619
A24: №15 | B24: Кречет | D24: 315.7 | F24: 29.12 | G24: -315.7 | H24: 213.56 | J24: 15.76 | L24: 1825.97 | N24: 1412.31 | O24: -2084.41 | P24: 1596.61 | Q24: -1412.31 | R24: 1882.38 | S24: =-1596.61-1882.38 -> -3478.99 | T24: 2684.7289 | V24: 1732.2423 | W24: -2684.73 | X24: 53.7657 | Y24: -1732.24 | Z24: 194.9989 | AC24: =SUM(C24:AB24) -> 248.7658
A25: №16 | B25: Назаров | D25: 812.85 | F25: 828.14 | O25: -5744.07 | AC25: =SUM(C25:AB25) -> -4103.08
A26: №17 | B26: Розофарова | D26: - р. | F26: - р. | H26: - р. | J26: - р. | L26: 2.75 | N26: 100.6 | P26: 73.04 | R26: 49.78 | T26: 33.6168 | V26: 28.3469 | X26: 14.6705 | Z26: 0 | AC26: =SUM(C26:AB26) -> 302.8042
A27: №18 | B27: Пухова | D27: 7.52 | F27: - р. | H27: 30.69 | J27: - р. | L27: 472.46 | M27: -1500 | N27: 711.31 | O27: =-500-600 -> -1100 | P27: 818.21 | Q27: -711 | R27: 1033.51 | S27: =-850-1040 -> -1890 | T27: 881.7725 | V27: 121.3288 | W27: -850 | X27: 0.8959 | Y27: -900 | Z27: 0 | AC27: =SUM(C27:AB27) -> -2873.3028
A28: №19 | B28: Ермилина | D28: - р. | F28: - р. | H28: - р. | J28: - р. | L28: 17.83 | N28: 64.49 | P28: 19.8 | R28: 120.65 | T28: 256.5016 | V28: 0.8959 | W28: -611.97 | X28: 0 | Z28: 0 | AC28: =SUM(C28:AB28) -> -131.8025
A29: №20 | B29: Артюхова | D29: - р. | F29: - р. | H29: - р. | J29: - р. | L29: 178.87 | N29: 197.05 | P29: 1055.79 | Q29: -375.92 | R29: 945.61 | S29: -2001.4 | T29: 597.3486 | V29: 606.8486 | X29: 0 | Y29: -1204.2 | Z29: 0 | AC29: =SUM(C29:AB29) -> -0.0028
A30: №21 | B30: Виноградов | AC30: =SUM(C30:AB30) -> 0
A31: №22 | B31: Волчкова | D31: 2.15 | F31: 2.15 | H31: 1.97 | J31: 77.16 | L31: 859.54 | N31: 931.16 | O31: =-7-78-140-157-619-860 -> -1861 | P31: 1148.38 | R31: 1362.71 | T31: 1524.5781 | V31: 2146.6026 | W31: -4963.5 | X31: 168.9157 | Z31: 2.4133 | AC31: =SUM(C31:AB31) -> 1403.2297
A32: №23 | B32: Горбунов | D32: 12.48 | F32: 12.27 | H32: 13.06 | I32: =-12.27-12.48 -> -24.75 | J32: 14.64 | K32: =-13.06-14.64 -> -27.7 | L32: 300.04 | M32: -300.04 | N32: 844.39 | P32: 1478.77 | Q32: =-844.39-1217.22-1478.77 -> -3540.38 | R32: 1173.59 | S32: -1173.59 | T32: 1239.3622 | U32: -1239.36 | V32: 1190.822 | W32: -1190.82 | X32: 20.5194 | Y32: -20.52 | Z32: 14.3694 | AA32: -14.37 | AC32: =SUM(C32:AB32) -> -1217.217
A33: №24 | B33: Мартанова | D33: 2.29 | F33: 234.94 | H33: 3.64 | J33: 81.83 | L33: 185.7 | N33: 673.98 | P33: 1962.93 | R33: 1981.65 | T33: 2578.0106 | V33: 550.034 | X33: 4.4388 | Z33: 10.9199 | AC33: =SUM(C33:AB33) -> 8270.3633
A34: №25 | B34: Садовникова | D34: 3.59 | F34: 3.49 | H34: 3.19 | J34: 3.48 | L34: 35.38 | N34: 154.33 | P34: 274.63 | R34: 292.35 | T34: 689.7915 | V34: 165.5912 | X34: 3.875 | Z34: 3.7517 | AC34: =SUM(C34:AB34) -> 1633.4494
A35: №26 | B35: Колотушкина | D35: - р. | F35: - р. | H35: - р. | J35: - р. | L35: 4.41 | N35: 378.37 | O35: -337.09 | P35: 708.82 | R35: 985.59 | S35: -2072.78 | T35: 361.4823 | V35: 89.646 | X35: 1.3702 | Z35: 0 | AC35: =SUM(C35:AB35) -> 119.8185
A36: №26Б | B36: Андреева | D36: - р. | F36: - р. | H36: - р. | J36: - р. | L36: - р. | N36: 17.43 | P36: - р. | R36: 298.98 | T36: 72.4419 | V36: 0 | X36: 0 | Z36: 0 | AC36: =SUM(C36:AB36) -> 388.8519
A37: №27 | B37: Рассказихин | D37: 3.65 | F37: 3.72 | H37: 3.36 | J37: 9.46 | L37: 62.01 | N37: 485.31 | P37: 531.72 | R37: 776.11 | S37: -2000 | T37: 739.9261 | V37: 213.5847 | X37: 4.1216 | Z37: 3.9108 | AC37: =SUM(C37:AB37) -> 836.8832
A38: №28 | B38: Хруцкая | D38: - р. | F38: - р. | H38: - р. | J38: - р. | L38: 1.74 | N38: 52.87 | P38: 89.35 | R38: 153.97 | T38: 83.9967 | V38: 134.4972 | X38: 0.7219 | Z38: 0 | AC38: =SUM(C38:AB38) -> 517.1458
A39: №29 | B39: Сахаров | D39: - р. | F39: - р. | H39: 0.1 | J39: - р. | L39: 6.4 | N39: - р. | P39: 18.44 | R39: 48.18 | T39: 20.925 | U39: -105.33 | V39: 6.3767 | X39: 2.3188 | Z39: 0 | AC39: =SUM(C39:AB39) -> -2.5895
A40: №30 | B40: Засыпкина | D40: - р. | F40: - р. | H40: - р. | J40: - р. | L40: 638.01 | N40: 834.96 | O40: =-638.01-834.96 -> -1472.97 | P40: 923.61 | R40: 1036.02 | S40: =-923.61-1036.2 -> -1959.81 | T40: 2047.8132 | V40: 575.2606 | W40: -2047.81 | X40: 0 | Z40: 0 | AC40: =SUM(C40:AB40) -> 575.0838
A41: №31А | B41: Сизых | D41: - р. | F41: - р. | H41: - р. | J41: - р. | L41: 61.41 | N41: 330.7 | O41: -410.41 | P41: 490.9 | Q41: -821.6 | R41: 568.76 | S41: -568.76 | T41: 519.6139 | W41: -519.61 | AC41: =SUM(C41:AB41) -> -348.9961
A42: №31Б | B42: Акмеева | D42: 12.71 | F42: 11.27 | H42: 10.93 | J42: 39.77 | L42: 272.35 | N42: 295.23 | P42: 282.88 | Q42: -2845 | R42: 257.38 | T42: 516.7039 | V42: 1090.7538 | X42: 347.3642 | Z42: 8.8487 | AC42: =SUM(C42:AB42) -> 301.1906
A43: №32 | B43: Горюшкин | D43: 10.11 | F43: 10.07 | H43: 9.1 | J43: 90.84 | K43: =-9.69-120.12 -> -129.81 | L43: 308.27 | N43: 1110.8 | O43: =-308.27-1110.8 -> -1419.07 | P43: 1285.11 | Q43: -1285.11 | R43: 1381.98 | S43: -1381.98 | T43: 1261.7059 | U43: -1261.71 | V43: 835.5391 | W43: -835.54 | X43: 13.908 | Z43: 10.6565 | AC43: =SUM(C43:AB43) -> 14.8695
A44: №33 | B44: Житенев | AC44: =SUM(C44:AB44) -> 0
A45: №34 | B45: Корчененков | D45: 12180.38 | F45: 6692.97 | G45: =-548.79-5826.28-6354.1-6692.97 -> -19422.14 | H45: 3797.59 | J45: 5287.96 | K45: -3797.59 | L45: 3111.92 | M45: =-3111.92-5287.96 -> -8399.88 | N45: 2748.84 | O45: -2748.84 | P45: 3059 | R45: 3345.25 | S45: =-2748.84-3059-3345.25 -> -9153.09 | T45: 5710.5891 | U45: -5710.59 | V45: 3948.337 | W45: -3948.34 | X45: 5154.4455 | Y45: -5154.45 | Z45: 14622.721 | AA45: -14622.72 | AC45: =SUM(C45:AB45) -> -3297.6374
A46: №35 | B46: Осипова, Яковл. | D46: 4.07 | F46: 4.04 | H46: 3.7 | J46: 4.04 | L46: 3.97 | N46: 236.54 | P46: 423.42 | R46: 654.25 | T46: 377.0704 | U46: -8000 | V46: 1155.585 | X46: 23.8503 | Z46: 4.2628 | AC46: =SUM(C46:AB46) -> -5105.2015
A47: №36 | B47: Кулишкин | C47: 54 | D47: - р. | F47: - р. | H47: - р. | J47: - р. | L47: 0.14 | N47: 1.1 | P47: 36.61 | R47: 33.12 | T47: 135.0671 | V47: 352.4244 | X47: 0 | Z47: 0 | AC47: =SUM(C47:AB47) -> 612.4615
A48: №37 | B48: Бирюкова | D48: 24936.99 | E48: -73000 | F48: 26182.91 | H48: 23886.31 | I48: -32000 | J48: 26472.48 | K48: =-24000-26500 -> -50500 | L48: 16070.1 | M48: -16100 | N48: 6203.63 | O48: -6210 | P48: 3550.07 | Q48: -3550 | R48: 5499.55 | S48: -5500 | T48: 5256.8249 | U48: -5300 | V48: 10184.791 | W48: -10200 | X48: 12561.717 | Y48: -12570 | Z48: 3410.2615 | AA48: -3412 | AC48: =SUM(C48:AB48) -> -54126.366
A49: №39 | B49: Хорошева | D49: 11.8 | F49: 11.67 | H49: 10.54 | J49: 11.69 | L49: 260.51 | N49: 395.51 | O49: -211.86 | P49: 539.68 | Q49: -1108 | R49: 585.79 | T49: 803.5723 | U49: -585.79 | V49: 618.4808 | X49: 93.3519 | Y49: -1503.57 | Z49: 12.5239 | AC49: =SUM(C49:AB49) -> -54.1011
A50: №40 | B50: Кожухова | D50: - р. | F50: - р. | H50: - р. | J50: - р. | L50: - р. | N50: - р. | P50: 190 | R50: 331.67 | T50: 101.5966 | V50: 0.6324 | W50: -2100 | X50: 11.0479 | Z50: 0 | AC50: =SUM(C50:AB50) -> -1465.0531
A51: №41 | B51: Сахарова | D51: 3.32 | F51: 3.35 | H51: 2.93 | J51: 3.38 | L51: 3.2 | N51: 3.22 | P51: 3.51 | R51: 3.54 | T51: 3.8044 | V51: 3.3997 | X51: 3.5757 | Z51: 3.4524 | AC51: =SUM(C51:AB51) -> 40.6822
A52: №42 | B52: Павленко | D52: 4.12 | F52: 4.12 | H52: 3.76 | J52: 4.15 | L52: 340.67 | N52: 1547.45 | P52: 2049.3 | R52: 2404.31 | S52: -4906.2 | T52: 983.2658 | V52: 210.635 | X52: 4.6327 | Y52: -2404.31 | Z52: 4.3682 | AC52: =SUM(C52:AB52) -> 250.2717
A53: №43 | B53: Андреев | D53: 2879.05 | E53: -2879.05 | F53: 30.96 | H53: 17.29 | J53: 31.73 | L53: 1406.41 | N53: 1213.13 | O53: -2699.52 | P53: 1254.03 | R53: 1528.74 | S53: -2782.77 | T53: 2754.4295 | V53: 5511.7789 | X53: 4381.8383 | Y53: -8266.21 | Z53: 2766.5372 | AA53: -4382 | AC53: =SUM(C53:AB53) -> 2766.3739
A54: №44 | B54: Макарычев | D54: 3.89 | F54: 3.91 | H54: 3.51 | J54: 3.92 | L54: 3.76 | N54: 467.06 | P54: 522.16 | R54: 730.52 | S54: -5000 | T54: 199.5503 | U54: -3500 | V54: 364.9206 | X54: 4.3155 | Z54: 4.1922 | AC54: =SUM(C54:AB54) -> -6188.2914
A55: №45 | B55: Александрова | D55: 0.67 | F55: 0.56 | H55: 0.51 | J55: 0.51 | L55: 0.5 | N55: 198.35 | P55: 324.12 | R55: 372.76 | T55: 203.31 | V55: 2.6718 | W55: -1099.04 | X55: 0.6871 | Z55: 0.6692 | AC55: =SUM(C55:AB55) -> 6.2781
A56: №46 | B56: Макаренков | O56: -380 | AC56: =SUM(C56:AB56) -> -380
A57: №47 | B57: Степанова | D57: - р. | F57: - р. | H57: - р. | J57: - р. | L57: 458.7 | N57: 1155.63 | O57: =-458.7-1155.63 -> -1614.33 | P57: 534.2 | R57: 614.39 | S57: =-534.2-614.39 -> -1148.59 | T57: 279.1794 | V57: 1.4428 | W57: -279.18 | X57: 0 | Z57: 0 | AC57: =SUM(C57:AB57) -> 1.4422
A58: №48 | B58: Севастьянов | D58: - р. | F58: - р. | H58: - р. | J58: - р. | L58: - р. | N58: 376.1 | P58: 609.68 | R58: 938.28 | S58: =-376.1-609.68-938.28 -> -1924.06 | T58: 401.7703 | V58: 0 | W58: -403 | X58: 0 | Z58: 0 | AC58: =SUM(C58:AB58) -> -1.2297
A59: №49 | B59: Жаркова, Филим | D59: 15.78 | F59: 12.43 | H59: 219.65 | J59: 656.21 | L59: 131.31 | M59: -2352.38 | N59: 456.72 | P59: 1181.97 | R59: 1175.35 | S59: -1638 | T59: 1183.1639 | V59: 421.6687 | W59: -1176 | X59: 203.441 | Z59: 84.9537 | AA59: -3085.55 | AC59: =SUM(C59:AB59) -> -2509.2827
A60: №50 | B60: Корчененкова | D60: 3.88 | F60: 3.83 | H60: 3.43 | J60: 3.76 | L60: 14.14 | N60: 435.71 | P60: 970.16 | Q60: -970.16 | R60: 985.02 | S60: -985.02 | T60: 353.4178 | U60: -353.42 | V60: 5.0702 | W60: -1555 | X60: 4.579 | Z60: 4.5253 | AC60: =SUM(C60:AB60) -> -1076.0777
A61: №51А | B61: Солдатов А. | D61: - р. | F61: - р. | H61: - р. | J61: - р. | L61: 5.51 | N61: 14.99 | O61: -51.01 | P61: 74.79 | R61: 150.66 | T61: 119.0145 | V61: 98.8786 | X61: 22.3637 | Z61: 113.2845 | AC61: =SUM(C61:AB61) -> 548.4813
A62: №51Б | B62: Солдатов С. | C62: 441 | D62: 8.14 | F62: 8.23 | H62: 7.45 | I62: -23.82 | J62: 15.32 | L62: 508.55 | M62: -523.87 | N62: 512.6 | O62: -441 | P62: 663.35 | Q62: -512.6 | R62: 784.11 | S62: -663.36 | T62: 662.5864 | U62: -784.11 | V62: 151.3552 | W62: -662.59 | X62: 9.0715 | Y62: -151.36 | Z62: 8.7543 | AC62: =SUM(C62:AB62) -> 17.8074
A63: №52 | B63: Глот | D63: - р. | F63: - р. | H63: - р. | J63: - р. | L63: - р. | N63: - р. | P63: - р. | R63: - р. | T63: 0 | V63: 0 | X63: 0 | Z63: 0 | AC63: =SUM(C63:AB63) -> 0
A64: №53 | B64: Власова | AC64: =SUM(C64:AB64) -> 0
A65: №54 | B65: Кучер | D65: 199.38 | F65: 49.34 | H65: 127.17 | J65: 62.03 | K65: -600 | L65: 77.6 | N65: 70.46 | P65: 67.35 | R65: 38.95 | T65: 75.1502 | V65: 143.871 | X65: 110.143 | Z65: 15.7573 | AC65: =SUM(C65:AB65) -> 437.2015
A66: №55 | B66: Яхонтова | D66: 3.43 | F66: 3.36 | H66: 3.07 | J66: 3.38 | L66: 3.27 | N66: 22.12 | P66: 17.22 | R66: 34.85 | T66: 26.9657 | V66: 21.993 | X66: 3.7517 | Z66: 3.5757 | AC66: =SUM(C66:AB66) -> 146.9861
A67: №55Б | B67: Ромашина | D67: 4.04 | F67: 3.88 | H67: 3.48 | I67: -5000 | J67: 99.7 | L67: 3.89 | N67: 1450.24 | P67: 1234.57 | R67: 1435.19 | T67: 326.8893 | V67: 247.1123 | X67: 141.802 | Z67: 4.2976 | AC67: =SUM(C67:AB67) -> -44.9088
A68: №56А | B68: Меньшова | C68: 311 | D68: 0.66 | F68: 0.72 | H68: 0.61 | J68: 0.67 | L68: 2.44 | N68: 66.03 | P68: 293.4 | R68: 290.19 | T68: 1.583 | V68: 0.7398 | X68: 1.0033 | Z68: 0.7398 | AC68: =SUM(C68:AB68) -> 969.7859
A69: №56Б | B69: Кучер | C69: 217 | D69: 68.54 | F69: 22.13 | H69: - р. | J69: 53.69 | K69: -500 | L69: 245.61 | N69: 449.26 | P69: 201.09 | Q69: -500 | R69: 470.91 | T69: 385.302 | V69: 220.0931 | X69: 263.3517 | Z69: 28.1418 | AC69: =SUM(C69:AB69) -> 1625.1186
A70: №57А | B70: Подлегаева | D70: 4.28 | F70: 4.28 | H70: 3.88 | J70: 43.51 | L70: 4.15 | N70: 4.29 | P70: 145.61 | R70: 212.57 | T70: 5.0553 | V70: 4.4746 | W70: -1000 | X70: 86.1954 | Z70: 4.5273 | AC70: =SUM(C70:AB70) -> -477.1774
A71: №57Б | B71: Филатова | D71: 3.72 | F71: 3.67 | H71: 3.41 | J71: 3.65 | L71: 25.26 | N71: 16.67 | P71: 29.57 | R71: 129.57 | T71: 81.7551 | V71: 14.7114 | X71: 7.9866 | Y71: -1000 | Z71: 3.9804 | AC71: =SUM(C71:AB71) -> -676.0465
A72: №58 | B72: Родин | D72: 1.52 | F72: 1.62 | H72: 1.78 | J72: 1.73 | L72: 16.65 | N72: 85.26 | P72: 92.92 | R72: 50.28 | S72: -179 | T72: 55.2368 | V72: 57.0229 | X72: 6.2694 | Z72: 1.5144 | AC72: =SUM(C72:AB72) -> 192.8035
A73: №59 | B73: Большов | D73: - р. | F73: - р. | H73: - р. | J73: - р. | L73: 42.07 | N73: 28.91 | P73: 97.61 | R73: 49.11 | T73: 24.6249 | V73: 23.1304 | W73: -600 | X73: 50.1356 | Z73: 86.7315 | AC73: =SUM(C73:AB73) -> -197.6776
A74: №60А | B74: Костылева | D74: 1.12 | F74: 1.35 | H74: 0.96 | J74: 1.06 | L74: 128.37 | N74: 381.07 | O74: -200 | P74: 427.35 | R74: 450.16 | S74: -500 | T74: 440.4395 | U74: -1000 | V74: 3.4285 | X74: 1.233 | Z74: 1.1097 | AC74: =SUM(C74:AB74) -> 137.6507
A75: №60Б | B75: Глебова | D75: - р. | F75: - р. | H75: - р. | J75: - р. | L75: 608.67 | N75: 427.71 | O75: -610 | P75: 384.79 | Q75: -430 | R75: 517.4 | S75: =-385-520 -> -905 | T75: 881.4154 | V75: 0 | W75: -1000 | X75: 0 | Z75: 0 | AC75: =SUM(C75:AB75) -> -125.0146
A76: №61 | B76: Парамонова | S76: -42.22 | AC76: =SUM(C76:AB76) -> -42.22
A77: №61А | B77: Парамонова | AC77: =SUM(C77:AB77) -> 0
A78: №62 | B78: Голубятникова | D78: 1079.08 | F78: 746.99 | H78: 694.87 | I78: -2866.89 | J78: 786.58 | K78: -2373.63 | L78: 998.64 | M78: -1031.39 | N78: 1227.93 | O78: -1689.75 | P78: 1078.42 | R78: 1249.52 | S78: -2652.42 | T78: 1118.7588 | V78: 724.6959 | X78: 512.7501 | Y78: -2003.18 | Z78: 594.0064 | AC78: =SUM(C78:AB78) -> -1805.0188
A79: №62А | B79: Голубятникова | D79: 123.58 | F79: 207.4 | H79: 11.8 | J79: 880.38 | L79: 32.75 | N79: 118.31 | P79: 118.8 | R79: 205.67 | T79: 123.9345 | V79: 35.7949 | X79: 10.9977 | Z79: 5.5376 | AC79: =SUM(C79:AB79) -> 1874.9547
A80: №63 | B80: Федюшкин | D80: 0.85 | F80: 0.83 | H80: 0.74 | J80: 0.8 | L80: 0.78 | N80: 99.83 | P80: 79.53 | R80: 36.11 | T80: 80.8187 | V80: 0.8631 | X80: 0.9158 | Z80: 0.8631 | AC80: =SUM(C80:AB80) -> 302.9307
A81: №64 | B81: Савкина | AC81: =SUM(C81:AB81) -> 0
A82: №65 | B82: Буланова | D82: 3.16 | F82: 3.09 | H82: 2.85 | J82: 23.32 | L82: 16.63 | N82: 208.07 | O82: -200 | P82: 533.5 | R82: 1071.06 | S82: -646.91 | T82: 326.9415 | V82: 3.9088 | W82: -1400 | X82: 3.5051 | Z82: 3.347 | AC82: =SUM(C82:AB82) -> -47.5276
A83: №66 | B83: Кудрявцева | C83: 741 | D83: 26.25 | F83: - р. | H83: - р. | J83: - р. | L83: 56.91 | N83: 1178.34 | P83: 1691.64 | R83: 1684.4 | S83: -4611.29 | T83: 389.1634 | V83: 13.175 | W83: -389.16 | X83: 90.3278 | Z83: 0 | AC83: =SUM(C83:AB83) -> 870.7562
A84: №67 | B84: сторожка | D84: 0.53 | F84: 0.43 | H84: 1.15 | J84: 1.02 | L84: 1.92 | N84: 6.2 | P84: 9.75 | R84: 10.82 | T84: 7.378 | V84: 7.4834 | X84: 0.6851 | Z84: 0.3162 | AC84: =SUM(C84:AB84) -> 47.6827
A85: №68 | B85: Илюхина | AC85: =SUM(C85:AB85) -> 0
A86: №69 | B86: Кербер | D86: 4.56 | F86: 4.82 | H86: 4.44 | J86: 4.82 | L86: 225.13 | N86: 338.18 | P86: 320.5 | R86: 245.32 | T86: 270.3615 | V86: 96.2554 | W86: -2060.34 | X86: 16.9694 | Z86: 0 | AC86: =SUM(C86:AB86) -> -528.9837
A87: №70 | B87: Бибина | C87: 651 | D87: - р. | F87: - р. | H87: - р. | J87: - р. | L87: 576.55 | N87: 2093.98 | P87: 1984.9 | Q87: =-215.03-528.62-651-1076.05 -> -2470.7 | R87: 2044.16 | S87: =-1984.9-2044.16 -> -4029.06 | T87: 2042.1884 | V87: 265.1814 | W87: -2042.19 | X87: 17.1802 | Z87: 0 | AC87: =SUM(C87:AB87) -> 1133.19
A88: №71 | B88: Кондратьева | D88: 5.22 | F88: 5.22 | H88: 4.72 | J88: 5.28 | L88: 92.72 | N88: 458.65 | O88: -200 | P88: 908.34 | R88: 901.85 | S88: -902 | T88: 1103.2488 | V88: 243.8906 | W88: -1105 | X88: 0 | Z88: 0 | AC88: =SUM(C88:AB88) -> 1522.1394
A89: №72 | B89: Суздальцев | D89: 3.32 | F89: 3.41 | H89: 3.65 | J89: 3.44 | L89: 3.59 | N89: 75.82 | P89: 90.45 | R89: 216.54 | T89: 205.2897 | V89: 92.0189 | X89: 39.0125 | Z89: 3.8392 | AC89: =SUM(C89:AB89) -> 740.3803
A90: №73 | B90: Меньшов | D90: - р. | F90: - р. | H90: - р. | J90: - р. | L90: - р. | N90: - р. | P90: - р. | R90: - р. | T90: 0 | V90: 0 | X90: 0 | Z90: 0 | AC90: =SUM(C90:AB90) -> 0
A91: №74 | B91: Гаврилова | D91: - р. | F91: - р. | H91: - р. | J91: 326.46 | L91: 1047.08 | N91: 402.22 | P91: 323.73 | R91: 309.72 | T91: 458.2069 | V91: 1185.1501 | W91: -5580 | X91: 1149.8548 | Z91: 0 | AA91: -14524 | AC91: =SUM(C91:AB91) -> -14901.578
A92: №75 | B92: Астафьев | D92: - р. | F92: - р. | H92: - р. | J92: 175.98 | L92: 493.25 | N92: 486.02 | P92: 537.6 | R92: 624.8 | S92: -2000 | T92: 297.3604 | V92: 118.3359 | W92: -630 | X92: 1.6864 | Z92: 0 | AC92: =SUM(C92:AB92) -> 105.0327
A93: №76 | B93: Виленкина | D93: 145.08 | F93: 147.98 | G93: -145.08 | H93: 121.05 | I93: -147.98 | J93: 131.68 | K93: =-121.05-131.68 -> -252.73 | L93: 3023.01 | N93: 1263.23 | O93: -3023.01 | P93: 1317.1 | Q93: =-1263.23-1317.1 -> -2580.33 | R93: 1600.05 | S93: -1601 | T93: 2691.764 | V93: 481.1961 | W93: -2692 | X93: 180.5673 | Y93: -481 | Z93: 332.9836 | AA93: -180.57 | AC93: =SUM(C93:AB93) -> 331.991
A94: №77 | B94: Озеров | D94: - р. | F94: - р. | H94: - р. | J94: - р. | L94: 3.93 | N94: 7.71 | P94: - р. | R94: 1.74 | T94: 8.2212 | V94: 3.3201 | X94: 0.527 | Z94: 0 | AC94: =SUM(C94:AB94) -> 25.4483
A95: №78 | B95: Нестеренко | D95: - р. | F95: - р. | H95: - р. | J95: - р. | L95: 111.92 | N95: 184.37 | P95: 272.39 | R95: 125.46 | T95: 145.5215 | V95: 3.2147 | X95: 0 | Z95: 0 | AC95: =SUM(C95:AB95) -> 842.8762
A96: №79 | B96: Ханина | C96: 2676 | D96: 4.39 | F96: 4.29 | H96: 3.99 | J96: 9.23 | L96: 43.42 | N96: 7.59 | O96: -290.95 | P96: 85.67 | R96: 183.63 | S96: -276.89 | T96: 141.1368 | V96: 128.2419 | X96: 143.1533 | Z96: 122.7004 | AC96: =SUM(C96:AB96) -> 2985.6024
A97: №80 | B97: Рыжова | D97: - р. | E97: -132.83 | F97: - р. | H97: - р. | J97: 0.62 | L97: 412.01 | N97: 202.04 | O97: -474.01 | P97: 683.68 | Q97: -202.04 | R97: 528.34 | S97: =-683.68-528.34 -> -1212.02 | T97: 334.5754 | U97: -334.58 | V97: 342.4755 | W97: -342.48 | X97: 215.1859 | Z97: 1.6556 | AA97: -215.19 | AC97: =SUM(C97:AB97) -> -192.5676
A98: №81 | B98: Пономарева | AC98: =SUM(C98:AB98) -> 0
A99: №82 | B99: Кочергова | D99: 3.43 | F99: 3.41 | H99: 3.07 | J99: 3.36 | L99: 517.14 | N99: 978.83 | O99: -1512.56 | P99: 1313.98 | R99: 1181.86 | T99: 1333.4917 | U99: -1313.98 | V99: 234.1443 | W99: -1181.86 | X99: 3.7696 | Y99: -1333.49 | Z99: 3.5926 | AC99: =SUM(C99:AB99) -> 238.1882
A100: №83 | B100: Коршунова | D100: - р. | F100: - р. | H100: - р. | J100: - р. | L100: - р. | N100: - р. | P100: - р. | R100: - р. | T100: 0 | V100: 0 | X100: 0 | Z100: 0 | AC100: =SUM(C100:AB100) -> 0

Sheet 2014
A10: Участок | B10: ФИО | C10: 41640 | E10: 41671 | G10: 41699 | I10: 41730 | K10: май 2014 | M10: 41791 | O10: 41821 | Q10: 41852 | S10: 41883 | U10: 41913 | W10: 41944 | Y10: 41974 | AB10: Итого
A11: №1 | B11: Рябцева | C11: 1656.55 | E11: 1773.05 | F11: -1656.55 | G11: 703.87 | H11: -1773.05 | I11: 435.47 | J11: -703.87 | K11: 1954.79 | L11: =-435.47-1954.79 -> -2390.26 | M11: - р. | O11: 1002.44 | P11: =-443.94-1002.44 -> -1446.38 | Q11: 1460.93 | S11: 1836.12 | T11: -1460.93 | U11: 2425.9 | V11: -1836.12 | W11: 672.29 | X11: -2425.9 | Y11: 1692.55 | Z11: =-672.29-1692.65 -> -2364.94 | AB11: =SUM(C11:AA11) -> -444.04
A12: №2 | B12: Антипов | C12: 3.03 | E12: 2.57 | G12: 2.75 | I12: 24.63 | K12: 19.2 | M12: 44.84 | O12: 331.19 | P12: -1000 | Q12: 393.31 | S12: 586.92 | U12: 606.97 | V12: -700 | W12: 503.91 | Y12: 75.51 | Z12: -1100 | AB12: =SUM(C12:AA12) -> -205.17
A13: №3 | B13: Ханина | C13: 2.74 | E13: 2.26 | G13: 2.43 | I13: 2.71 | K13: 3.45 | M13: - р. | O13: 19.82 | Q13: 160.05 | S13: 149.62 | U13: 19.68 | V13: -200 | W13: 3.3 | Y13: 3.14 | AB13: =SUM(C13:AA13) -> 169.2
A14: №5 | B14: Павлюк | D14: -3616.57 | AB14: =SUM(C14:AA14) -> -3616.57
A15: №6 | B15: Ребрина | C15: - р. | E15: 80.03 | G15: 92.93 | I15: 169.44 | K15: 219.09 | M15: 807.34 | O15: 845.28 | P15: =-2200-1200-845.28 -> -4245.28 | Q15: 838.59 | S15: 1219.77 | T15: -838.59 | U15: 456.28 | V15: =-1219.77-456.28 -> -1676.05 | W15: 1437.63 | X15: -1437.63 | Y15: 2017.98 | Z15: -2017.98 | AB15: =SUM(C15:AA15) -> -2031.17
A16: №7 | B16: Еропкин | C16: - р. | E16: - р. | G16: 0.64 | I16: 17.66 | J16: -2650 | K16: 408.95 | M16: 426.12 | O16: 526.02 | P16: -853 | Q16: 647.75 | S16: 460.13 | U16: 265.8 | W16: 0.77 | X16: -2000 | Y16: - р. | AB16: =SUM(C16:AA16) -> -2749.16
A17: №8 | B17: Шатилов | C17: 51 | E17: 154.57 | G17: 682.19 | I17: 1231.04 | K17: 1185.69 | M17: 663.2 | O17: 800.58 | P17: -10000 | Q17: 1763.31 | S17: 3813.34 | U17: 346.74 | V17: -4500 | W17: 183.2 | Y17: 14.41 | AB17: =SUM(C17:AA17) -> -3610.73
A18: №9 | B18: Ворнаков | C18: 3.87 | E18: 3.21 | G18: 3.55 | I18: 3.86 | K18: 59.33 | M18: 42.04 | O18: 44.04 | Q18: 127.32 | S18: 21.9 | U18: 7.9 | W18: 4.04 | Y18: 3.81 | AB18: =SUM(C18:AA18) -> 324.87
A19: №10 | B19: Усова | C19: 2.91 | E19: 2.47 | G19: 2.6 | I19: 11.42 | K19: 116.87 | M19: 156.63 | N19: =-88.73-136.27 -> -225 | O19: 155.59 | Q19: 148.93 | S19: 95.69 | U19: 71.76 | W19: 11.47 | Y19: 2.82 | Z19: -639.8 | AB19: =SUM(C19:AA19) -> -85.64
A20: №11 | B20: Щербачев | C20: 4.24 | E20: 3 | G20: 4.36 | I20: 3.6 | K20: 53.67 | M20: 212.48 | O20: 251.74 | P20: -266.08 | T20: -670.07 | AB20: =SUM(C20:AA20) -> -403.06
A21: №12 | B21: Козлов | C21: 0.97 | E21: 0.26 | G21: 0.23 | I21: 12.28 | K21: 173.35 | M21: 163.66 | N21: -173.35 | O21: 499.06 | P21: -280.54 | AB21: =SUM(C21:AA21) -> 395.92
A22: №13 | B22: Самсонов | C22: 8.31 | E22: 8 | G22: 287.8 | H22: =-16.31-1685.13 -> -1701.44 | I22: 466.74 | K22: 449.42 | L22: -754.54 | M22: 191.71 | N22: -641.13 | O22: 218.2 | Q22: 259.7 | S22: 416.45 | T22: -477.9 | U22: 1063.25 | W22: 2112.04 | X22: -1479.7 | Y22: 773.88 | AB22: =SUM(C22:AA22) -> 1200.79
A23: №14 | B23: Корчагина | C23: 15.94 | E23: 13.36 | G23: 14.43 | I23: 22.03 | K23: 218.58 | M23: 586.19 | O23: 1153.83 | Q23: 1204.56 | R23: =-1958.6-516.64 -> -2475.24 | S23: 1644.87 | U23: 286.71 | V23: -2849.43 | W23: 19.06 | Y23: 13.02 | AB23: =SUM(C23:AA23) -> -132.09
A24: №15 | B24: Кречет | C24: 1591.5 | E24: 975.72 | F24: =-1591.5-975.72 -> -2567.22 | G24: 101.11 | H24: -101.11 | I24: 1615.53 | K24: 1958.76 | L24: -1615.53 | M24: 1527.81 | N24: -1958.86 | O24: 1676.52 | Q24: 1404.3 | R24: =-1676.52-1842.29-1404.3 -> -4923.11 | S24: 2032.37 | U24: 3473.74 | V24: -2032.47 | W24: 538.49 | X24: -3473.74 | Y24: 28.03 | Z24: =-538.49-28.03 -> -566.52 | AB24: =SUM(C24:AA24) -> -314.68
A25: №16 | B25: Назаров | C25: 427.19 | E25: 423.23 | G25: 431.68 | I25: 543.59 | K25: 557.61 | L25: -6500 | M25: 580.17 | O25: 510.27 | Q25: 1530.88 | S25: 1915.53 | U25: 704.09 | W25: 581.47 | Y25: 548.59 | AB25: =SUM(C25:AA25) -> 2254.3
A26: №17 | B26: Розофарова | C26: - р. | E26: - р. | G26: - р. | I26: - р. | K26: 54.21 | M26: 414.97 | O26: 938.99 | Q26: 615.86 | S26: 827.65 | U26: 107.88 | W26: 4.12 | Y26: - р. | AB26: =SUM(C26:AA26) -> 2963.68
A27: №18 | B27: Пухова | C27: 53.46 | E27: - р. | G27: - р. | I27: 0.92 | K27: 455.67 | L27: -2000 | M27: 705.37 | O27: 755.84 | Q27: 800.51 | R27: -750 | S27: 744.91 | T27: -760 | U27: 91.71 | W27: 63.42 | Y27: - р. | AB27: =SUM(C27:AA27) -> 161.81
A28: №19 | B28: Ермилина | C28: - р. | E28: - р. | G28: - р. | I28: - р. | K28: 21.36 | M28: 214.91 | O28: 106.75 | Q28: 31.29 | S28: 42.34 | T28: -550 | U28: 86.36 | W28: 3.89 | Y28: 0.11 | AB28: =SUM(C28:AA28) -> -42.99
A29: №20 | B29: Артюхова | C29: - р. | E29: - р. | G29: - р. | I29: - р. | K29: 103.86 | M29: 620.64 | N29: -103.86 | O29: 1034.11 | P29: -620.64 | Q29: 845.73 | R29: -1034.11 | S29: 656.66 | U29: 381.74 | W29: 103.46 | X29: -1987.59 | Y29: - р. | AB29: =SUM(C29:AA29) -> 0
A30: №21 | B30: Виноградова | D30: -3758.71 | AB30: =SUM(C30:AA30) -> -3758.71
A31: №22 | B31: Волчкова | C31: 2.11 | E31: 1.74 | G31: 1.92 | I31: 2.18 | K31: 98.42 | M31: 946.92 | O31: 1240.83 | P31: -1647.22 | Q31: 691.43 | S31: 618.65 | T31: -1932.26 | U31: 156.4 | W31: 115.04 | Y31: 24.16 | AB31: =SUM(C31:AA31) -> 320.32
A32: №23 | B32: Горбунов | C32: 12.45 | E32: 10.44 | G32: 30.6 | H32: =-10.44-12.45-30.6-43.5 -> -96.99 | I32: 313.28 | K32: 253.82 | M32: 540.15 | O32: 897.83 | P32: =-253.82-313.28-540.15 -> -1107.25 | Q32: 861.84 | R32: -897.83 | S32: 979.96 | T32: =-861.84-979.96 -> -1841.8 | U32: 1036.88 | W32: 54.05 | X32: -1036.88 | Y32: 57.23 | Z32: =-54.05-57.23 -> -111.28 | AB32: =SUM(C32:AA32) -> -43.5
A33: №24 | B33: Мартанова | C33: 3.86 | E33: 231.41 | G33: 239.16 | H33: -2500 | I33: 3.87 | K33: 900.6 | M33: 354.22 | N33: -900 | O33: 704.82 | Q33: 578.42 | R33: -5105.15 | S33: 335.75 | U33: 85.68 | W33: 3.99 | Y33: 4.02 | Z33: -1700 | AB33: =SUM(C33:AA33) -> -6759.35
A34: №25 | B34: Садовникова | C34: 3.55 | E34: 2.97 | G34: 3.23 | I34: 3.6 | K34: 80.81 | M34: 144.83 | O34: 204.28 | Q34: 214.71 | S34: 280.22 | U34: 136.3 | W34: 3.7 | Y34: 3.54 | AB34: =SUM(C34:AA34) -> 1081.74
A35: №26 | B35: Колотушкина | C35: - р. | E35: - р. | G35: - р. | I35: - р. | K35: 235.01 | M35: 211.02 | N35: -235 | O35: 380.83 | Q35: 527.4 | R35: -591.85 | S35: 306.52 | T35: -527.4 | U35: 2.83 | W35: 23.28 | Y35: 0.05 | AB35: =SUM(C35:AA35) -> 332.69
A36: №26Б | B36: Андреева | C36: - р. | E36: - р. | G36: - р. | I36: - р. | K36: 36.06 | M36: - р. | O36: - р. | Q36: 282.93 | S36: 4.36 | U36: - р. | V36: -323.35 | W36: - р. | Y36: - р. | AB36: =SUM(C36:AA36) -> 0
A37: №27 | B37: Рассказихин | C37: 3.44 | E37: 2.95 | G37: 3.12 | I37: 3.54 | K37: 156.05 | M37: 284.7 | O37: 443.82 | Q37: 560.38 | S37: 186.11 | U37: 3.94 | V37: -1800 | W37: 3.59 | Y37: 3.43 | AB37: =SUM(C37:AA37) -> -144.93
A38: №28 | B38: Хруцкая | C38: 3.83 | E38: 3.27 | G38: 3.44 | I38: 3.87 | K38: 3.61 | M38: 37.16 | O38: 109.13 | Q38: 91.31 | S38: 113.99 | U38: 2.56 | V38: -880.1 | W38: - р. | Y38: - р. | AB38: =SUM(C38:AA38) -> -507.93
A39: №29 | B39: Сахаров | C39: - р. | E39: - р. | F39: -238.07 | G39: - р. | I39: - р. | K39: 0.97 | M39: 8.91 | O39: 1.77 | Q39: 8.81 | S39: 11.28 | T39: -19.49 | U39: - р. | W39: - р. | Y39: - р. | AB39: =SUM(C39:AA39) -> -225.82
A40: №30 | B40: Засыпкина | C40: - р. | E40: - р. | G40: - р. | I40: - р. | K40: 824.36 | L40: -824.36 | M40: 894.86 | N40: -894.86 | O40: 926.76 | P40: -926.76 | Q40: 669.08 | R40: -693.29 | S40: 1571.76 | T40: -1571.76 | U40: 239.45 | W40: - р. | X40: -239.45 | Y40: - р. | AB40: =SUM(C40:AA40) -> -24.21
A41: №31А | B41: Сизых | C41: - р. | E41: - р. | G41: - р. | I41: - р. | K41: 103.65 | M41: - р. | O41: 316.78 | Q41: 578.71 | R41: -420.43 | S41: 351.76 | T41: -578.71 | U41: 112.91 | V41: -464.67 | W41: - р. | Y41: - р. | AB41: =SUM(C41:AA41) -> 0
A42: №31Б | B42: Акмеева | C42: 66.42 | E42: 47.86 | G42: 12.91 | I42: 20.01 | K42: 79.7 | M42: 106.4 | O42: 135.44 | Q42: 296.37 | R42: -3000 | S42: 456.01 | U42: 383.75 | W42: 16.33 | Y42: 10.73 | AB42: =SUM(C42:AA42) -> -1368.07
A43: №32 | B43: Горюшкин | C43: 9.79 | D43: -9.56 | E43: 8.22 | G43: 11.58 | I43: 9.9 | J43: -39.5 | K43: 631.34 | L43: -631.34 | M43: 851.58 | O43: 1291.42 | P43: =-851.58-1291.42 -> -2143 | Q43: 1109.2 | R43: -1109.2 | S43: 1416.04 | T43: -1416.04 | U43: 700.94 | V43: -700.94 | W43: 40.35 | X43: -40.35 | Y43: 9.69 | AB43: =SUM(C43:AA43) -> 0.12
A44: №33 | B44: Житенев | C44: 2.03 | E44: 35.56 | G44: 104.23 | I44: 164.14 | K44: 366.35 | M44: 687.8 | N44: -665.8 | O44: 733.13 | V44: -1427.21 | AB44: =SUM(C44:AA44) -> 0.23
A45: №34 | B45: Корчененков | C45: 8431.53 | E45: 5206.54 | G45: 5078.58 | I45: 1625.26 | K45: 1784.75 | L45: =-20341.91-49257.17 -> -69599.08 | M45: 1863.59 | O45: 2742.49 | Q45: 2408.76 | S45: 5052.47 | U45: 1852.95 | W45: 6326.08 | Y45: 7527.33 | AB45: =SUM(C45:AA45) -> -19698.75
A46: №35 | B46: Осипова, Яковл. | C46: 4.04 | E46: 3.38 | G46: 3.61 | I46: 4 | K46: 58.72 | M46: 80.8 | O46: 345.6 | Q46: 370.79 | S46: 346.24 | U46: 402.07 | V46: -1700 | W46: 24.69 | Y46: 3.92 | AB46: =SUM(C46:AA46) -> -52.14
A47: №36 | B47: Кулишкин | C47: - р. | E47: - р. | G47: - р. | I47: - р. | K47: - р. | M47: - р. | O47: 28.09 | Q47: 456.67 | S47: 124.49 | U47: - р. | W47: 14.9 | Y47: - р. | Z47: -1000 | AB47: =SUM(C47:AA47) -> -375.85
A48: №37 | B48: Бирюков | C48: 3.67 | E48: 3.12 | G48: 3.34 | I48: 2133.16 | J48: -2000 | K48: 420.46 | M48: 1368.51 | O48: 1855.48 | Q48: 1923.49 | R48: -15000 | S48: 4434.24 | U48: 13413.1 | W48: 19527.53 | Y48: 20153.64 | AB48: =SUM(C48:AA48) -> 48239.74
A49: №39 | B49: Хорошева | C49: 10.99 | E49: 9.68 | G49: 10.54 | I49: 13.64 | K49: 227.19 | M49: 533.71 | N49: -229 | O49: 470.64 | Q49: 396.48 | R49: -511.81 | S49: 675.44 | U49: 524.02 | V49: =-396.48-470.64-675.44 -> -1542.56 | W49: 12.06 | Y49: 11.79 | Z49: -600 | AB49: =SUM(C49:AA49) -> 12.81
A50: №40 | B50: Кожухова | C50: - р. | E50: - р. | G50: - р. | I50: - р. | K50: - р. | M50: 11.02 | O50: 167.03 | Q50: 281.9 | S50: 74.7 | U50: - р. | V50: -534.65 | W50: - р. | Y50: - р. | AB50: =SUM(C50:AA50) -> 0
A51: №41 | B51: Сахарова | C51: 3.17 | E51: 2.55 | G51: 2.75 | I51: 3.12 | K51: 2.83 | M51: 3.03 | O51: 2.98 | Q51: 2.98 | S51: 3.09 | U51: 3.14 | W51: 3.3 | Y51: 3.16 | AB51: =SUM(C51:AA51) -> 36.1
A52: №42 | B52: Павленко | C52: 3.98 | E52: 3.34 | G52: 3.61 | I52: 4.03 | K52: 404.5 | M52: 1867.65 | O52: 1401.33 | Q52: 1273.12 | R52: -4998.38 | S52: 939.07 | U52: 5.38 | W52: 4.21 | Y52: 3.97 | AB52: =SUM(C52:AA52) -> 915.81
A53: №43 | B53: Андреев | C53: 765.94 | D53: -235.77 | E53: 14.36 | F53: -765.94 | G53: 723.21 | I53: 1437.1 | J53: -3533.14 | K53: 1119.83 | M53: 800.53 | N53: =-2556.93-800.53 -> -3357.46 | O53: 843.31 | Q53: 910.34 | R53: =-843.3-910.34 -> -1753.64 | S53: 1109.32 | T53: -1109.32 | U53: 1877.35 | V53: -1877.35 | W53: 1978.27 | X53: -1978.27 | Y53: 1501.42 | Z53: -1501.42 | AB53: =SUM(C53:AA53) -> -3031.33
A54: №44 | B54: Макарычев | C54: 3.97 | E54: 3.29 | G54: 3.55 | I54: 3.92 | K54: 818.98 | M54: 1694.06 | O54: 552.13 | P54: -1246.29 | Q54: 1045.6 | S54: 1148.26 | U54: 3.88 | W54: 3.99 | Y54: 3.76 | AB54: =SUM(C54:AA54) -> 4039.1
A55: №45 | B55: Александрова | C55: 0.69 | E55: 0.54 | G55: 0.6 | I55: 0.69 | K55: 16.03 | M55: 209.34 | O55: 276.82 | P55: -502.19 | Q55: 315.82 | S55: 222.98 | U55: 0.74 | V55: -537.8 | W55: 0.72 | Y55: 0.75 | AB55: =SUM(C55:AA55) -> 5.73
A56: №46 | B56: Макаренков | C56: 120.29 | E56: 78.74 | F56: -280.53 | G56: 93.15 | I56: - р. | J56: -171.89 | K56: 608.83 | M56: 739.6 | N56: -608.83 | O56: 802.5 | P56: -739.6 | R56: -802.5 | AB56: =SUM(C56:AA56) -> -160.24
A57: №47 | B57: Степанова | C57: - р. | E57: - р. | G57: - р. | I57: 0.08 | K57: 930.16 | L57: -932.27 | M57: 585.27 | O57: 794.64 | Q57: 1131.41 | R57: =-794.64-1455.05 -> -2249.69 | S57: 696.61 | T57: -1131.41 | U57: - р. | V57: -696.61 | W57: - р. | Y57: - р. | AB57: =SUM(C57:AA57) -> -871.81
A58: №48 | B58: Севастьянов | C58: - р. | E58: - р. | G58: - р. | I58: - р. | K58: - р. | M58: 481.97 | O58: 756.21 | P58: -786 | Q58: 719.64 | S58: 211.43 | T58: -1475.85 | U58: - р. | V58: -212 | W58: - р. | Y58: - р. | AB58: =SUM(C58:AA58) -> -304.6
A59: №49 | B59: Жаркова, Филим | C59: 13.51 | E59: 2.86 | G59: 80.76 | H59: -878.27 | I59: 27.23 | K59: 240.86 | L59: -241 | M59: 361.72 | O59: 533.09 | P59: -381.72 | Q59: 698.34 | R59: =-774.14-2605.39 -> -3379.53 | S59: 953.86 | U59: 674.11 | W59: 325.69 | Y59: 33.57 | AB59: =SUM(C59:AA59) -> -934.92
A60: №50 | B60: Корчененкова | C60: 3.66 | E60: 3.06 | G60: 3.27 | I60: 3.61 | K60: 3.35 | M60: 587.98 | O60: 1288.57 | P60: =-1070.69-1879.9 -> -2950.59 | Q60: 757.63 | S60: 1073.49 | T60: =-771.23-2192.93 -> -2964.16 | U60: 11.92 | W60: 4.31 | Y60: 3.7 | AB60: =SUM(C60:AA60) -> -2170.2
A61: №51А | B61: Солдатов А. | C61: - р. | E61: - р. | G61: - р. | I61: - р. | K61: 5.66 | M61: 9.29 | O61: 3.35 | Q61: 0.67 | S61: 1.82 | U61: 8.67 | W61: 21.7 | Y61: - р. | AB61: =SUM(C61:AA61) -> 51.16
A62: №51Б | B62: Солдатов Ю. | C62: 10.39 | D62: -48.23 | E62: 8.7 | G62: 9.42 | I62: 13.43 | K62: 528.26 | L62: -41.94 | M62: - р. | N62: -528.26 | O62: - р. | Q62: 203.31 | S62: 371.42 | T62: =-1.69-203.31 -> -205 | U62: 135.52 | V62: =-371.42-135.52 -> -506.94 | W62: 8.14 | Y62: 7.82 | Z62: -20 | AB62: =SUM(C62:AA62) -> -53.96
A63: №52 | B63: Глот | C63: - р. | E63: - р. | G63: - р. | I63: - р. | K63: - р. | M63: - р. | O63: - р. | Q63: - р. | S63: - р. | U63: - р. | W63: - р. | Y63: - р. | AB63: =SUM(C63:AA63) -> 0
A64: №53 | B64: Власова | C64: - р. | E64: - р. | G64: - р. | I64: 72.05 | K64: 326.5 | M64: 173.95 | N64: -926.5 | O64: 265.67 | R64: -592.17 | AB64: =SUM(C64:AA64) -> -680.5
A65: №54 | B65: Панушкин | C65: - р. | E65: 0.05 | F65: -3120 | G65: 2.12 | I65: 1.38 | K65: 339.99 | M65: 116.96 | O65: 56.14 | Q65: 55.71 | R65: -300 | S65: 107.15 | U65: 123.53 | W65: 11.35 | Y65: 49.96 | AB65: =SUM(C65:AA65) -> -2555.66
A66: №55 | B66: Яхонтова | C66: 3.32 | E66: 2.8 | G66: 3.01 | I66: 3.34 | K66: 4.95 | M66: 49.7 | O66: 60 | Q66: 130.09 | S66: 7 | U66: 7.15 | W66: 3.48 | Y66: 3.25 | AB66: =SUM(C66:AA66) -> 278.09
A67: №55Б | B67: Ромашина | C67: 3.72 | E67: 3.12 | G67: 3.4 | I67: 3.72 | K67: 145.71 | M67: 1094.81 | O67: 1630.95 | P67: -3987 | Q67: 534.41 | S67: 1177.71 | U67: 536.12 | W67: 4.26 | Y67: 3.84 | AB67: =SUM(C67:AA67) -> 1154.77
A68: №56А | B68: Меньшова | C68: 0.88 | E68: 0.75 | G68: 0.77 | I68: 0.92 | J68: -700 | K68: 1.29 | M68: - р. | O68: 260.35 | Q68: 431.8 | S68: 98.81 | T68: -1000 | U68: 0.7 | W68: 0.91 | Y68: 0.67 | AB68: =SUM(C68:AA68) -> -902.15
A69: №56Б | B69: Кучер | C69: - р. | E69: - р. | G69: 0.23 | I69: 43.8 | K69: 185.89 | M69: - р. | O69: 80.68 | Q69: 330.99 | R69: -400 | S69: 242.28 | U69: 183.28 | W69: 64.86 | Y69: 2.83 | AB69: =SUM(C69:AA69) -> 734.84
A70: №57А | B70: Филатова | C70: 4.24 | E70: 3.55 | G70: 3.81 | I70: 4.24 | K70: 59.32 | M70: 340.52 | O70: 392.75 | Q70: 220.96 | S70: 59.15 | U70: 8.04 | V70: -1250 | W70: 36.05 | Y70: 4.16 | AB70: =SUM(C70:AA70) -> -113.21
A71: №57Б | B71: Подлегаева | C71: 3.24 | E71: 2.81 | G71: 3 | I71: 6.94 | K71: 7.4 | M71: - р. | O71: 152.81 | Q71: 195.23 | S71: 35.81 | U71: 11.52 | V71: -500 | W71: 5.33 | Y71: 3.54 | AB71: =SUM(C71:AA71) -> -72.37
A72: №58 | B72: Родин | C72: 3.26 | E72: 2.75 | G72: 3.03 | I72: 3.23 | K72: 27.45 | M72: 96.82 | O72: 79.87 | Q72: 83.1 | R72: -261 | S72: 92.51 | U72: 69.69 | W72: 6.89 | Y72: 1.15 | AB72: =SUM(C72:AA72) -> 208.75
A73: №59 | B73: Большов | C73: - р. | E73: - р. | G73: - р. | I73: - р. | K73: 60.48 | M73: 21.49 | O73: 61.79 | Q73: 26.11 | S73: 56.82 | U73: 93.17 | W73: - р. | Y73: - р. | AB73: =SUM(C73:AA73) -> 319.86
A74: №60А | B74: Костылева | C74: 1.03 | E74: 0.95 | G74: 0.88 | I74: 0.97 | K74: 125.68 | L74: -1000 | M74: 416.7 | O74: 481.48 | P74: =-450-500 -> -950 | Q74: 470.9 | R74: -500 | S74: 485.57 | U74: 26.96 | W74: 1.01 | Y74: 0.91 | AB74: =SUM(C74:AA74) -> -436.96
A75: №60Б | B75: Глебова | C75: - р. | E75: - р. | G75: - р. | I75: - р. | K75: 283.71 | M75: 463.05 | N75: -300 | O75: 457.16 | P75: =-483.05-301 -> -784.05 | Q75: 347.3 | S75: 835.5 | T75: -500 | U75: 8.73 | V75: -1000 | W75: - р. | Y75: - р. | AB75: =SUM(C75:AA75) -> -188.6
A76: №61 | B76: Парамонова | C76: 3.69 | E76: 3.12 | G76: 3.29 | I76: 4 | K76: 107.99 | M76: 199.81 | O76: 215.54 | P76: -108 | R76: -2100 | AB76: =SUM(C76:AA76) -> -1670.56
A77: №61А | B77: Парамонова | C77: 0.66 | E77: 0.54 | G77: 0.63 | I77: 1343.79 | K77: 240.46 | M77: 18.33 | O77: 40.44 | P77: -240.4 | AB77: =SUM(C77:AA77) -> 1404.45
A78: №62 | B78: Голубятникова | C78: 1183.93 | E78: 1004.69 | G78: 757.25 | I78: 783.39 | K78: 651.99 | L78: -6823.23 | M78: 1048.16 | N78: -1784.26 | O78: 1004.02 | Q78: 1168.6 | S78: 841.07 | U78: 1330.2 | W78: 847.79 | Y78: 646.12 | Z78: -5897.17 | AB78: =SUM(C78:AA78) -> -3237.45
A79: №62А | B79: Голубятникова | C79: 785.31 | E79: 15.38 | G79: 53.03 | I79: 0.61 | K79: 12.73 | M79: 71.38 | O79: 79.08 | Q79: 71.45 | S79: 23.58 | U79: 520.24 | W79: 11.14 | Y79: 63.71 | AB79: =SUM(C79:AA79) -> 1707.64
A80: №63 | B80: Федюшкин | C80: 0.91 | E80: 0.69 | G80: 0.81 | I80: 0.86 | K80: 54.04 | M80: 38.13 | O80: 35.56 | Q80: 33.35 | S80: 7.19 | T80: -400 | U80: 38.25 | W80: 0.9 | Y80: 0.9 | AB80: =SUM(C80:AA80) -> -188.41
A81: №64 | B81: Савкина | D81: -1433.28 | P81: -366.87 | AB81: =SUM(C81:AA81) -> -1800.15
A82: №65 | B82: Буланова | C82: 3.14 | E82: 2.69 | G82: 2.86 | I82: 3.18 | K82: 483.34 | L82: -441.43 | M82: 508.4 | O82: 427.07 | P82: -508.4 | Q82: 609.09 | S82: 139.62 | T82: -1036.16 | U82: 4.45 | W82: 3.27 | Y82: 3.14 | AB82: =SUM(C82:AA82) -> 204.26
A83: №66 | B83: Кудрявцева | C83: - р. | E83: - р. | G83: - р. | I83: 2.71 | K83: 57.67 | M83: - р. | N83: -57.67 | O83: 601.24 | P83: =-905.58-601.24 -> -1506.82 | Q83: 815.26 | R83: -815.26 | S83: 737.8 | U83: 641.88 | W83: 348.19 | Y83: - р. | Z83: -1727.87 | AB83: =SUM(C83:AA83) -> -902.87
A84: №67 | B84: сторожка | C84: 0.23 | E84: 0.14 | G84: 0.14 | I84: 47.83 | K84: 3.33 | M84: 7.01 | O84: 9.69 | Q84: 15.15 | S84: 5.03 | U84: 2.25 | W84: 0.34 | Y84: 0.21 | AB84: =SUM(C84:AA84) -> 91.35
A85: №68 | B85: Илюхина | C85: 0.11 | E85: 0.11 | G85: 0.2 | I85: 0.09 | K85: 138.67 | M85: 171.04 | O85: 177.22 | Q85: 205.57 | S85: 262.11 | T85: -558 | V85: -520.03 | AB85: =SUM(C85:AA85) -> -122.91
A86: №69 | B86: Кербер | C86: 3.95 | E86: 3.52 | G86: 4.12 | I86: 8 | K86: 414.5 | M86: 306.94 | O86: 359.6 | Q86: 203.69 | S86: 155.77 | U86: 248.63 | W86: 4.21 | X86: -1980 | Y86: 22.41 | AB86: =SUM(C86:AA86) -> -244.66
A87: №70 | B87: Бибина | C87: - р. | E87: - р. | G87: - р. | I87: 1.33 | K87: 483.14 | M87: - р. | N87: -483.14 | O87: 503.94 | Q87: 619.9 | S87: 1390.85 | T87: -503.94 | U87: 190.7 | V87: -619.9 | W87: 24.33 | X87: -1390.85 | Y87: - р. | AB87: =SUM(C87:AA87) -> 216.36
A88: №71 | B88: Кондратьева | C88: 4.95 | E88: 4.15 | F88: -1400 | G88: 4.46 | I88: 5.01 | K88: 384.79 | M88: 388.99 | N88: -400 | O88: 565.02 | P88: -400 | Q88: 448.36 | R88: =-1000-430-489 -> -1919 | S88: 1173.07 | U88: 1542.62 | W88: 5.17 | X88: =-1173.07-1542.62 -> -2715.69 | Y88: 4.88 | AB88: =SUM(C88:AA88) -> -2303.22
A89: №72 | B89: Суздальцев | C89: 3.87 | E89: 2.64 | G89: 3.32 | I89: 3.12 | K89: 4.59 | M89: 4.7 | O89: 35.82 | Q89: 200.76 | R89: -3217.91 | S89: 230.21 | U89: 169.61 | W89: 63.96 | Y89: 3.23 | AB89: =SUM(C89:AA89) -> -2492.08
A90: №73 | B90: Меньшов | C90: - р. | E90: - р. | G90: - р. | I90: - р. | K90: - р. | M90: - р. | O90: - р. | Q90: - р. | S90: - р. | U90: - р. | W90: - р. | Y90: - р. | AB90: =SUM(C90:AA90) -> 0
A91: №74 | B91: Гаврилова | C91: - р. | E91: - р. | G91: - р. | I91: 14.06 | K91: 902.17 | L91: -1000 | M91: 191.93 | O91: 1301.76 | Q91: 1512.87 | S91: 2214.69 | U91: 3133.88 | V91: -5230 | W91: - р. | Y91: - р. | AB91: =SUM(C91:AA91) -> 3041.36
A92: №75 | B92: Астафьев | C92: - р. | E92: - р. | G92: 7.27 | I92: 155.33 | K92: 338.97 | M92: 362.1 | O92: 368.03 | Q92: 299.61 | R92: -1072.69 | S92: 136.41 | U92: 59.3 | W92: - р. | X92: -495.32 | Y92: 12.17 | AB92: =SUM(C92:AA92) -> 171.18
A93: №76 | B93: Чеглова | C93: 134.04 | D93: -302.99 | E93: 27.9 | F93: -134.04 | G93: 21.66 | H93: -25.35 | I93: 157.56 | K93: 2909.98 | M93: 373.15 | N93: =-157.56-2909.98 -> -3067.54 | O93: 1115.95 | P93: -350 | Q93: 1122.65 | R93: -1115.95 | S93: 2813.8 | T93: -1171 | U93: 6755.39 | V93: -2814 | W93: 620.17 | X93: -6756 | Y93: 136.94 | Z93: =-620.17-136.94 -> -757.11 | AB93: =SUM(C93:AA93) -> -304.79
A94: №77 | B94: Озеров | C94: - р. | E94: - р. | G94: - р. | I94: - р. | K94: 20.38 | M94: 16.56 | O94: 13.17 | Q94: - р. | S94: 3.07 | U94: 4.31 | W94: - р. | Y94: - р. | AB94: =SUM(C94:AA94) -> 57.49
A95: №78 | B95: Нестеренко | C95: - р. | E95: - р. | G95: - р. | I95: - р. | K95: 58.75 | M95: 132.04 | O95: 132.52 | Q95: 126.15 | S95: 18.65 | T95: -1900 | U95: 160.87 | W95: - р. | Y95: - р. | AB95: =SUM(C95:AA95) -> -1271.02
A96: №79 | B96: Ханина | C96: 135.79 | E96: 114.61 | G96: 121.59 | I96: 134.79 | K96: 87.39 | M96: - р. | O96: 19.54 | P96: -11000 | Q96: 435.68 | S96: 207.32 | U96: 5.32 | V96: -750 | W96: 8.83 | Y96: 4.16 | AB96: =SUM(C96:AA96) -> -10474.98
A97: №80 | B97: Рыжова | C97: 33.9 | E97: - р. | G97: 26.63 | H97: -85.32 | I97: 37.9 | K97: 483.53 | M97: 406.36 | O97: 493.05 | P97: =-927.79-493.05 -> -1420.84 | Q97: 230.45 | R97: -230.45 | S97: 146.73 | T97: -146.73 | U97: 221.27 | W97: 130.96 | X97: -221.27 | Y97: 1.87 | AB97: =SUM(C97:AA97) -> 108.04
A98: №81 | B98: Пономарева | C98: 27.01 | E98: 21.3 | F98: -3000 | G98: 28.22 | I98: 268.76 | K98: 638.15 | M98: 489.21 | O98: 497.62 | P98: -2000 | AB98: =SUM(C98:AA98) -> -3029.73
A99: №82 | B99: Кочергова | C99: 3.44 | E99: 2.84 | G99: 3.01 | I99: 37 | K99: 757.52 | M99: 896.98 | N99: -1011 | O99: 1056.03 | Q99: 991.73 | R99: -1953.01 | S99: 832.61 | U99: 106.18 | W99: 3.44 | Y99: 3.32 | Z99: -1934.06 | AB99: =SUM(C99:AA99) -> -203.97
A100: №83 | B100: Коршунова | C100: - р. | E100: - р. | G100: - р. | I100: - р. | K100: - р. | M100: - р. | O100: - р. | Q100: - р. | S100: - р. | U100: - р. | W100: - р. | Y100: - р. | AB100: =SUM(C100:AA100) -> 0

Sheet 2013
A10: Участок | B10: ФИО | C10: 41275 | E10: 41306 | G10: 41334 | I10: 41365 | K10: 41395 | M10: 41426 | O10: 41456 | Q10: 41487 | S10: 41518 | U10: 41548 | W10: 41579 | Y10: 41609 | AB10: Итого
A11: №1 | B11: Рябцева | C11: 1739.52 | E11: 623.79 | F11: -1739.52 | G11: 2348.93 | H11: -623.79 | I11: 723.82 | J11: -2348.93 | K11: 1357.34 | L11: =-723.82-1357.34 -> -2081.16 | M11: 848.17 | O11: 1059.83 | P11: -848.17 | Q11: 1730.75 | R11: -1059.83 | S11: 2182.71 | U11: 1869.75 | V11: =-1059.83-1730.75-1122.88 -> -3913.46 | W11: 400.48 | X11: -1587.69 | Y11: 1221.46 | Z11: =-400.48-1221.46 -> -1621.94 | AB11: =SUM(C11:AA11) -> 282.06
A12: №2 | B12: Антипов | C12: 2.43 | E12: 18.48 | G12: 3.7 | I12: 9.46 | K12: 274.3 | M12: 308.26 | N12: -1100 | O12: 305.5 | Q12: 381.19 | S12: 758.35 | U12: 745.73 | W12: 259.57 | X12: -2500 | Y12: 15.58 | AB12: =SUM(C12:AA12) -> -517.45
A13: №3 | B13: Ханина | C13: 2.17 | E13: 0.74 | G13: 3.34 | I13: 2.17 | K13: 13.43 | M13: 15.98 | O13: 43.38 | Q13: 74.87 | S13: 35.75 | U13: 12.26 | W13: 2.23 | Y13: 2.61 | AB13: =SUM(C13:AA13) -> 208.93
A14: №5 | B14: Павлюк | C14: 129.75 | E14: 24.65 | G14: 101.56 | H14: -1500 | I14: 115.34 | K14: 544.4 | M14: 392.9 | O14: 1090.87 | Q14: 1292.78 | R14: -1423.4 | S14: 371.35 | U14: 428.84 | W14: 973.21 | Y14: 549.35 | AB14: =SUM(C14:AA14) -> 3091.6
A15: №6 | B15: Ребрина | C15: 45.79 | E15: - р. | G15: - р. | I15: 33.75 | K15: 163.21 | M15: 177.75 | N15: -815.95 | O15: 208.78 | Q15: 261.37 | S15: 312.89 | U15: 310.36 | W15: 323.88 | Y15: 156.33 | AB15: =SUM(C15:AA15) -> 1178.16
A16: №7 | B16: Еропкин | C16: 66.67 | E16: - р. | G16: - р. | I16: 1.07 | K16: 522.36 | M16: 625.97 | N16: -522.36 | O16: 396.11 | Q16: 455.28 | S16: 156.67 | U16: 125.24 | W16: 0.41 | Y16: - р. | AB16: =SUM(C16:AA16) -> 1827.42
A17: №8 | B17: Шатилов | C17: 13.5 | E17: 4.8 | G17: 20.09 | I17: 12.74 | K17: 740.39 | M17: 1107.72 | O17: 1396.42 | Q17: 1159.32 | S17: 1341.42 | U17: 1709.31 | W17: 746.83 | Y17: 1.77 | AB17: =SUM(C17:AA17) -> 8254.31
A18: №9 | B18: Ворнаков | C18: 3.08 | E18: 1.06 | G18: 4.77 | I18: 3.12 | K18: 3.01 | M18: 80.72 | O18: 119.91 | Q18: 126.77 | S18: 84.57 | U18: 118.48 | W18: 3.36 | Y18: 3.64 | AB18: =SUM(C18:AA18) -> 552.49
A19: №10 | B19: Усова | C19: - р. | E19: - р. | G19: - р. | I19: - р. | K19: 89.47 | M19: 94.27 | O19: 291.96 | P19: -94.27 | Q19: 337.5 | R19: -291.96 | S19: 109.91 | U19: 54.98 | V19: =-337.5-109.91 -> -447.41 | W19: 30.92 | Y19: 2.83 | AB19: =SUM(C19:AA19) -> 178.2
A20: №11 | B20: Щербачев | C20: 2.86 | E20: 0.96 | G20: 4.41 | I20: 2.79 | K20: 134.88 | M20: 170.16 | N20: -31.5 | O20: 202.02 | P20: -170.16 | Q20: 177.95 | S20: 214.78 | T20: -379.97 | U20: 201.95 | V20: -214.78 | W20: 3.17 | X20: -201.95 | Y20: 3.32 | AB20: =SUM(C20:AA20) -> 120.89
A21: №12 | B21: Козлов | C21: 0.32 | E21: 0.1 | G21: 1.11 | I21: 0.6 | K21: 229.57 | M21: 162.23 | N21: -450.8 | O21: 432.09 | P21: -162.23 | Q21: 550.56 | R21: -432.09 | S21: 260.46 | T21: -550.56 | U21: 651.29 | V21: -811.11 | W21: 1.24 | Y21: 1.26 | AB21: =SUM(C21:AA21) -> -115.96
A22: №13 | B22: Самсонов | C22: 223.9 | E22: 111.25 | G22: 143.74 | H22: -335.15 | I22: 175.5 | K22: 215.06 | L22: -319.24 | M22: 149.28 | O22: 203.33 | P22: =-100.86-384.34 -> -485.2 | Q22: 292.46 | S22: 539.05 | T22: -495.79 | U22: 1875.7 | V22: -2414.75 | W22: 1420.65 | Y22: 264.48 | AB22: =SUM(C22:AA22) -> 1564.27
A23: №14 | B23: Корчагина | C23: 12.52 | E23: 4.4 | G23: 19.41 | I23: 12.62 | K23: 278.19 | M23: 541.19 | O23: 498.65 | P23: =-418.03-541.19 -> -959.22 | Q23: 731.98 | R23: -498.65 | S23: 716.16 | T23: -731.98 | U23: 143.29 | W23: 24.4 | X23: -716.16 | Y23: 14.93 | AB23: =SUM(C23:AA23) -> 91.73
A24: №15 | B24: Кречет | C24: 737.47 | E24: 232.42 | G24: 345.02 | I24: 77.26 | K24: 918.03 | M24: 920.38 | N24: =-1779.22-918.03 -> -2697.25 | O24: 1389.58 | P24: =-920.38-1389.58 -> -2309.96 | Q24: 1574.63 | S24: 2238.5 | T24: -1574.63 | U24: 3664.58 | W24: 2259.71 | X24: =-2238.5-3664.58 -> -5903.08 | Y24: 1215.57 | Z24: =-2259.71-1215.57 -> -3475.28 | AB24: =SUM(C24:AA24) -> -387.05
A25: №16 | B25: Назаров | C25: 385 | E25: 176.91 | G25: 784.59 | I25: 520.04 | K25: 561.16 | M25: 492.11 | N25: =-9382.24-3000 -> -12382.24 | O25: 734.13 | Q25: 859.67 | S25: 335.41 | U25: 412.88 | W25: 689.64 | Y25: 429.74 | AB25: =SUM(C25:AA25) -> -6000.96
A26: №17 | B26: Розофарова | C26: 3.39 | E26: 1.18 | G26: 5.2 | I26: 3.39 | K26: 7.87 | L26: -334.17 | M26: 54.87 | O26: 112.25 | Q26: 148.12 | S26: 29.34 | U26: 31.46 | W26: 3.76 | Y26: 0.91 | AB26: =SUM(C26:AA26) -> 67.57
A27: №18 | B27: Пухова | C27: 42.08 | E27: - р. | G27: 59.23 | I27: 0.62 | K27: 349.18 | M27: 440.96 | O27: 608.91 | P27: -1300 | Q27: 596.94 | S27: 414.73 | U27: 1.89 | W27: 51.63 | Y27: 9.89 | AB27: =SUM(C27:AA27) -> 1276.06
A28: №19 | B28: Ермилина | C28: 2.97 | E28: 1.02 | G28: 4.66 | I28: 3.02 | K28: 28.64 | M28: 111.19 | O28: 131.32 | P28: -117.53 | Q28: 81.79 | R28: =-111.19-131.32 -> -242.51 | S28: 180.3 | T28: -81.79 | U28: 253.66 | W28: 3.22 | X28: -433.96 | Y28: 0.06 | AB28: =SUM(C28:AA28) -> -73.94
A29: №20 | B29: Артюхова | C29: - р. | E29: - р. | G29: - р. | I29: - р. | K29: 125.78 | M29: 442.39 | N29: -381.34 | O29: 584.67 | P29: -442.39 | Q29: 642.72 | R29: -584.67 | S29: 426.39 | U29: 332.59 | W29: 329.49 | X29: -1401.7 | Y29: - р. | Z29: -329.49 | AB29: =SUM(C29:AA29) -> -255.56
A30: №21 | B30: Виноградова | C30: 143.96 | E30: 51.24 | G30: 227.87 | I30: 397.94 | K30: 1756.07 | L30: -8171.34 | M30: 1272.35 | O30: 2157.79 | P30: -5186.21 | Q30: 2799.7 | S30: 2778.46 | T30: -2800 | U30: 2747.1 | V30: -2778.46 | W30: 2751.41 | X30: -2747.1 | Y30: 3758.71 | Z30: -2751.41 | AB30: =SUM(C30:AA30) -> -3591.92
A31: №22 | B31: Волчкова | C31: 1.54 | E31: 0.54 | G31: 2.35 | I31: 1.59 | K31: 292.24 | M31: 529.37 | N31: -1085.2 | O31: 533.01 | P31: -527.39 | Q31: 623.76 | R31: -533.01 | S31: 1339.03 | T31: -623.76 | U31: 294.78 | W31: 3.79 | Y31: 2.11 | Z31: -1340 | AB31: =SUM(C31:AA31) -> -485.25
A32: №23 | B32: Горбунов | C32: 3.97 | E32: 1.39 | G32: 5.98 | I32: 3.93 | J32: -58.94 | K32: 80.94 | M32: 122.78 | N32: =-3.86-3.97-7.67-11.3-34.52-80.94 -> -142.26 | O32: 240.36 | P32: -122.78 | Q32: 199.64 | R32: -240.36 | S32: 89.16 | U32: 260.74 | W32: 351.83 | X32: =-89.16-199.64-260.74 -> -549.54 | Y32: 43.5 | Z32: -351.83 | AB32: =SUM(C32:AA32) -> -61.49
A33: №24 | B33: Мартанова | C33: 3.08 | E33: 1.07 | G33: 4.73 | I33: 3.12 | K33: 601.24 | M33: 409.23 | O33: 734.53 | Q33: 1205.52 | S33: 1267.87 | U33: 326.24 | V33: -200 | W33: 265.18 | Y33: 3.61 | AB33: =SUM(C33:AA33) -> 4625.42
A34: №25 | B34: Садовникова | C34: 3.14 | E34: 1.11 | G34: 4.87 | I34: 3.08 | K34: 43.78 | M34: 166.8 | N34: -200 | O34: 237.43 | Q34: 239.56 | R34: -220 | S34: 340.88 | U34: 49.4 | W34: 3.52 | Y34: 3.49 | AB34: =SUM(C34:AA34) -> 677.06
A35: №26 | B35: Колотушкина | C35: - р. | E35: - р. | G35: - р. | I35: - р. | K35: 40.26 | M35: 54.44 | O35: 219.82 | Q35: 308.65 | R35: -314.52 | S35: 37.98 | U35: - р. | V35: -346.63 | W35: - р. | Y35: - р. | AB35: =SUM(C35:AA35) -> 0
A36: №26Б | B36: Андреева | C36: - р. | E36: - р. | G36: - р. | I36: - р. | K36: - р. | M36: - р. | O36: 257.15 | Q36: 673.36 | R36: -257.15 | S36: 33.06 | U36: - р. | V36: -706.42 | W36: - р. | Y36: - р. | AB36: =SUM(C36:AA36) -> 0
A37: №27 | B37: Рассказихин | C37: 2.95 | E37: 1 | G37: 4.43 | I37: 2.87 | K37: 89.28 | M37: 224.22 | O37: 215.74 | Q37: 126.73 | S37: 30.86 | T37: -800 | U37: 2.91 | W37: 2.92 | Y37: 3.37 | AB37: =SUM(C37:AA37) -> -92.72
A38: №28 | B38: Хруцкая | C38: 3.08 | E38: 1.11 | G38: 4.74 | I38: 3.06 | K38: 2.95 | M38: 2.97 | O38: 98.64 | P38: -456.44 | Q38: 112.39 | S38: 64.64 | U38: 3.36 | W38: 3.32 | Y38: 3.6 | AB38: =SUM(C38:AA38) -> -152.58
A39: №29 | B39: Сахаров | C39: 8.14 | E39: 2.82 | G39: 12.7 | I39: 8.36 | K39: 8.08 | M39: 11.38 | O39: 9.19 | Q39: 151.85 | S39: - р. | U39: 1.7 | W39: - р. | Y39: - р. | AB39: =SUM(C39:AA39) -> 214.22
A40: №30 | B40: Засыпкина | C40: - р. | E40: - р. | G40: - р. | I40: - р. | K40: 657.17 | L40: =-295.4-657.17 -> -952.57 | M40: 566.43 | O40: 572.15 | P40: =-566.43-572.15 -> -1138.58 | Q40: 755.89 | S40: 1342.36 | T40: =-755.89-1342.36 -> -2098.25 | U40: 24.2 | W40: - р. | Y40: - р. | AB40: =SUM(C40:AA40) -> -271.2
A41: №31А | B41: Сизых | C41: - р. | E41: - р. | G41: - р. | I41: - р. | K41: 72.44 | M41: 312.57 | O41: 386.46 | P41: -211.5 | Q41: 379.15 | S41: 429.9 | T41: -765.61 | U41: 11.39 | V41: -429.9 | W41: - р. | Y41: - р. | Z41: -11.39 | AB41: =SUM(C41:AA41) -> 173.51
A42: №31Б | B42: Акмеева | C42: 10.79 | E42: 1.17 | G42: 16.1 | I42: 3.42 | K42: 65.93 | L42: -827.13 | M42: 228.81 | O42: 188.59 | Q42: 325.93 | R42: -326 | S42: 239.67 | U42: 491.07 | W42: 17.13 | Y42: 185.18 | AB42: =SUM(C42:AA42) -> 620.66
A43: №32 | B43: Горюшкин | C43: 7.81 | E43: 2.76 | G43: 12.27 | I43: 8.27 | K43: 310.71 | L43: =-16.98-31.11 -> -48.09 | M43: 877.78 | N43: -310.71 | O43: 921.4 | P43: -877.78 | Q43: 1083.88 | R43: =-921.4-1083.88 -> -2005.28 | S43: 1523.02 | U43: 560.46 | V43: =-1523.02-560.46 -> -2083.48 | W43: 183.23 | Y43: 9.57 | Z43: -183.23 | AB43: =SUM(C43:AA43) -> -7.41
A44: №33 | B44: Житенев | C44: 1.55 | E44: 0.54 | G44: 2.49 | I44: 1.55 | K44: 706.96 | M44: 498.32 | O44: 564.75 | Q44: 745.16 | S44: 1849.74 | T44: -2523 | U44: 3571.1 | W44: 1654.53 | Y44: 2.04 | Z44: -7075.37 | AB44: =SUM(C44:AA44) -> 0.36
A45: №34 | B45: Корчененков | C45: 9016.45 | D45: -10000 | E45: 2038.44 | G45: 10047.81 | I45: 2363.48 | K45: 1477.71 | M45: 1696.73 | O45: 2576.67 | P45: -25730 | Q45: 2287.88 | S45: 4821.27 | U45: 6905.02 | W45: 987.44 | Y45: 5038.27 | AB45: =SUM(C45:AA45) -> 13527.17
A46: №35 | B46: Осипова, Яковл. | C46: 3.2 | E46: 1.13 | G46: 4.99 | I46: 3.23 | K46: 188.06 | M46: 199.04 | O46: 482.91 | Q46: 961.8 | S46: 2055.28 | U46: 183.23 | W46: 3.53 | X46: -2055.28 | Y46: 3.78 | AB46: =SUM(C46:AA46) -> 2034.9
A47: №36 | B47: Кулишкин | C47: - р. | E47: - р. | G47: - р. | I47: - р. | K47: 1.85 | M47: 47.36 | O47: 112.53 | P47: =-500-47.36 -> -547.36 | Q47: 47.57 | R47: -112.53 | S47: 6.3 | U47: - р. | W47: 0.02 | X47: -47.57 | Y47: - р. | AB47: =SUM(C47:AA47) -> -491.83
A48: №37 | B48: Бирюков | C48: 2.91 | E48: 1.02 | G48: 4.54 | I48: 2.91 | K48: 815.99 | M48: 1033.47 | O48: 936.55 | Q48: 319.16 | S48: 226.22 | U48: 171.61 | W48: 3.34 | Y48: 3.49 | AB48: =SUM(C48:AA48) -> 3521.21
A49: №39 | B49: Хорошева | C49: 9.15 | E49: 3.23 | G49: 14.2 | I49: 9.24 | K49: 111.47 | M49: 246.38 | O49: 328.59 | P49: -246.38 | Q49: 344.51 | R49: -328.59 | S49: 370.63 | T49: -433.51 | U49: 240.15 | W49: 7.8 | Y49: 10.63 | Z49: =-284.63-500 -> -784.63 | AB49: =SUM(C49:AA49) -> -97.13
A50: №40 | B50: Кожухова | C50: 0.07 | E50: 0.05 | G50: 0.12 | I50: 0.11 | K50: 15.96 | M50: 144.96 | O50: 180.79 | P50: =-20-144.96 -> -164.96 | Q50: 183.8 | S50: 57.49 | U50: - р. | V50: -190 | W50: - р. | Y50: - р. | AB50: =SUM(C50:AA50) -> 228.39
A51: №41 | B51: Сахарова | C51: 2.39 | E51: 0.85 | G51: 3.71 | I51: 2.36 | K51: 2.49 | M51: 2.53 | O51: 2.79 | Q51: 2.89 | S51: 3.08 | U51: 2.89 | W51: 2.85 | Y51: 3.11 | AB51: =SUM(C51:AA51) -> 31.94
A52: №42 | B52: Павленко | C52: 3.3 | E52: 1.15 | G52: 5.11 | I52: 3.37 | K52: 296.69 | M52: 2063.19 | O52: 2277.6 | Q52: 1605.98 | R52: -2063.19 | S52: 15.82 | U52: 14.11 | V52: =-360-1605.98-2777.6 -> -4743.58 | W52: 3.49 | Y52: 2.52 | AB52: =SUM(C52:AA52) -> -514.44
A53: №43 | B53: Андреев | C53: - р. | E53: - р. | G53: - р. | I53: - р. | K53: 631.74 | M53: 637.05 | N53: =-1009.05-631.74 -> -1640.79 | O53: 790.65 | Q53: 823.98 | S53: 1368.39 | U53: 2795.57 | V53: -3620.06 | W53: 1891.05 | Y53: 235.77 | Z53: -1891.15 | AB53: =SUM(C53:AA53) -> 2022.2
A54: №44 | B54: Макарычев | C54: 3.05 | E54: 1.11 | G54: 4.74 | I54: 3.13 | K54: 2042.51 | L54: -3654.87 | M54: 2315.02 | O54: 2125.07 | Q54: 2210.41 | S54: 1168.59 | U54: 3.31 | V54: -7819.09 | W54: 3.46 | Y54: 3.68 | AB54: =SUM(C54:AA54) -> -1589.88
A55: №45 | B55: Александрова | C55: - р. | E55: - р. | G55: - р. | I55: - р. | K55: 1.55 | M55: 173.17 | O55: 250.79 | Q55: 271.63 | S55: 202.67 | T55: -1182.14 | U55: 0.55 | W55: 0.6 | Y55: 0.71 | AB55: =SUM(C55:AA55) -> -280.47
A56: №46 | B56: Макаренков | C56: 2.23 | E56: 58.39 | G56: 94.95 | I56: 6.17 | K56: 274.99 | L56: -220.07 | M56: 383.51 | O56: 538.27 | P56: -383.51 | Q56: 648.4 | R56: -538.27 | S56: 654.01 | T56: -648.4 | U56: 843.59 | W56: 75.5 | X56: -1497.6 | Y56: 160.24 | Z56: -75.5 | AB56: =SUM(C56:AA56) -> 376.9
A57: №47 | B57: Степанова | C57: - р. | E57: - р. | G57: - р. | I57: 0.32 | K57: 1024.78 | M57: 853.66 | O57: 1569.4 | P57: -1878.76 | Q57: 1233.4 | S57: 336.25 | T57: =-1233.4-1569.4 -> -2802.8 | U57: 79.91 | V57: =-336.25-79.91 -> -416.16 | W57: 2.03 | Y57: - р. | AB57: =SUM(C57:AA57) -> 2.03
A58: №48 | B58: Севастьянов | C58: - р. | E58: - р. | G58: - р. | I58: - р. | K58: - р. | M58: 316.65 | O58: 636.61 | P58: -320 | Q58: 571.16 | S58: 377.17 | T58: -1207.77 | U58: - р. | W58: - р. | X58: -372 | Y58: - р. | AB58: =SUM(C58:AA58) -> 1.82
A59: №49 | B59: Жаркова, Филим | C59: 29.67 | E59: 8.54 | G59: 42.27 | I59: 24.73 | K59: 120.51 | M59: 247.02 | N59: =-105.21-2206.92-150 -> -2462.13 | O59: 680.2 | Q59: 878.27 | R59: -680.2 | S59: 321.86 | U59: 653.31 | W59: 426.1 | Y59: 157.11 | AB59: =SUM(C59:AA59) -> 447.26
A60: №50 | B60: Корчененкова | C60: 3.23 | E60: 1.15 | G60: 4.96 | I60: 3.23 | K60: 209.06 | M60: 688.26 | O60: 737.67 | P60: -688.26 | Q60: 932.14 | R60: =-737.67-932.14 -> -1669.81 | S60: 1961.87 | U60: 1070.69 | W60: 4.16 | Y60: 5.27 | AB60: =SUM(C60:AA60) -> 3263.62
A61: №51А | B61: Солдатов А. | C61: - р. | E61: - р. | G61: - р. | I61: - р. | K61: 2.26 | M61: 2.1 | O61: 6.99 | Q61: 14.11 | S61: 33.49 | U61: 18.03 | W61: 13.75 | Y61: - р. | Z61: -100 | AB61: =SUM(C61:AA61) -> -9.27
A62: №51Б | B62: Солдатов Ю. | C62: 8.36 | E62: 2.97 | G62: 12.93 | I62: 8.44 | K62: 415.91 | M62: 394.29 | N62: -467.06 | O62: 630.29 | P62: -394.29 | Q62: 560.39 | R62: -630.29 | S62: 444.4 | T62: -560.39 | U62: 30.98 | V62: -444.4 | W62: 8.97 | Y62: 10.01 | AB62: =SUM(C62:AA62) -> 31.51
A63: №52 | B63: Глот | C63: 3.49 | E63: 1.24 | G63: 5.25 | I63: 3.34 | K63: 40.11 | M63: 87.3 | O63: 173.78 | Q63: 145.01 | R63: -388.19 | S63: - р. | U63: - р. | W63: - р. | Y63: - р. | AB63: =SUM(C63:AA63) -> 71.33
A64: №53 | B64: Власова | C64: - р. | E64: - р. | G64: - р. | I64: - р. | K64: 78.81 | M64: 90.89 | N64: -100 | O64: 205.45 | Q64: 170.41 | S64: 131.39 | T64: -516.75 | U64: 79.07 | W64: - р. | Y64: - р. | AB64: =SUM(C64:AA64) -> 139.27
A65: №54 | B65: Панушкин | C65: - р. | E65: - р. | G65: - р. | I65: - р. | K65: - р. | M65: - р. | O65: 2.84 | Q65: 67.9 | S65: 51.16 | U65: 209.81 | W65: 1482.14 | Y65: 5.84 | AB65: =SUM(C65:AA65) -> 1819.69
A66: №55 | B66: Яхонтова | C66: 2.65 | E66: 0.91 | G66: 4.12 | I66: 2.65 | K66: 5.17 | M66: 56.86 | O66: 84.17 | Q66: 48.32 | S66: 4.5 | U66: 6.25 | V66: -400 | W66: 3.83 | Y66: 3.18 | AB66: =SUM(C66:AA66) -> -177.39
A67: №55Б | B67: Ромашина | C67: 3.08 | E67: 1.07 | G67: 4.62 | I67: 2.86 | K67: 232.97 | M67: 468.27 | O67: 144.22 | Q67: 268.15 | S67: 3.11 | U67: 3.16 | W67: 3.51 | Y67: 3.51 | AB67: =SUM(C67:AA67) -> 1138.53
A68: №56А | B68: Меньшова | C68: - р. | E68: - р. | G68: - р. | I68: - р. | K68: 1.22 | M68: 243.46 | N68: -191 | O68: 362.64 | Q68: 58.94 | R68: -597 | S68: 5.49 | U68: 2.3 | W68: 0.88 | Y68: 0.83 | AB68: =SUM(C68:AA68) -> -112.24
A69: №56Б | B69: Кучер | C69: - р. | E69: - р. | G69: - р. | I69: - р. | K69: 134.21 | M69: 290.72 | N69: -1000 | O69: 284.29 | P69: -300 | Q69: 294.73 | S69: 195.75 | U69: 107.79 | W69: 97.08 | Y69: 173.97 | AB69: =SUM(C69:AA69) -> 278.54
A70: №57А | B70: Подлегаева | C70: 3.3 | E70: 1.15 | G70: 5.13 | I70: 3.23 | K70: 70.97 | M70: 237.77 | O70: 227.79 | Q70: 267.41 | S70: 58.09 | U70: 45.6 | V70: -1000 | W70: 78.77 | Y70: 4.06 | AB70: =SUM(C70:AA70) -> 3.27
A71: №57Б | B71: Филатова | C71: 2.73 | E71: 1 | G71: 4.15 | I71: 2.58 | K71: 35.97 | M71: 195.54 | O71: 206.48 | Q71: 172.25 | S71: 241.22 | U71: 10.17 | V71: -1100 | W71: 2.72 | Y71: 2.89 | AB71: =SUM(C71:AA71) -> -222.3
A72: №58 | B72: Родин | C72: 2.65 | E72: 0.95 | G72: 4.05 | I72: 2.64 | K72: 22.55 | M72: 34.22 | N72: -223.75 | O72: 35 | Q72: 25.45 | S72: 19.83 | U72: 8.01 | W72: 3.63 | Y72: 3.17 | AB72: =SUM(C72:AA72) -> -61.6
A73: №59 | B73: Большов | C73: - р. | E73: - р. | G73: - р. | I73: - р. | K73: 13.47 | M73: 9.95 | O73: 9.02 | P73: -500 | Q73: 22.31 | S73: 3.77 | T73: -500 | U73: 14.63 | W73: - р. | Y73: - р. | AB73: =SUM(C73:AA73) -> -926.85
A74: №60А | B74: Костылева | C74: 0.65 | E74: 0.23 | G74: 1.07 | I74: 0.74 | K74: 54.55 | M74: 307.75 | N74: -600 | O74: 361.04 | Q74: 474.71 | R74: -1000 | S74: 486.61 | T74: -480 | U74: 1.57 | V74: -500 | W74: 0.79 | Y74: 0.98 | AB74: =SUM(C74:AA74) -> -889.31
A75: №60Б | B75: Глебова | C75: - р. | E75: - р. | G75: - р. | I75: - р. | K75: 257.82 | M75: 224.38 | O75: 200.71 | P75: -224.38 | Q75: 222.37 | S75: 65.85 | T75: -423.08 | U75: 0.09 | W75: - р. | Y75: - р. | AB75: =SUM(C75:AA75) -> 323.76
A76: №61 | B76: Парамонова | C76: 2.6 | E76: 1.26 | G76: 4.4 | I76: 3.05 | K76: 72.94 | M76: 140.26 | N76: =-309.61-351.73 -> -661.34 | O76: 242.87 | P76: =8.21-110.23-72.94-140.26 -> -315.22 | Q76: 259.49 | S76: 193.59 | T76: =-67-502.36 -> -569.36 | U76: 29.42 | W76: 33.78 | Y76: 3.69 | Z76: -702.47 | AB76: =SUM(C76:AA76) -> -1261.04
A77: №61А | B77: Парамонова | C77: 0.45 | E77: 0.21 | G77: 0.71 | I77: 0.5 | K77: 110.23 | M77: 8.21 | O77: 27.18 | Q77: 39.35 | S77: 38.34 | U77: 30.64 | W77: 115.65 | Y77: 0.77 | AB77: =SUM(C77:AA77) -> 372.24
A78: №62 | B78: Голубятникова | C78: 974.56 | E78: 207.72 | G78: 1103.91 | H78: -5991.84 | I78: 599.55 | K78: 962.37 | M78: 816.28 | N78: -3328.21 | O78: 1084.54 | Q78: 1093.23 | S78: 955.94 | U78: 763.08 | V78: -4333.2 | W78: 592.75 | Y78: 1055.57 | AB78: =SUM(C78:AA78) -> -3443.75
A79: №62А | B79: Голубятникова | C79: 491.36 | E79: 0.15 | G79: 402.8 | I79: 0.43 | K79: 51.29 | M79: 33.47 | O79: 100.1 | Q79: 74.01 | S79: 175.63 | U79: 6.47 | W79: 0.85 | Y79: 324.24 | AB79: =SUM(C79:AA79) -> 1660.8
A80: №63 | B80: Федюшкин | C80: 0.69 | E80: 0.22 | G80: 1.1 | I80: 0.73 | K80: 2.54 | M80: 131.93 | O80: 41.88 | Q80: 89.38 | S80: 3.39 | U80: 4.93 | W80: 0.83 | Y80: 0.85 | AB80: =SUM(C80:AA80) -> 278.47
A81: №64 | B81: Савкина | C81: 434.12 | E81: 154.28 | G81: 673.19 | I81: 443.23 | J81: -673.19 | K81: 452.46 | L81: -443.23 | M81: 469.09 | O81: 643.38 | P81: -921.55 | Q81: 677.44 | S81: 708.45 | T81: -1320.8 | U81: 631.32 | W81: 572.26 | X81: -1202.27 | Y81: 861.02 | AB81: =SUM(C81:AA81) -> 2159.2
A82: №65 | B82: Буланова | C82: 2.47 | E82: 0.89 | G82: 3.88 | I82: 2.47 | K82: 11.09 | M82: 428.23 | N82: -206.19 | O82: 385.98 | P82: -441 | Q82: 430.1 | R82: -814.21 | S82: 565.79 | T82: -996 | U82: 3.11 | W82: 2.8 | Y82: 2.98 | AB82: =SUM(C82:AA82) -> -617.61
A83: №66 | B83: Кудрявцева | C83: - р. | E83: - р. | G83: 21.17 | I83: - р. | K83: 5.01 | M83: 668.98 | O83: 908.17 | P83: -673.99 | Q83: 1181.96 | R83: -908.17 | S83: 150.02 | T83: -1181.96 | U83: 204.75 | W83: 348.45 | Y83: 2.21 | AB83: =SUM(C83:AA83) -> 726.6
A84: №67 | B84: сторожка | C84: 0.12 | E84: - р. | G84: 0.12 | I84: - р. | K84: 1.93 | M84: 3.17 | O84: 10.62 | Q84: 15.33 | S84: 10.4 | U84: 4.16 | W84: 0.68 | Y84: 0.11 | AB84: =SUM(C84:AA84) -> 46.64
A85: №68 | B85: Илюхина | C85: 2.94 | E85: 1.02 | G85: 4.48 | I85: 2.9 | K85: 57.27 | M85: 118.9 | O85: 149.11 | Q85: 174.63 | S85: 173.36 | U85: 114.68 | V85: -673.27 | W85: 36.86 | Y85: 0.05 | AB85: =SUM(C85:AA85) -> 162.93
A86: №69 | B86: Кербер | C86: 3.68 | E86: 1.28 | G86: 5.72 | I86: 3.7 | K86: 166.52 | M86: 128.1 | O86: 318.36 | Q86: 335.4 | S86: 187.86 | U86: 16.76 | W86: 15.26 | X86: -1500 | Y86: 3.92 | AB86: =SUM(C86:AA86) -> -313.44
A87: №70 | B87: Бибина | C87: - р. | E87: - р. | G87: - р. | I87: - р. | K87: 521.66 | M87: 582.02 | O87: 484.82 | Q87: 822.35 | S87: 1571.33 | T87: =-1571.33-1756.85 -> -3328.18 | U87: 66.51 | W87: 32.89 | Y87: - р. | AB87: =SUM(C87:AA87) -> 753.4
A88: №71 | B88: Кондратьева | C88: 3.93 | E88: 1.37 | G88: 6.1 | I88: 4.01 | K88: 408.32 | M88: 642.42 | O88: 660.97 | P88: -645 | Q88: 678.54 | S88: 1339.55 | T88: -1700 | U88: 369.5 | W88: 4.46 | Y88: 4.72 | AB88: =SUM(C88:AA88) -> 1778.89
A89: №72 | B89: Суздальцев | C89: 2.54 | E89: 0.91 | G89: 3.88 | I89: 2.45 | K89: 7.68 | M89: 178.95 | O89: 163.96 | Q89: 263.28 | S89: 143.74 | U89: 77.45 | W89: 148.21 | Y89: 35.2 | AB89: =SUM(C89:AA89) -> 1028.25
A90: №73 | B90: Меньшов | C90: - р. | E90: - р. | G90: - р. | I90: - р. | K90: - р. | M90: - р. | O90: - р. | Q90: - р. | S90: - р. | U90: - р. | W90: - р. | Y90: - р. | AB90: =SUM(C90:AA90) -> 0
A91: №74 | B91: Гаврилова | C91: 2.65 | E91: 0.96 | G91: 4.15 | I91: 334.38 | K91: 654.96 | M91: 921.21 | O91: 1199.64 | Q91: 1282.61 | S91: 1618.78 | U91: 2377.5 | W91: - р. | Y91: - р. | AB91: =SUM(C91:AA91) -> 8396.84
A92: №75 | B92: Астафьев | C92: 2.49 | E92: 0.87 | G92: 3.86 | I92: 2.49 | K92: 471.98 | M92: 336.07 | O92: 217.91 | Q92: 553.5 | R92: -1308 | S92: 172.34 | U92: 120.32 | V92: -943.75 | W92: 95.76 | Y92: - р. | Z92: -157.18 | AB92: =SUM(C92:AA92) -> -431.34
A93: №76 | B93: Чеглова | C93: 11.63 | E93: - р. | G93: - р. | I93: 0.04 | K93: 189.44 | L93: -1896.83 | M93: 1060.6 | N93: -2128.24 | O93: 1309.98 | P93: -1060.6 | Q93: 1120.94 | R93: -1309.98 | S93: 1903.64 | T93: -1120.84 | U93: 155.19 | V93: -1903.64 | W93: 452.79 | X93: -155.19 | Y93: 302.99 | Z93: -452.79 | AB93: =SUM(C93:AA93) -> -3520.87
A94: №77 | B94: Озеров | C94: - р. | E94: - р. | G94: - р. | I94: - р. | K94: 2.3 | M94: 17.96 | O94: - р. | Q94: 8.56 | S94: - р. | U94: 5.11 | W94: - р. | Y94: - р. | AB94: =SUM(C94:AA94) -> 33.93
A95: №78 | B95: Нестеренко | C95: - р. | E95: - р. | G95: - р. | I95: - р. | K95: 89.17 | M95: 137.83 | N95: -900 | O95: 109.82 | Q95: 190.99 | S95: 80.59 | U95: 121.43 | W95: 5.75 | Y95: - р. | AB95: =SUM(C95:AA95) -> -164.42
A96: №79 | B96: Ханина | C96: 3.2 | E96: 1.15 | G96: 4.95 | I96: 3.24 | K96: 1630.25 | M96: 2390.51 | O96: 1160.8 | Q96: 1931.34 | S96: 2544.01 | U96: 65.55 | W96: 118.05 | Y96: 126.58 | AB96: =SUM(C96:AA96) -> 9979.63
A97: №80 | B97: Рыжова | C97: - р. | E97: - р. | G97: - р. | H97: -220.8 | I97: 1.69 | K97: 172.89 | M97: 375.26 | N97: -174.58 | O97: 159.95 | Q97: 120.59 | R97: -535.21 | S97: 382.54 | U97: 324.51 | V97: -503.13 | W97: 84.27 | Y97: 24.79 | Z97: -408.78 | AB97: =SUM(C97:AA97) -> -196.01
A98: №81 | B98: Пономарева | C98: 20.99 | E98: 7.33 | G98: 32.6 | I98: 45.38 | K98: 329.44 | M98: 320.3 | O98: 517.68 | P98: -1542.43 | Q98: 520.15 | S98: 447.07 | U98: 342.75 | W98: 177.87 | Y98: 26.27 | AB98: =SUM(C98:AA98) -> 1245.4
A99: №82 | B99: Кочергова | C99: 2.75 | E99: 0.98 | G99: 4.14 | I99: 2.73 | K99: 399.57 | M99: 502.8 | N99: -521.33 | O99: 752.37 | P99: -1000 | Q99: 896.47 | S99: 858.71 | U99: 197.98 | W99: 3.08 | Y99: 3.23 | Z99: -2545.21 | AB99: =SUM(C99:AA99) -> -441.73
A100: №83 | B100: Коршунова | Y100: - р. | AB100: =SUM(C100:AA100) -> 0

Sheet 2012
A10: Участок | B10: ФИО | C10: 40909 | E10: 40940 | G10: 40969 | I10: 41000 | K10: 41030 | M10: 41061 | O10: 41091 | Q10: 41122 | S10: 41153 | U10: 41183 | W10: 41214 | Y10: 41244 | AB10: Итого
A11: №1 | B11: Рябцева | C11: 1959.23 | E11: 2582.58 | F11: -1959.23 | G11: 1506.56 | I11: 618.33 | J11: -1506.56 | K11: 1234.34 | L11: -618.33 | M11: 1063.56 | N11: -1234.34 | O11: 789.66 | P11: -2743.38 | Q11: 773.68 | R11: =-789.66-1063.56 -> -1853.22 | S11: 1792.53 | U11: 574.68 | V11: -3355.87 | W11: 625.86 | Y11: 1724.69 | Z11: =-574.68-625.86 -> -1200.54 | AB11: =SUM(C11:AA11) -> 774.23
A12: №2 | B12: Антипов | C12: 7.07 | E12: 2.2 | G12: 1.96 | I12: 34.13 | K12: 382.93 | M12: 398.48 | O12: 315.93 | Q12: 405.04 | R12: -1135.63 | S12: 551.93 | T12: -460.37 | U12: 163.15 | W12: 68.35 | Y12: 8.1 | AB12: =SUM(C12:AA12) -> 743.27
A13: №3 | B13: Ханина | C13: 2.04 | E13: 1.96 | G13: 1.65 | I13: 3.11 | K13: 10.52 | M13: 50.3 | O13: 183.09 | Q13: 252.93 | R13: -1138.72 | S13: 252.71 | U13: 34.99 | W13: 2.62 | Y13: 2.12 | AB13: =SUM(C13:AA13) -> -340.68
A14: №5 | B14: Павлюк | C14: 11.18 | E14: 180.11 | G14: 67.48 | I14: 327.13 | K14: 546.29 | M14: 768.87 | O14: 300 | P14: -1315.16 | Q14: 173.03 | S14: 753.58 | T14: -1726.61 | U14: 511.26 | W14: 94.93 | Y14: 210.3 | AB14: =SUM(C14:AA14) -> 902.39
A15: №6 | B15: Ребрина | C15: 10.56 | E15: 3.85 | G15: 3.14 | I15: 4.42 | K15: 12.63 | M15: 94.2 | O15: 83.25 | Q15: 185.49 | S15: 262.18 | U15: 21.01 | W15: 17.55 | Y15: 1.7 | AB15: =SUM(C15:AA15) -> 699.98
A16: №7 | B16: Еропкин | C16: 1.63 | E16: 2.95 | G16: - р. | I16: - р. | K16: 201.44 | M16: 408.85 | O16: 287.52 | Q16: 311.25 | S16: - р. | T16: -2793.48 | U16: 166.19 | W16: 18.24 | Y16: 27.45 | AB16: =SUM(C16:AA16) -> -1367.96
A17: №8 | B17: Шатилов | C17: 10.75 | E17: 413.74 | G17: 15.66 | I17: 28.7 | K17: 898.67 | M17: 673.07 | O17: 518.71 | Q17: 965.71 | S17: 730.01 | U17: 851.6 | V17: -14122.55 | W17: 144.72 | Y17: 12.6 | AB17: =SUM(C17:AA17) -> -8858.61
A18: №9 | B18: Ворнаков | C18: 2.86 | E18: 2.85 | G18: 2.34 | I18: 3.27 | K18: 206.94 | M18: 224.55 | O18: 214.19 | P18: -293.41 | Q18: 282.67 | R18: -438.74 | S18: 286.93 | T18: -282.67 | U18: 69.84 | V18: -287 | W18: 2.97 | Y18: 2.93 | AB18: =SUM(C18:AA18) -> 0.52
A19: №10 | B19: Усова | C19: 2.17 | E19: 2.16 | G19: 1.75 | I19: 2.46 | K19: 45.1 | M19: 68.15 | O19: 66.19 | P19: -76.36 | Q19: 263.25 | S19: 126.93 | T19: -134.34 | U19: 21.59 | V19: -263.25 | W19: 5.09 | X19: =-24-126.93 -> -150.93 | Y19: - р. | AB19: =SUM(C19:AA19) -> -20.04
A20: №11 | B20: Щербачев | C20: 2.66 | E20: 2.61 | G20: 2.14 | I20: 8.58 | K20: 113.98 | M20: 178.58 | N20: -232.84 | O20: 142.43 | Q20: 207.18 | R20: -321.01 | S20: 171.43 | U20: 299.91 | V20: -378.61 | W20: 17.32 | X20: -299.91 | Y20: 3.16 | AB20: =SUM(C20:AA20) -> -82.39
A21: №12 | B21: Козлов | C21: 6.89 | E21: 6.88 | G21: 6.41 | I21: 6.95 | K21: 521.59 | M21: 533.21 | O21: 768.68 | P21: -1248.95 | Q21: 248.81 | S21: - р. | T21: -1550.7 | U21: 217.46 | W21: 1.04 | Y21: 0.6 | AB21: =SUM(C21:AA21) -> -481.13
A22: №13 | B22: Самсонов | C22: 165.82 | E22: 1.54 | F22: -165.82 | G22: 26.01 | I22: 73.35 | K22: 258.87 | M22: 210.75 | O22: 105.28 | P22: -929.15 | Q22: 75.93 | S22: - р. | U22: 263.66 | W22: 390.08 | X22: -444.87 | Y22: 68.3 | AB22: =SUM(C22:AA22) -> 99.75
A23: №14 | B23: Корчагина | C23: 11.81 | E23: 11.71 | G23: 9.6 | I23: 14.06 | K23: 180.9 | M23: 479.63 | N23: -402.15 | O23: 430.43 | Q23: 545.35 | S23: 608.67 | T23: =-910.06-1045.35 -> -1955.41 | U23: 105.12 | W23: 13 | Y23: 12.19 | AB23: =SUM(C23:AA23) -> 64.91
A24: №15 | B24: Кречет | C24: 634.64 | E24: 25.84 | G24: 21.33 | I24: 30.06 | K24: 675.48 | M24: 1123.12 | N24: -1029.76 | O24: 1074.53 | Q24: 1511.97 | R24: -2197.65 | S24: 1875.34 | T24: -1511.97 | U24: 2082.68 | V24: -1887.34 | W24: 307.17 | Y24: 317.68 | Z24: -2000 | AB24: =SUM(C24:AA24) -> 1053.12
A25: №16 | B25: Назаров | C25: 396.99 | E25: 284.99 | G25: 295.22 | I25: 815.68 | K25: 447.45 | M25: 624.45 | O25: 1188.26 | Q25: 1108.9 | S25: 540.29 | U25: 264.03 | W25: 261.02 | Y25: 341.17 | AB25: =SUM(C25:AA25) -> 6568.45
A26: №17 | B26: Розофарова | C26: 3.17 | E26: 3.07 | G26: 2.55 | I26: 3.6 | K26: 3.08 | M26: 93.37 | O26: 247.26 | Q26: 725.66 | S26: 302.98 | T26: -956.13 | U26: 14.88 | W26: 3.34 | Y26: 3.2 | AB26: =SUM(C26:AA26) -> 450.03
A27: №18 | B27: Пухова | C27: 148.74 | E27: - р. | G27: 85.28 | I27: 14.63 | K27: 418.8 | M27: 538.37 | N27: -600 | O27: 548.31 | P27: -1225.4 | Q27: 696.78 | R27: -550 | S27: 619.28 | T27: -696.78 | U27: 73.5 | W27: 44.43 | Y27: 17.55 | AB27: =SUM(C27:AA27) -> 133.49
A28: №19 | B28: Ермилина | C28: 2.85 | E28: 2.79 | G28: 2.3 | I28: 3.25 | K28: 30.36 | M28: 87.89 | O28: 136.37 | Q28: 69.63 | S28: 216.04 | T28: -1018.84 | U28: 71.4 | V28: -216.04 | W28: 2.97 | Y28: 2.86 | AB28: =SUM(C28:AA28) -> -606.17
A29: №20 | B29: Артюхова | C29: - р. | E29: - р. | G29: - р. | I29: - р. | K29: 210.19 | M29: 162.84 | N29: -461.01 | O29: 454.35 | Q29: 529.21 | S29: 267.17 | T29: =-983.56 -> -983.56 | U29: 95.24 | W29: - р. | Y29: - р. | AB29: =SUM(C29:AA29) -> 274.43
A30: №21 | B30: Виноградова | C30: 624.43 | E30: 378.68 | G30: 112.97 | I30: 1575.12 | K30: 1707.83 | M30: 2234.24 | O30: 1961.13 | Q30: 2025.84 | S30: 1872.54 | T30: -6221.21 | U30: 2339.35 | W30: 2013.27 | Y30: 1125.17 | AB30: =SUM(C30:AA30) -> 11749.36
A31: №22 | B31: Волчкова | C31: - р. | E31: 0.16 | G31: 0.01 | I31: 0.23 | K31: 196.93 | M31: 770.41 | O31: 446.37 | P31: -7858.51 | Q31: 587.9 | S31: 1064.64 | T31: -3004.26 | U31: 9.87 | W31: 3.17 | Y31: 1.5 | AB31: =SUM(C31:AA31) -> -7781.58
A32: №23 | B32: Горбунов | C32: 3.57 | E32: 3.87 | G32: 2.95 | I32: 3.96 | K32: 47.61 | M32: 154.27 | N32: -75.98 | O32: 233.01 | Q32: 275.37 | S32: 58.94 | T32: =-434.89-227.76 -> -662.65 | U32: 34.52 | W32: 7.67 | Y32: 3.86 | AB32: =SUM(C32:AA32) -> 90.97
A33: №24 | B33: Мартанова | C33: 2.91 | E33: 3.36 | G33: 22.64 | I33: 7.21 | K33: 51.46 | M33: 363.68 | O33: 754.08 | P33: -1200 | Q33: 983.08 | S33: 2532.7 | T33: =-983.08-1000 -> -1983.08 | U33: 125.08 | W33: 5.3 | Y33: 2.97 | AB33: =SUM(C33:AA33) -> 1671.39
A34: №25 | B34: Садовникова | C34: 2.56 | E34: 2.49 | G34: 2.05 | I34: 2.91 | K34: 58.91 | M34: 179.74 | N34: -101.59 | O34: 145.18 | Q34: 48.1 | S34: - р. | T34: -373.02 | U34: 15.99 | W34: 3.09 | Y34: 3.08 | AB34: =SUM(C34:AA34) -> -10.51
A35: №26 | B35: Колотушкина | C35: - р. | E35: - р. | G35: - р. | I35: 2.6 | K35: 137.16 | M35: 127.23 | N35: -137.16 | O35: 456.79 | P35: -129.83 | Q35: 610.35 | R35: -456.79 | S35: 5.11 | T35: -610.35 | U35: - р. | V35: -5.11 | W35: - р. | Y35: - р. | AB35: =SUM(C35:AA35) -> -1.0036416e-13
A36: №26Б | B36: Андреева | C36: - р. | E36: - р. | G36: - р. | I36: - р. | K36: - р. | M36: 0.04 | O36: 267.15 | Q36: 534.08 | R36: -267.19 | S36: 8.42 | T36: -534.08 | U36: - р. | V36: -8.42 | W36: - р. | Y36: - р. | AB36: =SUM(C36:AA36) -> -1.5454305e-13
A37: №27 | B37: Рассказихин | C37: 2.62 | E37: 2.72 | G37: 2.2 | I37: 3.07 | K37: 93.16 | M37: 165.96 | O37: 166.78 | P37: -399.07 | Q37: 81.85 | S37: 48.9 | T37: =-528.16-200 -> -728.16 | U37: 2.71 | W37: 2.82 | Y37: 2.78 | AB37: =SUM(C37:AA37) -> -551.66
A38: №28 | B38: Хруцкая | C38: 2.87 | E38: 2.85 | G38: 2.35 | I38: 3.3 | K38: 3.05 | M38: 12.89 | O38: 174.39 | P38: -26.98 | Q38: 177.01 | S38: 65.13 | U38: 3.01 | W38: 3.08 | Y38: 3.02 | AB38: =SUM(C38:AA38) -> 425.97
A39: №29 | B39: Сахаров | C39: 7.69 | E39: 7.55 | G39: 6.21 | I39: 8.91 | K39: 7.91 | M39: 8.64 | O39: 8.44 | Q39: 60.15 | S39: 8.4 | U39: 7.85 | V39: -157.22 | W39: 8.14 | Y39: 7.86 | AB39: =SUM(C39:AA39) -> -9.47
A40: №30 | B40: Засыпкина | C40: - р. | E40: - р. | G40: - р. | I40: - р. | K40: 670.11 | M40: 748.61 | N40: -902.66 | O40: 470.6 | Q40: 566.38 | S40: 1347.84 | T40: =-1785.59-1500 -> -3285.59 | U40: 447.56 | W40: - р. | Y40: - р. | AB40: =SUM(C40:AA40) -> 62.85
A41: №31А | B41: Сизых | C41: 2.82 | E41: 2.82 | G41: 2.34 | I41: 3.26 | K41: 71.35 | M41: 333.48 | N41: -100 | O41: 424.45 | P41: -500 | Q41: 428.98 | R41: -257.93 | S41: 289.32 | T41: =-428.98-500 -> -928.98 | U41: 32.61 | W41: 3.04 | Y41: 2.03 | AB41: =SUM(C41:AA41) -> -190.41
A42: №31Б | B42: Акмеева | C42: 88.72 | E42: - р. | G42: - р. | I42: 70.99 | K42: 461.68 | M42: 355.53 | O42: 254.18 | P42: -3191.77 | Q42: 424.63 | S42: 369.23 | T42: -1034.34 | U42: 414.65 | W42: 3.35 | Y42: 8.42 | AB42: =SUM(C42:AA42) -> -1774.73
A43: №32 | B43: Горюшкин | C43: 7.21 | E43: 7.26 | G43: 5.91 | I43: 10.58 | K43: 285.75 | M43: 530.53 | O43: 620.34 | P43: -1048.46 | Q43: 1223.03 | R43: -1150.87 | S43: 717.91 | T43: -1223.03 | U43: 929.51 | V43: -717.91 | W43: 9.37 | X43: -929.51 | Y43: 7.61 | AB43: =SUM(C43:AA43) -> -714.77
A44: №33 | B44: Житенев | C44: 1.88 | E44: 1.63 | G44: 1.63 | I44: 13.81 | K44: 149.5 | M44: 648.31 | O44: 409.2 | Q44: 454.27 | R44: -3907.78 | S44: 869.86 | U44: 946.22 | W44: 98.98 | Y44: 1.69 | Z44: -2369.13 | AB44: =SUM(C44:AA44) -> -2679.93
A45: №34 | B45: Корчененков | C45: 5409.71 | E45: 8516.12 | G45: 4029.44 | I45: 1919.14 | K45: 1096.64 | L45: -10000 | M45: 818.53 | O45: 1511.95 | P45: =-1096.64-1919.14-4029.44-8516.12 -> -15561.34 | Q45: 2646.68 | S45: 2282.44 | U45: 1258.12 | W45: 2769.16 | Y45: 8120.89 | Z45: =-5200-9800 -> -15000 | AB45: =SUM(C45:AA45) -> -182.52
A46: №35 | B46: Осипова, Яковл. | C46: 2.98 | E46: 2.91 | G46: 2.46 | I46: 3.42 | K46: 223.84 | M46: 620.36 | O46: 352.58 | P46: -429.22 | Q46: 617.07 | S46: 1231.26 | T46: -1590 | U46: 270.5 | W46: 50.25 | Y46: 3.12 | AB46: =SUM(C46:AA46) -> 1361.53
A47: №36 | B47: Кулишкин | C47: - р. | E47: - р. | G47: - р. | I47: - р. | K47: - р. | M47: 0.85 | O47: 1.9 | Q47: 2.36 | S47: - р. | U47: - р. | W47: - р. | Y47: - р. | AB47: =SUM(C47:AA47) -> 5.11
A48: №37 | B48: Бирюков | C48: 2.62 | E48: 2.38 | G48: 2.04 | I48: 2.56 | K48: 1052.4 | M48: 153.3 | O48: - р. | Q48: - р. | S48: 591.96 | T48: -6577.17 | U48: 3.85 | W48: 2.91 | Y48: 2.8 | AB48: =SUM(C48:AA48) -> -4760.35
A49: №39 | B49: Хорошева | C49: - р. | E49: - р. | G49: - р. | I49: - р. | K49: 8.9 | M49: 10.42 | O49: 34.88 | P49: -62.28 | Q49: 350.58 | S49: 190.39 | T49: =-350.58-690.39 -> -1040.97 | U49: 43.64 | W49: 9.1 | Y49: 8.81 | AB49: =SUM(C49:AA49) -> -446.53
A50: №40 | B50: Кожухова | C50: 0.18 | E50: 0.21 | G50: 0.16 | I50: 0.18 | K50: 6.97 | M50: 236.56 | O50: 197.92 | Q50: 309.2 | S50: 84.57 | T50: =-434.48-309.2 -> -743.68 | U50: 0.18 | W50: 0.18 | Y50: 0.11 | AB50: =SUM(C50:AA50) -> 92.74
A51: №41 | B51: Сахарова | C51: 2.35 | E51: 2.21 | G51: 1.81 | I51: 2.56 | K51: 2.29 | M51: 2.39 | O51: 2.34 | Q51: 2.53 | S51: 2.53 | U51: 2.47 | W51: 2.49 | Y51: 2.43 | AB51: =SUM(C51:AA51) -> 28.4
A52: №42 | B52: Павленко | C52: 3.05 | E52: 3.07 | G52: 2.51 | I52: 3.51 | K52: 193.85 | M52: 1091.03 | N52: =-4-193.85 -> -197.85 | O52: 1849.82 | P52: -1109.24 | Q52: 1731.46 | R52: =-1849.82-2747.87 -> -4597.69 | S52: 40.36 | T52: -1731.46 | U52: 3.17 | V52: -436.02 | W52: 3.3 | Y52: 3.22 | AB52: =SUM(C52:AA52) -> -3143.91
A53: №43 | B53: Андреев | C53: 15.45 | E53: - р. | G53: 0.18 | I53: - р. | K53: 354.97 | M53: 423.24 | O53: 448.91 | Q53: 617.67 | R53: -2595.11 | S53: 673.96 | T53: -617.67 | U53: 500.07 | V53: -1000 | W53: 1.6 | Y53: 833.38 | AB53: =SUM(C53:AA53) -> -343.35
A54: №44 | B54: Макарычев | C54: 2.82 | E54: 2.77 | G54: 2.26 | I54: 3.25 | K54: 2782.59 | M54: 3340.91 | N54: -700 | O54: 2938.81 | P54: -2770.68 | Q54: 3300.31 | R54: -6279.72 | S54: 1995.56 | T54: -3300.31 | U54: 1641.23 | V54: -1995.56 | W54: 3.04 | Y54: 3.01 | AB54: =SUM(C54:AA54) -> 970.29
A55: №45 | B55: Александрова | C55: 0.97 | E55: 1.09 | G55: 3.51 | I55: 3.05 | K55: 16.15 | M55: 18.7 | N55: -700 | O55: - р. | Q55: 26.97 | S55: 124.91 | U55: - р. | W55: - р. | Y55: - р. | AB55: =SUM(C55:AA55) -> -504.65
A56: №46 | B56: Макаренков | C56: 2.05 | E56: 2.05 | G56: 1.69 | I56: 4.07 | K56: 280.98 | M56: 413.03 | N56: -856.63 | O56: 442.43 | Q56: 505.05 | R56: -855.46 | S56: 312.16 | U56: 192.05 | W56: 56.16 | X56: -1009.26 | Y56: 2.17 | AB56: =SUM(C56:AA56) -> -507.46
A57: №47 | B57: Степанова | C57: 176.93 | E57: 78.59 | G57: 32.92 | I57: 46.12 | K57: 811.28 | M57: 1120.9 | N57: -1469.51 | O57: 476.47 | P57: -1120.9 | Q57: 959.47 | R57: -476.47 | S57: 809.14 | U57: 811.08 | V57: -1768.61 | W57: 59.03 | Y57: - р. | AB57: =SUM(C57:AA57) -> 546.44
A58: №48 | B58: Севастьянов | C58: - р. | E58: - р. | G58: - р. | I58: - р. | K58: 6.98 | M58: 68.78 | N58: -6.98 | O58: 381.2 | Q58: 378.53 | S58: 304.03 | T58: -828.51 | U58: - р. | W58: - р. | Y58: - р. | AB58: =SUM(C58:AA58) -> 304.03
A59: №49 | B59: Жаркова, Фил. | C59: 2.36 | E59: 2.35 | G59: 1.91 | I59: 2.69 | K59: 75.99 | M59: 94.9 | O59: 485.08 | P59: -440.77 | Q59: 290.7 | S59: - р. | U59: 338.11 | W59: 1777.78 | Y59: 91.03 | AB59: =SUM(C59:AA59) -> 2722.13
A60: №50 | B60: Корчененкова | C60: 2.92 | E60: 3 | G60: 2.81 | I60: 3.01 | K60: 385.3 | M60: 1320.25 | N60: -1280 | O60: 844.43 | Q60: 446.49 | S60: - р. | T60: =-3993.06-892.98 -> -4886.04 | U60: 567.16 | W60: 4.25 | Y60: 3.13 | AB60: =SUM(C60:AA60) -> -2583.29
A61: №51А | B61: Солдатов А. | C61: - р. | E61: - р. | G61: - р. | I61: - р. | K61: - р. | M61: - р. | O61: 12.38 | Q61: 3.99 | S61: 0.81 | T61: -16.37 | U61: 8.18 | W61: 1.27 | Y61: - р. | AB61: =SUM(C61:AA61) -> 10.26
A62: №51Б | B62: Солдатов Ю. | C62: - р. | E62: - р. | G62: - р. | I62: - р. | K62: 128.47 | M62: 303.09 | N62: -128.5 | O62: 281.82 | Q62: 399.63 | S62: 389.75 | T62: -1064.04 | U62: 1.47 | V62: -389.75 | W62: 8.84 | Y62: 8.14 | AB62: =SUM(C62:AA62) -> -61.08
A63: №52 | B63: Глот | C63: 3.26 | E63: 3.26 | G63: 2.66 | I63: 3.65 | K63: 73.74 | M63: 81.13 | O63: 145.78 | P63: -377.18 | Q63: 3.38 | R63: -145.78 | S63: 3.45 | U63: 4.27 | W63: 3.42 | Y63: 3.37 | AB63: =SUM(C63:AA63) -> -191.59
A64: №53 | B64: Власова | C64: - р. | E64: - р. | G64: - р. | I64: 170.63 | K64: 297.82 | M64: 163.15 | N64: -300 | O64: 129.73 | Q64: 177.78 | R64: =-461.33-300 -> -761.33 | S64: 121.54 | T64: -177.78 | U64: 321.25 | W64: 23.26 | X64: -321.25 | Y64: - р. | AB64: =SUM(C64:AA64) -> -155.2
A65: №54 | B65: Панушкин | C65: - р. | E65: - р. | G65: - р. | I65: - р. | K65: - р. | M65: - р. | O65: - р. | Q65: - р. | S65: - р. | U65: - р. | W65: - р. | Y65: - р. | AB65: =SUM(C65:AA65) -> 0
A66: №55 | B66: Яхонтова | C66: 2.43 | E66: 2.46 | G66: 2 | I66: 2.79 | K66: 5.17 | M66: 18.53 | O66: 22.32 | Q66: 114.18 | R66: -77.26 | S66: 15.96 | U66: 8.01 | W66: 2.54 | Y66: 2.54 | AB66: =SUM(C66:AA66) -> 121.67
A67: №55Б | B67: Ромашина | C67: 2.82 | E67: 2.72 | G67: 2.61 | I67: 2.79 | K67: 99.16 | M67: 461.91 | O67: 398.36 | P67: -561.07 | Q67: 362.99 | R67: -684.81 | S67: 168.23 | U67: 4.11 | W67: 3.02 | X67: -550 | Y67: 2.97 | AB67: =SUM(C67:AA67) -> -284.19
A68: №56А | B68: Меньшова | C68: 0.65 | E68: 0.66 | G68: 0.55 | I68: 0.79 | K68: 4.89 | M68: 16.65 | O68: 336.62 | P68: -790.89 | Q68: 405.47 | S68: 188.52 | T68: -707.13 | U68: 1.51 | W68: 0.7 | Y68: 0.56 | AB68: =SUM(C68:AA68) -> -540.45
A69: №56Б | B69: Кучер | C69: - р. | E69: - р. | G69: - р. | I69: 15.57 | K69: 100.74 | M69: 313.2 | O69: 367.15 | P69: -560 | Q69: 265.35 | S69: 142.37 | U69: 85.33 | W69: 7.07 | Y69: - р. | AB69: =SUM(C69:AA69) -> 736.78
A70: №57А | B70: Подлегаева | C70: 3.12 | E70: 3.07 | G70: 2.53 | I70: 3.56 | K70: 27.86 | M70: 162.15 | O70: 242.44 | P70: -172.2 | Q70: 191.03 | S70: 102.66 | U70: 15.1 | W70: 84.7 | Y70: 3.19 | AB70: =SUM(C70:AA70) -> 669.21
A71: №57Б | B71: Филатова | C71: 2.61 | E71: 2.65 | G71: 2.14 | I71: 3.03 | K71: 6.81 | M71: 21.96 | O71: 96.92 | P71: -224.35 | Q71: 16.08 | S71: 108.89 | T71: -118.96 | U71: 19.2 | W71: 4.13 | Y71: 2.69 | AB71: =SUM(C71:AA71) -> -56.2
A72: №58 | B72: Родин | C72: 2.52 | E72: 2.42 | G72: 2.04 | I72: 2.86 | K72: 22.16 | M72: 40.82 | O72: 43.78 | Q72: 36.14 | S72: 27.01 | U72: 27.18 | V72: -63.15 | W72: 4.75 | Y72: 2.6 | AB72: =SUM(C72:AA72) -> 151.13
A73: №59 | B73: Большов | C73: 3.31 | E73: 3.21 | G73: 2.65 | I73: 3.75 | K73: 36.13 | M73: 51.87 | N73: -283.02 | O73: 34.43 | Q73: 49.12 | S73: 59.29 | U73: 24.59 | W73: 12.25 | Y73: 9.25 | AB73: =SUM(C73:AA73) -> 6.83
A74: №60А | B74: Костылева | C74: 0.66 | E74: 0.7 | G74: 0.6 | I74: 0.86 | K74: 86.66 | M74: 224.53 | N74: -501.53 | O74: 369.81 | Q74: 370.89 | R74: -594.34 | S74: 269.7 | T74: -870.89 | U74: 8.03 | W74: 0.74 | Y74: 0.7 | AB74: =SUM(C74:AA74) -> -632.88
A75: №60Б | B75: Глебова | C75: - р. | E75: - р. | G75: - р. | I75: - р. | K75: 328.88 | M75: 470.75 | N75: -478.15 | O75: 208.5 | Q75: 409.51 | R75: -679.25 | S75: 847.74 | T75: -409.51 | U75: 3.41 | V75: -847.74 | W75: - р. | Y75: - р. | AB75: =SUM(C75:AA75) -> -145.86
A76: №61 | B76: Парамонова | C76: 2.66 | E76: - р. | G76: - р. | I76: - р. | K76: 84.61 | M76: 122.36 | N76: -1300 | O76: 203.91 | Q76: 223.04 | R76: -2122.23 | S76: 190.52 | U76: 143.49 | W76: 3.33 | Y76: 3.08 | AB76: =SUM(C76:AA76) -> -2445.23
A77: №61А | B77: Парамонова | C77: 0.44 | E77: 0.42 | G77: 0.31 | I77: 0.42 | K77: 39.69 | M77: 35.56 | O77: 26.69 | Q77: 17.18 | S77: 61.52 | U77: 245.35 | W77: 0.44 | Y77: 0.43 | AB77: =SUM(C77:AA77) -> 428.45
A78: №62 | B78: Голубятникова | C78: 876.29 | E78: 761.72 | G78: 768.27 | I78: 778.3 | K78: 860.48 | L78: -4719.64 | M78: 722.98 | O78: 760.05 | Q78: 1018.45 | R78: -5175.76 | S78: 614.54 | U78: 797.1 | W78: 714.57 | Y78: 859.36 | AB78: =SUM(C78:AA78) -> -363.29
A79: №62А | B79: Голубятникова | C79: 304.46 | E79: 2.63 | G79: 303.04 | I79: 36.74 | K79: 38.85 | M79: 89.17 | O79: 114.23 | Q79: 95.58 | S79: 56.68 | U79: 321.08 | W79: 17.57 | Y79: 30.59 | AB79: =SUM(C79:AA79) -> 1410.62
A80: №63 | B80: Федюшкин | C80: 0.66 | E80: 0.65 | G80: 0.55 | I80: 0.75 | K80: 55.78 | M80: 7.05 | O80: 9.1 | Q80: 1.07 | R80: -106.6 | S80: 1.17 | U80: 1.06 | W80: 2.44 | Y80: 0.73 | AB80: =SUM(C80:AA80) -> -25.59
A81: №64 | B81: Савкина | C81: 429.66 | E81: 422.62 | G81: 322.45 | I81: 491.73 | K81: 417.16 | M81: 434.41 | N81: -1515.61 | O81: 533.6 | Q81: 563.49 | S81: 509.09 | T81: -968.01 | U81: 495.67 | V81: -1072.58 | W81: 482.92 | X81: -495.67 | Y81: 453.95 | AB81: =SUM(C81:AA81) -> 1504.88
A82: №65 | B82: Буланова | C82: 2.38 | E82: 2.34 | G82: 1.91 | I82: 2.68 | K82: 386.82 | M82: 130.79 | O82: 115.86 | P82: -700 | Q82: 254.59 | R82: -115.86 | S82: 127.05 | T82: -254.59 | U82: 5.24 | W82: 2.46 | Y82: 2.46 | AB82: =SUM(C82:AA82) -> -35.87
A83: №66 | B83: Кудрявцева | C83: 189.81 | E83: 34.96 | G83: 69.65 | I83: 12.03 | K83: 238.28 | M83: 650.14 | O83: 710.54 | P83: =-1606.22-650.14 -> -2256.36 | Q83: 1102.25 | R83: -710.54 | S83: 490.66 | T83: -1102.25 | U83: 45.33 | W83: 12.99 | Y83: - р. | Z83: -370 | AB83: =SUM(C83:AA83) -> -882.51
A84: №67 | B84: сторожка | C84: 0.04 | E84: - р. | G84: - р. | I84: 0.16 | K84: 0.18 | M84: 5.35 | O84: 34.26 | Q84: 10.77 | S84: 1.58 | U84: 0.45 | W84: 0.04 | Y84: 0.08 | AB84: =SUM(C84:AA84) -> 52.91
A85: №68 | B85: Илюхина | C85: 2.72 | E85: 2.7 | G85: 2.2 | I85: 3.01 | K85: 0.1 | M85: 15.69 | O85: 84.94 | Q85: 134.22 | R85: -306.43 | S85: 137.41 | U85: 219.88 | V85: -271.63 | W85: 3.13 | X85: -219.88 | Y85: 2.88 | AB85: =SUM(C85:AA85) -> -189.06
A86: №69 | B86: Кербер | C86: 3.46 | E86: - р. | G86: - р. | I86: - р. | K86: 206.37 | M86: 152.52 | O86: 262.47 | Q86: 246.6 | R86: -389.86 | S86: 329.32 | U86: 57.52 | W86: 4.29 | Y86: 3.55 | AB86: =SUM(C86:AA86) -> 876.24
A87: №70 | B87: Бибина | C87: - р. | E87: - р. | G87: - р. | I87: - р. | K87: 370.33 | M87: 765.49 | O87: 578.45 | P87: -402.46 | Q87: 737.72 | S87: 1108.25 | T87: =-1343.94-2500 -> -3843.94 | U87: 155.54 | W87: 20.63 | Y87: - р. | AB87: =SUM(C87:AA87) -> -509.99
A88: №71 | B88: Кондратьева | C88: 3.7 | E88: - р. | G88: - р. | I88: - р. | K88: 231.5 | M88: 320.96 | N88: -322.3 | O88: 332.44 | Q88: 494.86 | S88: 234.44 | U88: 91.64 | W88: 3.93 | Y88: 3.81 | Z88: -1000 | AB88: =SUM(C88:AA88) -> 394.98
A89: №72 | B89: Суздальцев | C89: 2.77 | E89: 2.35 | G89: 1.91 | I89: 2.7 | K89: 254.11 | M89: 302.43 | O89: 121.95 | P89: -1319.7 | Q89: 183.9 | S89: 334.32 | U89: 141.37 | W89: 2.54 | Y89: 2.49 | AB89: =SUM(C89:AA89) -> 33.14
A90: №73 | B90: Меньшов | C90: - р. | E90: - р. | G90: - р. | I90: - р. | K90: - р. | M90: - р. | O90: - р. | Q90: - р. | S90: - р. | U90: - р. | W90: - р. | Y90: - р. | AB90: =SUM(C90:AA90) -> 0
A91: №74 | B91: Гаврилова | C91: - р. | E91: - р. | G91: - р. | I91: - р. | K91: 511.65 | M91: 971.04 | O91: - р. | Q91: 174.6 | S91: 1625.41 | T91: -481.65 | U91: 1832.18 | W91: 2.65 | Y91: 2.58 | AB91: =SUM(C91:AA91) -> 4638.46
A92: №75 | B92: Астафьев | C92: 7.05 | E92: 2.3 | G92: 1.9 | I92: 91.48 | K92: 282.59 | M92: 136.38 | O92: 278.68 | Q92: 419.54 | S92: 220 | T92: -1280.85 | U92: 40.18 | W92: 9.76 | Y92: 2.39 | AB92: =SUM(C92:AA92) -> 211.4
A93: №76 | B93: Чеглова | C93: - р. | E93: - р. | G93: - р. | I93: 2.33 | K93: 925.24 | M93: 812.74 | N93: -1580.87 | O93: 501.51 | Q93: 696.9 | S93: 1905.88 | T93: -2011.15 | U93: 1896.83 | W93: 0.62 | Y93: 21.25 | AB93: =SUM(C93:AA93) -> 3171.28
A94: №77 | B94: Озеров | C94: - р. | E94: - р. | G94: - р. | I94: - р. | K94: 0.62 | M94: 8.94 | O94: 17.9 | Q94: - р. | S94: 3.08 | U94: 2.79 | V94: -31.55 | W94: - р. | Y94: - р. | AB94: =SUM(C94:AA94) -> 1.78
A95: №78 | B95: Нестеренко | C95: - р. | E95: - р. | G95: - р. | I95: - р. | K95: 167.27 | M95: 229.17 | O95: 70.98 | P95: -1195.53 | Q95: 106.63 | S95: 84.73 | U95: 54.4 | W95: - р. | Y95: - р. | AB95: =SUM(C95:AA95) -> -482.35
A96: №79 | B96: Ханина | C96: 3.07 | E96: 2.95 | G96: 2.86 | I96: 3.04 | K96: 5.41 | M96: 102.07 | O96: 566.83 | Q96: 850.28 | S96: 1014.13 | U96: 1313.68 | V96: -11027.92 | W96: 3.24 | Y96: 3.11 | AB96: =SUM(C96:AA96) -> -7157.25
A97: №80 | B97: Рыжова | C97: 3.38 | E97: - р. | G97: - р. | I97: 4.73 | K97: 81.48 | M97: 351.82 | N97: -700 | O97: 178.66 | Q97: 91.45 | S97: 141.01 | T97: -613.45 | U97: 218.81 | W97: 163.53 | X97: -359.82 | Y97: 57.27 | AB97: =SUM(C97:AA97) -> -381.13
A98: №81 | B98: Пономарева | C98: 33.33 | E98: 31.74 | G98: 22.84 | I98: 75.51 | K98: 448.33 | M98: 612.8 | N98: -3000 | O98: 471.49 | Q98: 652.44 | S98: 601.71 | T98: =-471.49-612.8-652.44 -> -1736.73 | U98: 250.56 | W98: 642.64 | Y98: 74.51 | AB98: =SUM(C98:AA98) -> -818.83
A99: №82 | B99: Кочергова, Наз. | C99: 2.57 | E99: 2.46 | G99: 2.09 | I99: 6.12 | K99: 428.13 | M99: 641.47 | N99: -674.65 | O99: 507.54 | Q99: 741.09 | R99: -1149.01 | S99: 521.33 | T99: -741.09 | U99: 121.88 | W99: 3.78 | Y99: 2.65 | AB99: =SUM(C99:AA99) -> 416.36
A100: №83 | B100: Коршунова | AB100: =SUM(C100:AA100) -> 0

Sheet 2011
A10: Участок | B10: ФИО | C10: 40817 | E10: 40848 | G10: 40878 | J10: Итого
A11: №1 | B11: Рябцева | C11: 2999.13 | D11: -2999.13 | E11: 1060.69 | G11: 724.48 | H11: -1624.37 | J11: =SUM(C11:I11) -> 160.8
A12: №2 | B12: Антипов | C12: 416.82 | E12: 31.04 | G12: 17.22 | J12: =SUM(C12:I12) -> 465.08
A13: №3 | B13: Ханина | C13: 143.12 | E13: 2.07 | G13: 1.96 | J13: =SUM(C13:I13) -> 147.15
A14: №5 | B14: Павлюк | C14: 1472 | E14: 1261.64 | G14: 168.51 | J14: =SUM(C14:I14) -> 2902.15
A15: №6 | B15: Ребрина | C15: 11.72 | E15: 20.9 | G15: 3.81 | J15: =SUM(C15:I15) -> 36.43
A16: №7 | B16: Еропкин | C16: 140.7 | E16: 12.99 | G16: 0 | J16: =SUM(C16:I16) -> 153.69
A17: №8 | B17: Шатилов | C17: 384.63 | E17: 1123.38 | G17: 14.17 | J17: =SUM(C17:I17) -> 1522.18
A18: №9 | B18: Ворнаков | C18: 65.68 | E18: 6.74 | G18: 2.73 | J18: =SUM(C18:I18) -> 75.15
A19: №10 | B19: Усова | C19: 14.31 | E19: 7.29 | G19: 2.12 | J19: =SUM(C19:I19) -> 23.72
A20: №11 | B20: Щербачев | C20: 96.6 | E20: 3.74 | G20: 2.53 | J20: =SUM(C20:I20) -> 102.87
A21: №12 | B21: Козлов | C21: 114.31 | E21: 1.87 | G21: 3.87 | J21: =SUM(C21:I21) -> 120.05
A22: №13 | B22: Самсонов | C22: 313.18 | E22: 45.45 | G22: 130.25 | H22: -130.25 | J22: =SUM(C22:I22) -> 358.63
A23: №14 | B23: Корчагина | C23: 148.83 | E23: 13.84 | G23: 11.4 | J23: =SUM(C23:I23) -> 174.07
A24: №15 | B24: Кречет | C24: 1557.29 | D24: -1557.3 | E24: 551.02 | F24: -551.02 | G24: 260.69 | H24: -260.69 | J24: =SUM(C24:I24) -> -0.01
A25: №16 | B25: Назаров | C25: 291.19 | E25: 303.26 | G25: 352.8 | J25: =SUM(C25:I25) -> 947.25
A26: №17 | B26: Розофарова | C26: 2.96 | E26: 3.12 | G26: 3.07 | J26: =SUM(C26:I26) -> 9.15
A27: №18 | B27: Пухова | C27: 431.17 | E27: 116.81 | G27: 9.97 | J27: =SUM(C27:I27) -> 557.95
A28: №19 | B28: Ермилина | C28: 11.26 | E28: 2.75 | G28: 2.73 | J28: =SUM(C28:I28) -> 16.74
A29: №20 | B29: Артюхова | C29: 250.82 | E29: 0 | G29: 0 | J29: =SUM(C29:I29) -> 250.82
A30: №21 | B30: Виноградова | C30: 834.69 | E30: 295.19 | G30: 659.98 | J30: =SUM(C30:I30) -> 1789.86
A31: №22 | B31: Волчкова | C31: 68.81 | E31: 14.43 | G31: 0 | J31: =SUM(C31:I31) -> 83.24
A32: №23 | B32: Горбунов | C32: 6.3 | E32: 4.39 | G32: 3.33 | J32: =SUM(C32:I32) -> 14.02
A33: №24 | B33: Мартанова | C33: 62.51 | E33: 397.89 | G33: 2.82 | J33: =SUM(C33:I33) -> 463.22
A34: №25 | B34: Садовникова | C34: 58.49 | E34: 2.52 | G34: 2.42 | J34: =SUM(C34:I34) -> 63.43
A35: №26 | B35: Колотушкина | C35: 0 | E35: 0 | G35: 0 | J35: =SUM(C35:I35) -> 0
A36: №26Б | B36: Андреева | C36: 0 | E36: 0 | G36: 0 | J36: =SUM(C36:I36) -> 0
... A81: №64 | B81: Савкина | C81: 399.51 | E81: 405.83 | G81: 431.99 | J81: =SUM(C81:I81) -> 1237.33
A82: №65 | B82: Буланова | C82: 63.64 | E82: 2.38 | F82: -1200 | G82: 2.31 | J82: =SUM(C82:I82) -> -1131.67
A83: №66 | B83: Кудрявцева | C83: 144.6 | E83: 329.96 | G83: 354.32 | H83: -828.88 | J83: =SUM(C83:I83) -> 0
A84: №67 | B84: сторожка | C84: 0.27 | E84: 0.28 | G84: 0.54 | J84: =SUM(C84:I84) -> 1.09
A85: №68 | B85: Илюхина | C85: 56.78 | E85: 2.73 | G85: 2.57 | J85: =SUM(C85:I85) -> 62.08
A86: №69 | B86: Кербер | C86: 20.48 | E86: 3.42 | G86: 3.61 | J86: =SUM(C86:I86) -> 27.51
A87: №70 | B87: Бибина | C87: 24.37 | E87: 7.76 | G87: 0 | J87: =SUM(C87:I87) -> 32.13
A88: №71 | B88: Кондратьева | C88: 79.8 | E88: 3.66 | G88: 3.63 | J88: =SUM(C88:I88) -> 87.09
A89: №72 | B89: Суздальцев | C89: 184.52 | E89: 12.74 | G89: 149.41 | J89: =SUM(C89:I89) -> 346.67
A90: №73 | B90: Меньшов | C90: 0 | E90: 0 | G90: 0 | J90: =SUM(C90:I90) -> 0
A91: №74 | B91: Гаврилова | C91: 1055.16 | E91: 5.9 | G91: 0 | J91: =SUM(C91:I91) -> 1061.06
A92: №75 | B92: Астафьев | C92: 45.48 | E92: 13.18 | G92: 2.27 | J92: =SUM(C92:I92) -> 60.93
A93: №76 | B93: Чеглова | C93: 652.52 | E93: 0.78 | G93: 0 | J93: =SUM(C93:I93) -> 653.3
A94: №77 | B94: Озеров | C94: 0.43 | E94: 0.58 | G94: 0 | J94: =SUM(C94:I94) -> 1.01
A95: №78 | B95: Нестеренко | C95: 84.19 | E95: 0.85 | G95: 0 | J95: =SUM(C95:I95) -> 85.04
... A100: №83 | B100: Коршунова | C100: 0 | E100: 0 | G100: 0 | J100: =SUM(C100:I100) -> 0
