Workbook

Sheet Взносы
A1: Оплата членских взносов
A2: Участок | B2: ФИО | C2: 2012/2013 | E2: 2013/2014 | G2: 2014/2015 | I2: 2015/2016 | K2: 2016/2017 | N2: Итого
A3: №1 | B3: Рябцева | C3: 7300 | D3: -7300 | E3: 10300 | F3: =-1000-7300-2000 -> -10300 | G3: 9800 | H3: -9800 | I3: 8400 | J3: -8400 | K3: 7550 | L3: -7550 | N3: =SUM(C3:M3) -> 0
A4: №2 | B4: Антипов | C4: 7300 | D4: -7300 | E4: 10300 | F4: =-8300-2000 -> -10300 | G4: 9800 | H4: -9800 | I4: 8400 | J4: -8400 | K4: 7550 | L4: -7550 | N4: =SUM(C4:M4) -> 0
A5: №3 | B5: Ханина | C5: 7300 | D5: -7300 | E5: 10300 | F5: =-1000-7000 -> -8000 | G5: 9800 | H5: -9800 | I5: 8400 | J5: -8400 | K5: 7550 | N5: =SUM(C5:M5) -> 9850
A6: №5 | B6: Павлюк | C6: 7300 | D6: -7300 | E6: 10300 | F6: -8300 | G6: 9800 | H6: -9800 | I6: 8400 | K6: 7550 | L6: -7550 | N6: =SUM(C6:M6) -> 10400
A7: №6 | B7: Бордюк | C7: 7300 | D7: -7300 | E7: 10300 | F7: -8300 | G7: 9800 | H7: =-9800-2000 -> -11800 | I7: 8400 | J7: -8400 | K7: 7550 | L7: -7550 | N7: =SUM(C7:M7) -> 0
A8: №7 | B8: Еропкин | C8: 7300 | D8: -7300 | E8: 10300 | F8: =-8300-2000 -> -10300 | G8: 9800 | H8: =-9300-500 -> -9800 | I8: 8400 | J8: -8300 | K8: 7550 | L8: -6500 | N8: =SUM(C8:M8) -> 1150
A9: №8 | B9: Шатилов | C9: 7300 | E9: 10300 | F9: =-1000-7300 -> -8300 | G9: 9800 | H9: -9800 | I9: 8400 | J9: -8400 | K9: 7550 | L9: -7500 | N9: =SUM(C9:M9) -> 9350
A10: №9 | B10: Ворнаков | C10: 7300 | D10: -7300 | E10: 10300 | F10: -8300 | G10: 9800 | H10: -11800 | I10: 8400 | J10: -8400 | K10: 7550 | N10: =SUM(C10:M10) -> 7550
A11: №10 | B11: Усова | C11: 7300 | D11: -7300 | E11: 10300 | F11: -8300 | G11: 9800 | H11: =-2000-9800 -> -11800 | I11: 8400 | J11: -8400 | K11: 7550 | N11: =SUM(C11:M11) -> 7550
A12: №11 | B12: Щербачев | C12: 7300 | D12: -7300 | E12: 10300 | F12: =-8300-2000 -> -10300 | G12: 9800 | H12: -9800 | I12: 8400 | J12: -8400 | K12: 7550 | L12: -7550 | N12: =SUM(C12:M12) -> 0
A13: №12 | B13: Козлов | C13: 7300 | D13: =-3650-3650 -> -7300 | E13: 10300 | F13: -8300 | G13: 9800 | H13: -11800 | I13: 8400 | J13: -8400 | K13: 7550 | L13: -7550 | N13: =SUM(C13:M13) -> 0
A14: №13 | B14: Самсонов | C14: 7300 | D14: -7300 | E14: 10300 | F14: =-1000-7300-2000 -> -10300 | G14: 9800 | H14: -9800 | I14: 8400 | J14: -8400 | K14: 7550 | L14: -7550 | N14: =SUM(C14:M14) -> 0
A15: №14 | B15: Корчагина | C15: 7300 | D15: -7300 | E15: 10300 | F15: =-7300-1000-2000 -> -10300 | G15: 9800 | H15: -9800 | I15: 8400 | J15: -8400 | K15: 7550 | L15: =-7150-400 -> -7550 | N15: =SUM(C15:M15) -> 0
A16: №15 | B16: Кречет | C16: 7300 | D16: -7300 | E16: 10300 | F16: =-5600-400-3000-2300 -> -11300 | G16: 9800 | H16: -9800 | I16: 8400 | J16: -8400 | K16: 7550 | L16: -7550 | N16: =SUM(C16:M16) -> -1000
A17: №16 | B17: Назаров | C17: 7300 | D17: -7300 | E17: 10300 | F17: =-7300-1000 -> -8300 | G17: 9800 | H17: -9800 | I17: 8400 | J17: -8400 | K17: 7550 | N17: =SUM(C17:M17) -> 9550
A18: №17 | B18: Розофарова | C18: 7300 | D18: -7300 | E18: 10300 | F18: -22000 | G18: 9800 | H18: -15000 | I18: 8400 | K18: 7550 | N18: =SUM(C18:M18) -> -950
A19: №18 | B19: Пухова | C19: 7300 | D19: -7300 | E19: 10300 | F19: =-1000-6000 -> -7000 | G19: 9800 | H19: =-3000-2000-1000 -> -6000 | I19: 8400 | J19: =-12200-5000 -> -17200 | K19: 7550 | N19: =SUM(C19:M19) -> 5850
A20: №19 | B20: Ермилина | C20: 7300 | D20: -7300 | E20: 10300 | F20: -8300 | G20: 9800 | H20: -9800 | I20: 8400 | J20: -10400 | K20: 7550 | L20: -7550 | N20: =SUM(C20:M20) -> 0
A21: №20 | B21: Артюхова | C21: 7300 | D21: -7300 | E21: 10300 | F21: =-8300-2000 -> -10300 | G21: 9800 | H21: -9800 | I21: 8400 | J21: -8400 | K21: 7550 | L21: -7550 | N21: =SUM(C21:M21) -> 0
A22: №21 | B22: Виноградов | C22: 7300 | D22: -7300 | E22: 10300 | F22: =-8300-2000 -> -10300 | G22: 9800 | H22: -9800 | I22: 8400 | J22: -8400 | K22: 7550 | L22: -7550 | N22: =SUM(C22:M22) -> 0
A23: №22 | B23: Волчкова | C23: 7300 | D23: -7300 | E23: 10300 | F23: =-1000-7300-2000 -> -10300 | G23: 9800 | H23: -9800 | I23: 8400 | J23: -8400 | K23: 7550 | L23: -7150 | N23: =SUM(C23:M23) -> 400
A24: №23 | B24: Горбунов | C24: 7300 | D24: -7300 | E24: 10300 | F24: =-7300-1000-2000 -> -10300 | G24: 9800 | H24: -9800 | I24: 8400 | J24: -8400 | K24: 7550 | L24: -7550 | N24: =SUM(C24:M24) -> 0
A25: №24 | B25: Мартанова | C25: 7300 | D25: -7300 | E25: 10300 | F25: -10300 | G25: 9800 | H25: =-9800-10300 -> -20100 | I25: 8400 | K25: 7550 | L25: -6150 | N25: =SUM(C25:M25) -> -500
A26: №25 | B26: Садовникова | C26: 7300 | D26: =-3000-4300 -> -7300 | E26: 10300 | F26: -8300 | G26: 9800 | H26: -14000 | I26: 8400 | J26: -8400 | K26: 7550 | N26: =SUM(C26:M26) -> 5350
A27: №26 | B27: Колотушкина | C27: 7300 | D27: -7300 | E27: 10300 | F27: =-1000-7300-2000 -> -10300 | G27: 9800 | H27: -9800 | I27: 8400 | J27: -8400 | K27: 7550 | L27: -7550 | N27: =SUM(C27:M27) -> 0
A28: №27 | B28: Рассказихин | C28: 7300 | D28: -7300 | E28: 10300 | F28: =-1000-7300-2000 -> -10300 | G28: 9800 | H28: =-7300-2500 -> -9800 | I28: 8400 | J28: -8400 | K28: 7550 | L28: -7550 | N28: =SUM(C28:M28) -> 0
A29: №28 | B29: Хруцкая | C29: 7300 | D29: -7300 | E29: 10300 | F29: =-8300-2000 -> -10300 | G29: 9800 | H29: -9800 | I29: 8400 | J29: -8400 | K29: 7550 | L29: -7550 | N29: =SUM(C29:M29) -> 0
A30: №29 | B30: Сахаров | C30: 7300 | D30: -7300 | E30: 10300 | F30: -10300 | G30: 9800 | H30: -9800 | I30: 8400 | J30: =-8400-2000 -> -10400 | K30: 7550 | N30: =SUM(C30:M30) -> 5550
A31: №30 | B31: Засыпкина | C31: 7300 | D31: -7300 | E31: 10300 | F31: -8300 | G31: 9800 | H31: =-2000-9800 -> -11800 | I31: 8400 | J31: -8400 | K31: 7550 | L31: =-7150-400 -> -7550 | N31: =SUM(C31:M31) -> 0
A32: №31А | B32: Сизых | C32: 7300 | D32: -7300 | E32: 10300 | F32: =-8300-2000 -> -10300 | G32: 9800 | H32: -9800 | I32: 8400 | J32: =-2400-3000-3000 -> -8400 | K32: 7550 | L32: -7550 | N32: =SUM(C32:M32) -> 0
A33: №31Б | B33: Акмеева | C33: 7300 | D33: -7300 | E33: 10300 | F33: -7300 | G33: 9800 | H33: -7000 | I33: 8400 | J33: =-2000-7800 -> -9800 | K33: 7550 | L33: -7550 | N33: =SUM(C33:M33) -> 4400
A34: №32 | B34: Горюшкин | C34: 7300 | D34: -7300 | E34: 10300 | F34: -8300 | G34: 9800 | H34: =-2000-9800 -> -11800 | I34: 8400 | J34: -8400 | K34: 7550 | L34: -7550 | N34: =SUM(C34:M34) -> 0
A35: №33 | B35: Житенев | C35: 7300 | D35: -7300 | E35: 10300 | F35: =-8300-2000 -> -10300 | G35: 9800 | H35: -9800 | I35: 8400 | J35: -8400 | K35: 7550 | L35: -7550 | N35: =SUM(C35:M35) -> 0
A36: №34 | B36: Корчененков | C36: 7300 | D36: -7300 | E36: 10300 | F36: =-8300-2000 -> -10300 | G36: 9800 | H36: -9800 | I36: 8400 | J36: -8400 | K36: 7550 | L36: -7550 | N36: =SUM(C36:M36) -> 0
A37: №35А | B37: Яковлева | C37: 7300 | D37: -7300 | E37: 10300 | F37: -7800 | G37: 9800 | H37: =-9800-2000 -> -11800 | I37: 8400 | J37: -8400 | K37: 7550 | L37: -8550 | N37: =SUM(C37:M37) -> -500
A38: №35Б | B38: Осипова И. | C38: 7300 | D38: -7300 | E38: 10300 | F38: =-7800-2000 -> -9800 | G38: 9800 | H38: -9800 | I38: 8400 | J38: -8000 | K38: 7550 | L38: -8050 | N38: =SUM(C38:M38) -> 400
A39: №36 | B39: Кулишкин | C39: 7300 | D39: -7300 | E39: 10300 | F39: =-1000-7300 -> -8300 | G39: 9800 | H39: -9800 | I39: 8400 | J39: =-10279.55-121 -> -10400.55 | K39: 7550 | L39: -7550 | N39: =SUM(C39:M39) -> -0.55
A40: №37 | B40: Бирюкова | C40: 7300 | D40: -7300 | E40: 10300 | F40: =-3000-7300 -> -10300 | G40: 9800 | H40: =-2500-7300 -> -9800 | I40: 8400 | J40: =-2000-8400 -> -10400 | K40: 7550 | L40: -15100 | N40: =SUM(C40:M40) -> -9550
...

Sheet свод по электричеству
A10: Участок | B10: ФИО | C10: 2011 | D10: 2012 | E10: 2013 | F10: 2014 | G10: 2015 | H10: 2016 | I10: 2017 | J10: 2018 | K10: Итого
A11: №1 | B11: Рябцева | C11: ='2011'!J11 -> 160.8 | D11: ='2012'!AB11 -> 774.23 | E11: ='2013'!AB11 -> 282.06 | F11: ='2014'!AB11 -> -444.04 | G11: ='2015'!AC11 -> -0.0024 | H11: ='2016'!AB11 -> 2930.3964 | I11: ='2017'!AB11 -> -1956.9784 | K11: =SUM(C11:J11) -> 1746.4656
A12: №2 | B12: Антипов | C12: ='2011'!J12 -> 465.08 | D12: ='2012'!AB12 -> 743.27 | E12: ='2013'!AB12 -> -517.45 | F12: ='2014'!AB12 -> -205.17 | G12: ='2015'!AC12 -> 606.5237 | H12: ='2016'!AB12 -> -799.1683 | I12: ='2017'!AB12 -> 68.6548 | K12: =SUM(C12:J12) -> 361.7402
A13: №3 | B13: Ханина | C13: ='2011'!J13 -> 147.15 | D13: ='2012'!AB13 -> -340.68 | E13: ='2013'!AB13 -> 208.93 | F13: ='2014'!AB13 -> 169.2 | G13: ='2015'!AC13 -> -8082.8139 | H13: ='2016'!AB13 -> 460.4845 | I13: ='2017'!AB13 -> -187.6159 | K13: =SUM(C13:J13) -> -7625.3453
A14: №5 | B14: Павлюк | C14: ='2011'!J14 -> 2902.15 | D14: ='2012'!AB14 -> 902.39 | E14: ='2013'!AB14 -> 3091.6 | F14: ='2014'!AB14 -> -3616.57 | G14: ='2015'!AC14 -> 0 | H14: ='2016'!AB14 -> 0 | I14: ='2017'!AB14 -> 0 | K14: =SUM(C14:J14) -> 3279.57
A15: №6 | B15: Бордюг | C15: ='2011'!J15 -> 36.43 | D15: ='2012'!AB15 -> 699.98 | E15: ='2013'!AB15 -> 1178.16 | F15: ='2014'!AB15 -> -2031.17 | G15: ='2015'!AC15 -> -2.2737368e-12 | H15: ='2016'!AB15 -> 0 | I15: ='2017'!AB15 -> 0 | K15: =SUM(C15:J15) -> -116.6
A16: №7 | B16: Еропкин | C16: ='2011'!J16 -> 153.69 | D16: ='2012'!AB16 -> -1367.96 | E16: ='2013'!AB16 -> 1827.42 | F16: ='2014'!AB16 -> -2749.16 | G16: ='2015'!AC16 -> -1062.8573 | H16: ='2016'!AB16 -> 1213.7197 | I16: ='2017'!AB16 -> 8159.889 | K16: =SUM(C16:J16) -> 6174.7414
A17: №8 | B17: Шатилов | C17: ='2011'!J17 -> 1522.18 | D17: ='2012'!AB17 -> -8858.61 | E17: ='2013'!AB17 -> 8254.31 | F17: ='2014'!AB17 -> -3610.73 | G17: ='2015'!AC17 -> 5996.8183 | H17: ='2016'!AB17 -> 4126.7148 | I17: ='2017'!AB17 -> 5995.9174 | K17: =SUM(C17:J17) -> 13426.601
A18: №9 | B18: Ворнаков | C18: ='2011'!J18 -> 75.15 | D18: ='2012'!AB18 -> 0.52 | E18: ='2013'!AB18 -> 552.49 | F18: ='2014'!AB18 -> 324.87 | G18: ='2015'!AC18 -> -1301.9297 | H18: ='2016'!AB18 -> 292.3099 | I18: ='2017'!AB18 -> 180.8608 | K18: =SUM(C18:J18) -> 124.271
A19: №10 | B19: Усова | C19: ='2011'!J19 -> 23.72 | D19: ='2012'!AB19 -> -20.04 | E19: ='2013'!AB19 -> 178.2 | F19: ='2014'!AB19 -> -85.64 | G19: ='2015'!AC19 -> 813.3533 | H19: ='2016'!AB19 -> -520.1686 | I19: ='2017'!AB19 -> 422.274 | K19: =SUM(C19:J19) -> 811.6987
A20: №11 | B20: Щербачев | C20: ='2011'!J20 -> 102.87 | D20: ='2012'!AB20 -> -82.39 | E20: ='2013'!AB20 -> 120.89 | F20: ='2014'!AB20 -> -403.06 | G20: ='2015'!AC20 -> 0 | H20: ='2016'!AB20 -> 0 | I20: ='2017'!AB20 -> 0 | K20: =SUM(C20:J20) -> -261.69
A21: №12 | B21: Козлов | C21: ='2011'!J21 -> 120.05 | D21: ='2012'!AB21 -> -481.13 | E21: ='2013'!AB21 -> -115.96 | F21: ='2014'!AB21 -> 395.92 | G21: ='2015'!AC21 -> 0 | H21: ='2016'!AB21 -> 0 | I21: ='2017'!AB21 -> 0 | K21: =SUM(C21:J21) -> -81.12
A22: №13 | B22: Самсонов | C22: ='2011'!J22 -> 358.63 | D22: ='2012'!AB22 -> 99.75 | E22: ='2013'!AB22 -> 1564.27 | F22: ='2014'!AB22 -> 1200.79 | G22: ='2015'!AC22 -> -2885.904 | H22: ='2016'!AB22 -> -0.0013 | I22: ='2017'!AB22 -> 3274.2139 | K22: =SUM(C22:J22) -> 3611.7486
... A68: №56А | B68: Меньшова | C68: ='2011'!J68 -> 7.82 | D68: ='2012'!AB68 -> -540.45 | E68: ='2013'!AB68 -> -112.24 | F68: ='2014'!AB68 -> -902.15 | G68: ='2015'!AC68 -> 969.7859 | H68: ='2016'!AB68 -> -1140.168 | I68: ='2017'!AB68 -> 289.4632 | K68: =SUM(C68:J68) -> -1427.9389
A69: №56Б | B69: Кучер | C69: ='2011'!J69 -> 76.88 | D69: ='2012'!AB69 -> 736.78 | E69: ='2013'!AB69 -> 278.54 | F69: ='2014'!AB69 -> 734.84 | G69: ='2015'!AC69 -> 1625.1186 | H69: ='2016'!AB69 -> -128.0318 | I69: ='2017'!AB69 -> -395.6335 | J69: -1184.69 | K69: =SUM(C69:J69) -> 1743.8033
A70: №57А | B70: Филатова | C70: ='2011'!J70 -> 53.21 | D70: ='2012'!AB70 -> 669.21 | E70: ='2013'!AB70 -> 3.27 | F70: ='2014'!AB70 -> -113.21 | G70: ='2015'!AC70 -> -477.1774 | H70: ='2016'!AB70 -> -719.1825 | I70: ='2017'!AB70 -> 157.8943 | K70: =SUM(C70:J70) -> -425.9856
A71: №57Б | B71: Подлегаева | C71: ='2011'!J71 -> 9.65 | D71: ='2012'!AB71 -> -56.2 | E71: ='2013'!AB71 -> -222.3 | F71: ='2014'!AB71 -> -72.37 | G71: ='2015'!AC71 -> -676.0465 | H71: ='2016'!AB71 -> -104.4448 | I71: ='2017'!AB71 -> 81.132 | K71: =SUM(C71:J71) -> -1040.5793
A72: №58 | B72: Родин | C72: ='2011'!J72 -> 36.74 | D72: ='2012'!AB72 -> 151.13 | E72: ='2013'!AB72 -> -61.6 | F72: ='2014'!AB72 -> 208.75 | G72: ='2015'!AC72 -> 192.8035 | H72: ='2016'!AB72 -> -511.0792 | I72: ='2017'!AB72 -> 187.4616 | K72: =SUM(C72:J72) -> 204.2059
A73: №59 | B73: Большов | C73: ='2011'!J73 -> 74.72 | D73: ='2012'!AB73 -> 6.83 | E73: ='2013'!AB73 -> -926.85 | F73: ='2014'!AB73 -> 319.86 | G73: ='2015'!AC73 -> -197.6776 | H73: ='2016'!AB73 -> 162.453 | I73: ='2017'!AB73 -> 357.6714 | K73: =SUM(C73:J73) -> -202.9932
A74: №60А | B74: Костылева | C74: ='2011'!J74 -> 3.96 | D74: ='2012'!AB74 -> -632.88 | E74: ='2013'!AB74 -> -889.31 | F74: ='2014'!AB74 -> -436.96 | G74: ='2015'!AC74 -> 137.6507 | H74: ='2016'!AB74 -> 1790.8681 | I74: ='2017'!AB74 -> 330.5994 | K74: =SUM(C74:J74) -> 303.9282
A75: №60Б | B75: Глебова | C75: ='2011'!J75 -> 332.12 | D75: ='2012'!AB75 -> -145.86 | E75: ='2013'!AB75 -> 323.76 | F75: ='2014'!AB75 -> -188.6 | G75: ='2015'!AC75 -> -125.0146 | H75: ='2016'!AB75 -> -305.1762 | I75: ='2017'!AB75 -> -1502.9669 | K75: =SUM(C75:J75) -> -1611.7377
A76: №61 | B76: Парамонова | C76: ='2011'!J76 -> 201.39 | D76: ='2012'!AB76 -> -2445.23 | E76: ='2013'!AB76 -> -1261.04 | F76: ='2014'!AB76 -> -1670.56 | G76: ='2015'!AC76 -> -42.22 | H76: ='2016'!AB76 -> 0 | I76: ='2017'!AB76 -> 0 | K76: =SUM(C76:J76) -> -5217.66
A77: №61А | B77: Парамонова | C77: ='2011'!J77 -> 1154.67 | D77: ='2012'!AB77 -> 428.45 | E77: ='2013'!AB77 -> 372.24 | F77: ='2014'!AB77 -> 1404.45 | G77: ='2015'!AC77 -> 0 | H77: ='2016'!AB77 -> 0 | I77: ='2017'!AB77 -> 0 | K77: =SUM(C77:J77) -> 3359.81
A78: №62 | B78: Голубятникова | C78: ='2011'!J78 -> 1923.9 | D78: ='2012'!AB78 -> -363.29 | E78: ='2013'!AB78 -> -3443.75 | F78: ='2014'!AB78 -> -3237.45 | G78: ='2015'!AC78 -> -1805.0188 | H78: ='2016'!AB78 -> 4489.2851 | I78: ='2017'!AB78 -> -6827.2883 | K78: =SUM(C78:J78) -> -9263.612
A79: №62А | B79: Голубятникова | C79: ='2011'!J79 -> 324.79 | D79: ='2012'!AB79 -> 1410.62 | E79: ='2013'!AB79 -> 1660.8 | F79: ='2014'!AB79 -> 1707.64 | G79: ='2015'!AC79 -> 1874.9547 | H79: ='2016'!AB79 -> -1085.3486 | I79: ='2017'!AB79 -> 2300.0704 | K79: =SUM(C79:J79) -> 8193.5265
A80: №63 | B80: Федюшкин | C80: ='2011'!J80 -> 20.47 | D80: ='2012'!AB80 -> -25.59 | E80: ='2013'!AB80 -> 278.47 | F80: ='2014'!AB80 -> -188.41 | G80: ='2015'!AC80 -> 302.9307 | H80: ='2016'!AB80 -> -546.1115 | I80: ='2017'!AB80 -> 10.5024 | K80: =SUM(C80:J80) -> -147.7384
A81: №64 | B81: Савкина | C81: ='2011'!J81 -> 1237.33 | D81: ='2012'!AB81 -> 1504.88 | E81: ='2013'!AB81 -> 2159.2 | F81: ='2014'!AB81 -> -1800.15 | G81: ='2015'!AC81 -> 0 | H81: ='2016'!AB81 -> 0 | I81: ='2017'!AB81 -> 0 | K81: =SUM(C81:J81) -> 3101.26
... A100: №83 | B100: Коршунова | C100: ='2011'!J100 -> 0 | D100: ='2012'!AB100 -> 0 | E100: ='2013'!AB100 -> 0 | F100: ='2014'!AB100 -> 0 | G100: ='2015'!AC100 -> 0 | H100: ='2016'!AB100 -> 0 | I100: ='2017'!AB100 -> 0 | K100: =SUM(C100:J100) -> 0
A101: ИТОГО | C101: =SUM(C11:C100) -> 34026.83 | D101: =SUM(D11:D100) -> -6668.49 | E101: =SUM(E11:E100) -> 55115.07 | F101: =SUM(F11:F100) -> -15113.31 | G101: =SUM(G11:G100) -> -74720.253 | H101: =SUM(H11:H100) -> 3458.5713 | I101: =SUM(I11:I100) -> -3552.4288 | J101: =SUM(J11:J100) -> -1184.69 | K101: =SUM(K11:K100) -> -8638.7002

Sheet 2017
A10: Участок | B10: ФИО | C10: 42736 | E10: 42767 | G10: 42795 | I10: 42826 | K10: 42856 | M10: 42887 | O10: 42917 | Q10: 42948 | S10: 42979 | U10: 43009 | W10: 43040 | Y10: 43070 | AB10: Итого
A11: №1 | B11: Рябцева | C11: 755.9459 | D11: =-351.36-616.32 -> -967.68 | E11: 861.1464 | G11: 345.8371 | H11: =-755.95-861.15 -> -1617.1 | I11: 378.6859 | J11: -345.84 | K11: 2634.7896 | L11: =-378.69-2634.79 -> -3013.48 | M11: 2818.5604 | N11: -2818.56 | O11: 3479.9553 | Q11: 2304.1991 | R11: =-2304.2-6594.39 -> -8898.59 | S11: 2426.5886 | U11: 2125.1523 | V11: -2426.59 | W11: 347.9608 | Y11: 457.7602 | Z11: =-347.96-457.76 -> -805.72 | AB11: =SUM(C11:AA11) -> -1956.9784
A12: №2 | B12: Антипов | C12: 18.4294 | E12: 1260.9469 | G12: 2329.5656 | I12: 1077.1018 | J12: -3600 | K12: 120.6174 | M12: 754.3868 | O12: 1218.7994 | Q12: 370.3594 | R12: -3500 | S12: 476.2289 | U12: 142.2192 | W12: 0 | X12: -600 | Y12: 0 | AB12: =SUM(C12:AA12) -> 68.6548
A13: №3 | B13: Ханина | C13: 3.7176 | E13: 3.7729 | F13: -440 | G13: 3.4379 | I13: 3.7176 | J13: -170.25 | K13: 80.6744 | M13: 121.065 | O13: 84.5123 | Q13: 106.6565 | S13: 3.933 | U13: 3.6963 | W13: 3.2856 | Y13: 4.165 | AB13: =SUM(C13:AA13) -> -187.6159
A14: №5 | B14: Павлюк | AB14: =SUM(C14:AA14) -> 0
A15: №6 | B15: Бордюг | AB15: =SUM(C15:AA15) -> 0
A16: №7 | B16: Еропкин | C16: 0 | E16: 2.3779 | G16: 1530.7938 | I16: 470.3059 | K16: 144.8489 | M16: 720.9122 | O16: 1008.713 | Q16: 467.0695 | S16: 593.9562 | U16: 590.5727 | W16: 298.3909 | Y16: 2331.948 | AB16: =SUM(C16:AA16) -> 8159.889
A17: №8 | B17: Шатилов | C17: 8250.6978 | E17: 1471.5422 | F17: -5005.84 | G17: 1341.3034 | I17: 248.1757 | J17: -12510 | K17: 1060.9353 | M17: 836.3438 | O17: 2065.1742 | Q17: 1226.9924 | S17: 1152.446 | U17: 1452.4075 | W17: 2732.9411 | Y17: 1672.798 | AB17: =SUM(C17:AA17) -> 5995.9174
A18: №9 | B18: Ворнаков | C18: 4.4039 | E18: 4.3128 | G18: 3.9778 | I18: 4.3681 | K18: 4.9406 | M18: 32.6735 | O18: 32.2359 | Q18: 17.4511 | S18: 58.2878 | U18: 8.7308 | W18: 4.1441 | Y18: 5.3344 | AB18: =SUM(C18:AA18) -> 180.8608
A19: №10 | B19: Усова | C19: 3.6623 | E19: 3.607 | G19: 3.3631 | I19: 11.4401 | K19: 107.1286 | L19: -311 | M19: 74.8302 | O19: 54.7321 | Q19: 178.3567 | S19: 101.5159 | U19: 64.1903 | W19: 106.3307 | Y19: 24.117 | AB19: =SUM(C19:AA19) -> 422.274
A20: №11 | B20: Щербачев | AB20: =SUM(C20:AA20) -> 0
A21: №12 | B21: Козлов | AB21: =SUM(C21:AA21) -> 0
A22: №13 | B22: Самсонов | C22: 310.2511 | E22: 219.9661 | G22: 276.1868 | H22: -530.22 | I22: 1053.108 | K22: 758.8945 | M22: 560.5332 | O22: 525.1323 | P22: -1319.42 | Q22: 422.2148 | R22: -947.34 | S22: 309.4405 | U22: 754.3052 | W22: 938.2744 | X22: -1063.75 | Y22: 1006.637 | AB22: =SUM(C22:AA22) -> 3274.2139
A23: №14 | B23: Корчагина | C23: 15.5762 | E23: 15.7616 | G23: 14.311 | I23: 15.7421 | K23: 614.2173 | M23: 2155.9296 | N23: -2155 | O23: 2391.4962 | Q23: 1450.0156 | R23: -6769.79 | S23: 2304.0624 | U23: 1392.6364 | W23: 29.1227 | Y23: 17.8712 | Z23: -5193.71 | AB23: =SUM(C23:AA23) -> -3701.7577
A24: №15 | B24: Кречет | C24: 16.2983 | E24: 342.8848 | F24: -359.18 | G24: 14.9615 | I24: 16.4121 | K24: 3337.4468 | L24: -3368.82 | M24: 2759.5224 | N24: -2759.52 | O24: 2463.7438 | Q24: 1674.8964 | R24: =-2463.74-1674.9 -> -4138.64 | S24: 3107.9121 | T24: -3107.91 | U24: 3632.6048 | W24: 341.2769 | X24: =-3632.6-341.28 -> -3973.88 | Y24: 382.7282 | Z24: -382.73 | AB24: =SUM(C24:AA24) -> 0.0081
A25: №16 | B25: Назаров | AB25: =SUM(C25:AA25) -> 0
A26: №17 | B26: Розофарова | C26: 4.869 | E26: 4.9243 | G26: 4.4982 | I26: 4.9991 | K26: 5.204 | M26: 4.4624 | O26: 67.0332 | Q26: 19.4701 | S26: 5.2811 | U26: 25.9244 | W26: 4.4388 | Y26: 5.534 | AB26: =SUM(C26:AA26) -> 156.6386
A27: №18 | B27: Колесников | C27: 0 | E27: 0 | G27: 0 | I27: 0 | K27: 137.9617 | M27: 82.5759 | O27: 280.3009 | Q27: 392.5914 | R27: -1000 | S27: 677.7253 | U27: 534.9509 | V27: -1070.32 | W27: 15.1197 | Y27: 0 | AB27: =SUM(C27:AA27) -> 50.9058
A28: №19 | B28: Ермилина | C28: 0 | E28: 0 | G28: 0 | I28: 0 | K28: 44.99 | M28: 203.5353 | O28: 128.3712 | Q28: 281.9734 | S28: 310.8161 | U28: 146.3691 | V28: -1000 | W28: 0 | Y28: 0 | AB28: =SUM(C28:AA28) -> 116.0551
A29: №20 | B29: Артюхова | C29: 0 | E29: 0 | G29: 0 | I29: 0 | K29: 471.2845 | M29: 1216.8616 | N29: =-471.28-1216.86 -> -1688.14 | O29: 1435.2055 | Q29: 841.3623 | R29: =-1435.21-841.36 -> -2276.57 | S29: 1022.8368 | T29: =-269.68-1022.84 -> -1292.52 | U29: 999.6382 | W29: 16.53 | X29: =-999.64-16.53 -> -1016.17 | Y29: 0 | AB29: =SUM(C29:AA29) -> -269.6811
A30: №21 | B30: Виноградов | AB30: =SUM(C30:AA30) -> 0
A31: №22 | B31: Волчкова | C31: 2.6768 | D31: -1755.44 | E31: 2.6215 | G31: 2.4166 | I31: 228.9896 | K31: 1507.6074 | L31: -385 | M31: 2855.3789 | N31: -1507.61 | O31: 3135.2718 | Q31: 1859.9186 | S31: 2228.5427 | T31: =-7850.57-2230 -> -10080.57 | U31: 2560.7789 | W31: 42.688 | X31: -2560.78 | Y31: 0 | AB31: =SUM(C31:AA31) -> -1862.5092
A32: №23 | B32: Горбунова | C32: 13.7711 | D32: =-13.77-13.82 -> -27.59 | E32: 13.7711 | G32: 13.3386 | H32: =-13.34-13.77 -> -27.11 | I32: 15.378 | J32: -15.38 | K32: 462.35 | L32: -462.35 | M32: 912.6746 | O32: 1380.0704 | P32: =-912.67-1380.07 -> -2292.74 | Q32: 1211.2699 | S32: 1015.195 | T32: -1211.27 | U32: 887.2696 | W32: 17.6779 | X32: -887.27 | Y32: 16.8387 | AB32: =SUM(C32:AA32) -> 1035.8949
A33: №24 | B33: Мартанова | C33: 4.7194 | E33: 4.5535 | G33: 4.1827 | I33: 4.6641 | K33: 146.6582 | M33: 246.2414 | O33: 3405.4302 | Q33: 1376.1332 | S33: 731.8288 | U33: 12.4846 | W33: 5.1881 | X33: -6000 | Y33: 5.2393 | AB33: =SUM(C33:AA33) -> -52.6765
A34: №25 | B34: Садовникова | C34: 4.0331 | E34: 4.0331 | G34: 3.6623 | I34: 4.1079 | K34: 82.2941 | M34: 215.2149 | N34: -2500 | O34: 103.6576 | Q34: 329.942 | S34: 433.1238 | T34: -2000 | U34: 177.8034 | W34: 3.5803 | Y34: 4.6546 | AB34: =SUM(C34:AA34) -> -3133.8929
A35: №26 | B35: Колотушкина | C35: 0 | E35: 0 | G35: 0 | I35: 0 | K35: 8.1844 | M35: 272.1745 | O35: 662.6751 | Q35: 267.0003 | S35: 234.3934 | U35: 13.0191 | W35: 0 | X35: -1082.95 | Y35: 0 | AB35: =SUM(C35:AA35) -> 374.4968
A36: №26Б | B36: Андреева | C36: 0 | D36: -724.21 | E36: 0 | G36: 0 | I36: 0 | K36: 0 | M36: 0 | O36: 22.4695 | Q36: 318.9158 | S36: 20.0596 | U36: 0 | W36: 0 | X36: -289 | Y36: 0 | AB36: =SUM(C36:AA36) -> -651.7651
A37: №27 | B37: Рассказихин | C37: 4.2185 | E37: 4.238 | G37: 3.8835 | I37: 4.238 | K37: 172.5157 | M37: 232.409 | O37: 374.7479 | Q37: 275.2707 | S37: 190.8637 | U37: 29.7047 | W37: 3.9121 | X37: -1630.31 | Y37: 4.8495 | AB37: =SUM(C37:AA37) -> -329.4587
A38: №28 | B38: Хруцкая | C38: 0 | E38: 0 | G38: 0 | I38: 0 | K38: 0.966 | M38: 101.7657 | N38: -300 | O38: 184.0461 | Q38: 4.0072 | S38: 4.9284 | U38: 4.6546 | W38: 4.1859 | Y38: 5.3391 | AB38: =SUM(C38:AA38) -> 9.893
A39: №29 | B39: Сахаров | C39: 0 | E39: 0 | G39: 0 | I39: 0 | K39: 25.6455 | L39: -284.79 | M39: 0 | O39: 183.0602 | Q39: 64.788 | S39: 78.265 | U39: 1.856 | W39: 15.486 | X39: -369.1 | Y39: 7.0436 | AB39: =SUM(C39:AA39) -> -277.7457
A40: №30 | B40: Засыпкина | C40: 0 | E40: 0 | G40: 0 | I40: 0 | K40: 986.0509 | M40: 1680.3165 | O40: 1672.1918 | P40: -3318.94 | Q40: 822.2668 | S40: 1951.52 | T40: -2455.65 | U40: 909.0197 | V40: -2860.54 | W40: 0 | Y40: 0 | AB40: =SUM(C40:AA40) -> -613.7643
A41: №31А | B41: Сизых | AB41: =SUM(C41:AA41) -> 0
A42: №31Б | B42: Акмеева | C42: 6.6776 | E42: 8.3919 | G42: 26.8589 | I42: 13.3884 | K42: 344.7556 | M42: 509.9565 | O42: 707.0705 | P42: -600 | Q42: 371.8414 | S42: 503.6473 | U42: 392.7292 | W42: 27.3488 | Y42: 15.6098 | AB42: =SUM(C42:AA42) -> 2328.2759
A43: №32 | B43: Горюшкин | C43: 11.7838 | E43: 11.7675 | G43: 10.7625 | I43: 11.9139 | K43: 515.3361 | M43: 1424.8011 | N43: =-558.64-1424.8 -> -1983.44 | O43: 1026.3123 | P43: -1026.31 | Q43: 881.0533 | R43: -881.05 | S43: 1179.5473 | U43: 473.1244 | W43: 57.6624 | Y43: 13.3953 | Z43: -1179.55 | AB43: =SUM(C43:AA43) -> 547.1099
A44: №33 | B44: Житенев | AB44: =SUM(C44:AA44) -> 0
A45: №34 | B45: Корчененков | C45: 12928.855 | D45: -8579.91 | E45: 8975.3071 | G45: 11542.292 | H45: =-8975.31-11542.29-12928.86 -> -33446.46 | I45: 2939.7674 | J45: -2939.77 | K45: 9441.8106 | L45: -9441.81 | M45: 4842.9806 | N45: -2094.14 | O45: 6302.7987 | Q45: 2774.6365 | R45: -9077.44 | S45: 6139.7891 | U45: 10305.236 | V45: =-6139.79-10305.24 -> -16445.03 | W45: 9999.0444 | Y45: 10246.355 | Z45: =-9999.04-10246.36 -> -20245.4 | AB45: =SUM(C45:AA45) -> -5831.0878
A46: №35 | B46: Осипова, Яковл. | C46: 4.5535 | E46: 4.5535 | G46: 4.2185 | I46: 4.6641 | K46: 4.8332 | M46: 16.9017 | O46: 40.7592 | Q46: 141.6833 | S46: 2057.706 | U46: 3.0698 | W46: 0 | Y46: 0 | AB46: =SUM(C46:AA46) -> 2282.9428
A47: №36 | B47: Осипова О. | C47: 0 | E47: 0 | G47: 0 | I47: 0 | K47: 0 | M47: 12.2766 | O47: 0 | Q47: 15.3632 | S47: 12.3263 | U47: 0.3527 | W47: 0 | Y47: 0 | AB47: =SUM(C47:AA47) -> 40.3188
A48: №37 | B48: Бирюкова | C48: 4634.3604 | D48: -4700 | E48: 31226.948 | G48: 4999.8848 | H48: -31230 | I48: 1202.5773 | J48: =-5000-1205 -> -6205 | K48: 1252.8239 | L48: -1255 | M48: 1315.2018 | N48: -1320 | O48: 1581.1427 | P48: -1585 | Q48: 904.9164 | R48: -905 | S48: 1363.3106 | T48: -1365 | U48: 2485.9971 | V48: -2490 | W48: 1484.3513 | X48: -1485 | Y48: 1712.1866 | Z48: -1715 | AB48: =SUM(C48:AA48) -> -91.299
A49: №39 | B49: Хорошева | C49: 13.5304 | E49: 13.4751 | G49: 12.2489 | I49: 13.6052 | K49: 193.9656 | M49: 352.4593 | N49: =-69.96-352.4 -> -422.36 | O49: 768.4879 | Q49: 338.3469 | S49: 710.4963 | U49: 465.915 | W49: 8.2929 | X49: =-1106.85-1176.42 -> -2283.27 | Y49: 10.4995 | AB49: =SUM(C49:AA49) -> 195.693
...

Sheet 2016
A10: Участок | B10: ФИО | C10: 42370 | E10: 42401 | G10: 42430 | I10: 42461 | K10: 42491 | M10: 42522 | O10: 42552 | Q10: 42583 | S10: 42614 | U10: 42644 | W10: 42675 | Y10: 42705 | AB10: Итого
A11: №1 | B11: Рябцева | C11: 764.3694 | E11: 572.111 | F11: -764.37 | G11: 341.0866 | H11: =-572.11-341.09 -> -913.2 | I11: 297.1419 | K11: 2117.6395 | L11: -297.14 | M11: 2008.1721 | N11: =-2117.64-2008.17 -> -4125.81 | O11: 1917.36 | P11: -1917.36 | Q11: 1909.4313 | R11: -1909.43 | S11: 2957.8322 | T11: -995.62 | U11: 1271.5702 | W11: 351.364 | X11: -1271.57 | Y11: 616.8182 | AB11: =SUM(C11:AA11) -> 2930.3964
A12: №2 | B12: Антипов | C12: 119.843 | E12: 160.6607 | G12: 261.9023 | H12: -1000 | I12: 620.624 | K12: 890.9318 | M12: 1126.5716 | N12: -3000 | O12: 850.57 | Q12: 1117.7511 | S12: 1410.9804 | T12: -3400 | U12: 2175.7676 | W12: 450.0104 | Y12: 15.2188 | Z12: -2600 | AB12: =SUM(C12:AA12) -> -799.1683
A13: №3 | B13: Ханина | C13: 3.5578 | E13: 3.523 | G13: 3.3818 | I13: 3.523 | K13: 55.4731 | M13: 136.239 | N13: -123.29 | O13: 120 | Q13: 100.6813 | S13: 77.7431 | U13: 72.6075 | W13: 3.5875 | Y13: 3.4574 | AB13: =SUM(C13:AA13) -> 460.4845
A14: №5 | B14: Павлюк | AB14: =SUM(C14:AA14) -> 0
A15: №6 | B15: Бордюг | AB15: =SUM(C15:AA15) -> 0
A16: №7 | B16: Еропкин | C16: 0 | E16: 0 | G16: 0 | I16: 20.5203 | K16: 694.9489 | M16: 600.471 | O16: 418.31 | P16: -2000 | Q16: 705.4818 | S16: 495.1641 | U16: 262.1885 | W16: 16.6351 | Y16: 0 | AB16: =SUM(C16:AA16) -> 1213.7197
A17: №8 | B17: Шатилов | C17: 15.9057 | E17: 15.9405 | G17: 14.9372 | I17: 15.9763 | K17: 2546.338 | M17: 1192.5185 | N17: -4932.54 | O17: 1862.45 | Q17: 932.6324 | S17: 1017.9388 | U17: 1197.3181 | W17: 230.7571 | Y17: 16.5422 | AB17: =SUM(C17:AA17) -> 4126.7148
A18: №9 | B18: Ворнаков | C18: 4.1216 | E18: 4.1216 | G18: 3.8402 | I18: 4.1395 | K18: 4.0689 | M18: 179.9701 | O18: 18.34 | Q18: 57.3512 | S18: 4.3876 | U18: 3.903 | W18: 4.1079 | Y18: 3.9583 | AB18: =SUM(C18:AA18) -> 292.3099
A19: №10 | B19: Усова | C19: 3.5409 | E19: 3.4524 | G19: 3.171 | I19: 43.8733 | K19: 88.657 | M19: 198.8031 | O19: 342.43 | Q19: 390.1231 | R19: =-6.99-135.7-792.19-931.35 -> -1866.23 | S19: 187.2081 | U19: 47.3426 | W19: 34.0578 | Y19: 3.4021 | AB19: =SUM(C19:AA19) -> -520.1686
A20: №11 | B20: Щербачев | AB20: =SUM(C20:AA20) -> 0
A21: №12 | B21: Козлов | AB21: =SUM(C21:AA21) -> 0
A22: №13 | B22: Самсонов | C22: 263.6028 | E22: 350.4288 | F22: -614.03 | G22: 1338.8958 | I22: 504.2546 | K22: 711.9962 | L22: -1843.15 | M22: 418.7609 | N22: -1130.76 | O22: 433.45 | Q22: 1087.236 | R22: -1520.69 | S22: 707.3045 | U22: 1975.0354 | V22: -2682.34 | W22: 986.1899 | Y22: 377.7438 | Z22: -1363.93 | AB22: =SUM(C22:AA22) -> -0.0013
A23: №14 | B23: Корчагина | C23: 14.9551 | E23: 14.8666 | G23: 13.916 | I23: 25.688 | K23: 333.6808 | M23: 1196.5319 | O23: 1311.3 | P23: -1196.53 | Q23: 1571.1171 | R23: -3332.87 | S23: 2167.6265 | U23: 1616.6205 | W23: 22.9116 | Y23: 14.7793 | AB23: =SUM(C23:AA23) -> 3774.5934
A24: №15 | B24: Кречет | C24: 222.6758 | E24: 103.9245 | G24: 40.2306 | I24: 131.9724 | K24: 1934.4353 | M24: 2190.5908 | N24: =-2682.01-2190.59 -> -4872.6 | O24: 1467.1 | P24: -1467.1 | Q24: 1752.204 | R24: -1752.2 | S24: 2879.4405 | T24: -2879.44 | U24: 3391.3606 | V24: -3391.36 | W24: 195.2245 | Y24: 432.3565 | Z24: -627.58 | AB24: =SUM(C24:AA24) -> -248.7645
A25: №16 | B25: Назаров | AB25: =SUM(C25:AA25) -> 0
A26: №17 | B26: Розофарова | C26: 0 | E26: 0.2635 | G26: 0 | I26: 0 | K26: 0 | M26: 177.8566 | O26: 56.03 | Q26: 6.3944 | S26: 175.5621 | U26: 4.9601 | W26: 4.7031 | Y26: 4.5535 | AB26: =SUM(C26:AA26) -> 430.3233
A27: №18 | B27: Пухова | C27: 0 | E27: 0 | G27: 0 | I27: 0 | K27: 56.6826 | M27: 90.2328 | O27: 124.42 | P27: =-220-125 -> -345 | Q27: 177.2505 | R27: -130 | S27: 105.1374 | U27: 35.8009 | W27: 9.7328 | Y27: 0 | AB27: =SUM(C27:AA27) -> 124.257
A28: №19 | B28: Ермилина | C28: 0 | E28: 0 | G28: 0 | I28: 0 | K28: 65.1307 | M28: 206.3649 | O28: 295.14 | Q28: 291.6511 | S28: 243.6349 | T28: -247.02 | U28: 23.8712 | W28: 0 | Y28: 0 | AB28: =SUM(C28:AA28) -> 878.7728
A29: №20 | B29: Артюхова | C29: 0 | E29: 0 | G29: 0 | I29: 0 | K29: 471.0552 | L29: -471.06 | M29: 898.4294 | N29: -898.43 | O29: 1011.58 | P29: -1011.58 | Q29: 1038.0404 | R29: -1824.29 | S29: 786.2465 | U29: 343.6885 | V29: -343.69 | W29: 0 | Y29: 0 | AB29: =SUM(C29:AA29) -> -0.01
A30: №21 | B30: Виноградов | AB30: =SUM(C30:AA30) -> 0
A31: №22 | B31: Волчкова | C31: 2.6072 | E31: 2.5366 | G31: 2.3079 | I31: 106.4258 | K31: 1027.5962 | M31: 2096.1798 | N31: =-3458.97-2100 -> -5558.97 | O31: 1486.38 | Q31: 1991.0916 | R31: -3050 | S31: 2135.4746 | U31: 1755.4378 | V31: -2135 | W31: 154.4596 | Y31: 2.4361 | AB31: =SUM(C31:AA31) -> 18.9632
A32: №23 | B32: Горбунов | C32: 13.0519 | E32: 13.1046 | F32: =-13.05-13.1 -> -26.15 | G32: 12.506 | H32: -12.51 | I32: 16.7767 | K32: 613.0858 | L32: =-16.78-613.09 -> -629.87 | M32: 1228.8658 | N32: -1228.87 | O32: 1637.53 | P32: -1637.53 | Q32: 1059.9436 | R32: -1059.94 | S32: 1179.2999 | T32: -1179.3 | U32: 736.3398 | V32: -736.34 | W32: 49.5144 | X32: -49.51 | Y32: 13.8232 | AB32: =SUM(C32:AA32) -> 13.8217
A33: №24 | B33: Мартанова | C33: 4.5651 | E33: 262.2358 | G33: 4.051 | I33: 4.3682 | K33: 243.1195 | M33: 2480.0015 | N33: -7300 | O33: 1162.76 | Q33: 1281.0574 | S33: 463.8271 | T33: -8600 | U33: 187.561 | W33: 4.3681 | Y33: 4.238 | AB33: =SUM(C33:AA33) -> -9797.8473
A34: №25 | B34: Садовникова | C34: 3.8223 | E34: 3.875 | F34: -600 | G34: 3.5757 | I34: 3.8929 | K34: 27.3984 | M34: 113.3779 | O34: 357.22 | Q34: 271.8224 | S34: 502.1659 | U34: 12.8604 | W34: 3.8672 | Y34: 3.7729 | AB34: =SUM(C34:AA34) -> 707.651
A35: №26 | B35: Колотушкина | C35: 0 | E35: 0 | F35: -813.99 | G35: 0 | I35: 3.3201 | K35: 10.6454 | M35: 485.5337 | N35: -499.5 | O35: 544.18 | P35: -544.18 | Q35: 659.6112 | S35: 902.1544 | U35: 541.4812 | V35: -2103.24 | W35: 0 | Y35: 0 | AB35: =SUM(C35:AA35) -> -813.984
A36: №26Б | B36: Андреева | C36: 0 | E36: 0 | F36: -461.29 | G36: 0 | I36: 0 | K36: 0 | M36: 0 | O36: 360.82 | Q36: 329.6304 | S36: 33.7562 | U36: 0 | W36: 0 | Y36: 0 | AB36: =SUM(C36:AA36) -> 262.9166
A37: №27 | B37: Рассказихин | C37: 4.0689 | E37: 3.9983 | G37: 3.7696 | I37: 4.0341 | K37: 55.3345 | M37: 301.4563 | O37: 426.42 | P37: -1570 | Q37: 524.8056 | S37: 349.3077 | U37: 4.0331 | W37: 37.4616 | Y37: 161.2518 | AB37: =SUM(C37:AA37) -> 305.9415
A38: №28 | B38: Хруцкая | C38: 0 | E38: 0 | G38: 0 | I38: 0 | K38: 0 | M38: 121.0172 | N38: -700 | O38: 113.91 | Q38: 4.4071 | S38: 4.7226 | U38: 209.7224 | W38: 4.5177 | Y38: 1.4311 | AB38: =SUM(C38:AA38) -> -240.2719
A39: №29 | B39: Сахаров | C39: 0 | E39: 0.0527 | G39: 0.0527 | I39: 0 | K39: 16.7059 | M39: 28.1399 | O39: 90.28 | Q39: 104.3023 | S39: 19.1524 | U39: 26.1569 | W39: 0 | Y39: 0 | AB39: =SUM(C39:AA39) -> 284.8428
A40: №30 | B40: Засыпкина | C40: 0 | E40: 0 | G40: 0 | I40: 0 | K40: 962.6431 | M40: 1107.5057 | N40: =-575.26-962.64-1107.51 -> -2645.41 | O40: 842.65 | P40: -842.65 | Q40: 1013.1141 | S40: 1933.9911 | T40: -2947.1 | U40: 652.5746 | W40: 0 | Y40: 0 | AB40: =SUM(C40:AA40) -> 77.3186
A41: №31А | B41: Сизых | AB41: =SUM(C41:AA41) -> 0
A42: №31Б | B42: Акмеева | C42: 6.4603 | E42: 7.918 | G42: 4.5273 | I42: 99.3806 | K42: 253.8845 | M42: 514.061 | N42: -4450 | O42: 443.54 | Q42: 388.4593 | S42: 666.097 | U42: 671.4731 | W42: 8.9254 | Y42: 4.7031 | AB42: =SUM(C42:AA42) -> -1380.5704
A43: №32 | B43: Горюшкин | C43: 11.097 | E43: 11.1676 | G43: 10.3751 | I43: 11.2909 | K43: 301.5855 | L43: =-24.57-345.55 -> -370.12 | M43: 1241.622 | N43: -1241.63 | O43: 1593 | P43: -1593 | Q43: 1674.0544 | R43: -1674.05 | S43: 1526.0923 | T43: -1526.09 | U43: 1363.5563 | V43: -1363.56 | W43: 42.5111 | Y43: 10.9316 | Z43: -53.46 | AB43: =SUM(C43:AA43) -> -24.6262
A44: №33 | B44: Житенев | AB44: =SUM(C44:AA44) -> 0
A45: №34 | B45: Корчененков | C45: 17942.707 | E45: 6921.5739 | F45: -17942.71 | G45: 6948.8603 | H45: =-6921.57-6948.86 -> -13870.43 | I45: 3924.6829 | J45: -3924.68 | K45: 3365.6231 | L45: -3365.62 | M45: 3678.5602 | N45: -3678.56 | O45: 2521.36 | P45: -2521.36 | Q45: 2607.2208 | S45: 5983.28 | T45: =-2607.22-5983.28 -> -8590.5 | U45: 4735.404 | V45: -4735.4 | W45: 11779.408 | X45: -11779.41 | Y45: 8579.9054 | AB45: =SUM(C45:AA45) -> 8579.9159
A46: №35 | B46: Осипова, Яковл. | C46: 4.3861 | E46: 4.4209 | G46: 4.1216 | I46: 4.404 | K46: 5.1587 | M46: 716.812 | O46: 589.04 | P46: -2000 | Q46: 161.8972 | S46: 98.8123 | U46: 9.4653 | W46: 4.4234 | Y46: 4.2933 | AB46: =SUM(C46:AA46) -> -392.7652
A47: №36 | B47: Осипова О. | C47: 0 | E47: 0 | G47: 0 | I47: 0 | K47: 0 | M47: 5.2024 | O47: 33.7 | P47: -500 | Q47: 11.9107 | S47: 15.5131 | U47: 0 | W47: 0 | Y47: 0 | AB47: =SUM(C47:AA47) -> -433.6738
A48: №37 | B48: Бирюкова | C48: 3124.6948 | D48: -3130 | E48: 2590.8013 | F48: -2600 | G48: 17734.235 | H48: -17740 | I48: 24371.117 | J48: -24400 | K48: 6149.367 | L48: -6150 | M48: 5158.8755 | N48: -5160 | O48: 3677.33 | P48: -3680 | Q48: 4485.0385 | R48: -4490 | S48: 6307.6904 | T48: -6308 | U48: 9344.4985 | V48: -9345 | W48: 34073.534 | X48: -35000 | Y48: 14538.614 | Z48: -14550 | AB48: =SUM(C48:AA48) -> -997.2043
A49: №39 | B49: Хорошева | C49: 12.9286 | E49: 12.9992 | G49: 12.0486 | I49: 12.9644 | K49: 254.0252 | L49: -63 | M49: 383.1477 | N49: =-254.3-1000 -> -1254.3 | O49: 634.89 | Q49: 546.7346 | S49: 758.5362 | T49: -758.54 | U49: 606.5649 | V49: =-793.33-800 -> -1593.33 | W49: 13.3092 | Y49: 12.8441 | AB49: =SUM(C49:AA49) -> -408.1773
...

Sheet 2015
A10: Участок | B10: ФИО | C10: 41791 | D10: 42005 | F10: 42036 | H10: 42064 | J10: 42095 | L10: 42125 | N10: 42156 | P10: 42186 | R10: 42217 | T10: 42248 | V10: 42278 | X10: 42309 | Z10: 42339 | AC10: Итого
A11: №1 | B11: Рябцева | C11: 951 | D11: 796.82 | F11: 490.31 | G11: -796.82 | H11: 199.01 | I11: -490.31 | J11: 216.76 | K11: -199.01 | L11: 397.77 | M11: -216.76 | N11: 1437.51 | O11: =-397.77-951-1437.51 -> -2786.28 | P11: 2010.57 | R11: 2015.56 | S11: =-1238.73-771.84-2015.56 -> -4026.13 | T11: 3492.1972 | U11: -3492.2 | V11: 2632.0892 | W11: -2632.09 | X11: 324.2488 | Y11: -324.25 | Z11: 364.0124 | AA11: -364.01 | AC11: =SUM(C11:AB11) -> -0.0024
A12: №2 | B12: Антипов | D12: 212.9 | F12: 148.12 | G12: -430 | H12: 254.87 | J12: 139.34 | K12: -400 | L12: 672.97 | N12: 533.13 | P12: 620.14 | R12: 1056.7 | S12: -3000 | T12: 1188.9779 | V12: 1334.9379 | W12: -2500 | X12: 490.9647 | Z12: 283.4732 | AC12: =SUM(C12:AB12) -> 606.5237
A13: №3 | B13: Ханина | C13: 17 | D13: 3.32 | F13: 3.32 | H13: 2.98 | J13: 3.3 | L13: 56.53 | N13: 77.02 | O13: -245.19 | P13: 16.88 | Q13: -7977.04 | R13: 415.22 | S13: -510 | T13: 42.4697 | V13: 4.2956 | X13: 3.6284 | Z13: 3.4524 | AC13: =SUM(C13:AB13) -> -8082.8139
A14: №5 | B14: Павлюк | AC14: =SUM(C14:AB14) -> 0
A15: №6 | B15: Бордюг | D15: 3238.49 | E15: -3238.49 | F15: 3307.36 | G15: -3307.36 | H15: 2347.4 | I15: -2347.4 | J15: 2136.56 | K15: -2136.56 | L15: 2338.89 | M15: -2338.89 | N15: 602.64 | O15: -602.64 | P15: 843.51 | Q15: -843.51 | R15: 1358.86 | S15: -1358.86 | T15: 1382.719 | U15: -1382.72 | V15: 1757.971 | W15: -1757.97 | AC15: =SUM(C15:AB15) -> -2.2737368e-12
A16: №7 | B16: Еропкин | D16: - р. | F16: - р. | H16: - р. | J16: 1.44 | L16: 1056.18 | N16: 612.72 | P16: 564.63 | Q16: -3000 | R16: 544.93 | T16: 830.2447 | V16: 326.998 | X16: 0 | Y16: -2000 | Z16: 0 | AC16: =SUM(C16:AB16) -> -1062.8573
A17: №8 | B17: Шатилов | D17: 16.38 | F17: 14.59 | H17: 13.29 | J17: 1055.2 | L17: 2519.89 | N17: 343.19 | P17: 826.03 | R17: 954.53 | S17: -2123.75 | T17: 685.6322 | V17: 391.8471 | X17: 1284.2772 | Z17: 15.7118 | AC17: =SUM(C17:AB17) -> 5996.8183
A18: №9 | B18: Ворнаков | D18: 3.81 | F18: 3.76 | H18: 3.36 | J18: 3.76 | L18: 38.52 | N18: 45.88 | P18: 9.25 | Q18: -1500 | R18: 62.51 | T18: 7.6008 | V18: 7.0728 | X18: 8.1268 | Z18: 4.4199 | AC18: =SUM(C18:AB18) -> -1301.9297
A19: №10 | B19: Усова | D19: 3.04 | F19: 3.07 | H19: 2.82 | J19: 12.24 | L19: 108.77 | N19: 135.69 | P19: 269.61 | R19: 327.19 | T19: 509.187 | V19: 162.1541 | X19: 106.9552 | Z19: 13.887 | AA19: -841.26 | AC19: =SUM(C19:AB19) -> 813.3533
A20: №11 | B20: Щербачев | AC20: =SUM(C20:AB20) -> 0
A21: №12 | B21: Козлов | AC21: =SUM(C21:AB21) -> 0
A22: №13 | B22: Самсонов | D22: 1021.11 | E22: -2885.92 | F22: 368.42 | H22: 161.52 | I22: -1389.53 | J22: 95.91 | K22: -257.43 | L22: 629.86 | N22: 587.36 | P22: 875.84 | Q22: -1217.22 | R22: 772.2 | S22: -1648.04 | T22: 1109.4119 | V22: 684.2048 | W22: -1793.61 | X22: 1108.3247 | Z22: 943.6346 | AA22: -2051.95 | AC22: =SUM(C22:AB22) -> -2885.904
A23: №14 | B23: Корчагина | D23: 13.48 | F23: 13.53 | H23: 12.28 | J23: 15.61 | L23: 459.83 | N23: 1175.18 | O23: -459.83 | P23: 1613.21 | Q23: -1548.87 | R23: 1651.26 | S23: -1651.26 | T23: 1823.0552 | V23: 421.9679 | X23: 32.8204 | Y23: -3858.24 | Z23: 14.5146 | AC23: =SUM(C23:AB23) -> -271.4619
A24: №15 | B24: Кречет | D24: 315.7 | F24: 29.12 | G24: -315.7 | H24: 213.56 | J24: 15.76 | L24: 1825.97 | N24: 1412.31 | O24: -2084.41 | P24: 1596.61 | Q24: -1412.31 | R24: 1882.38 | S24: =-1596.61-1882.38 -> -3478.99 | T24: 2684.7289 | V24: 1732.2423 | W24: -2684.73 | X24: 53.7657 | Y24: -1732.24 | Z24: 194.9989 | AC24: =SUM(C24:AB24) -> 248.7658
A25: №16 | B25: Назаров | D25: 812.85 | F25: 828.14 | O25: -5744.07 | AC25: =SUM(C25:AB25) -> -4103.08
A26: №17 | B26: Розофарова | D26: - р. | F26: - р. | H26: - р. | J26: - р. | L26: 2.75 | N26: 100.6 | P26: 73.04 | R26: 49.78 | T26: 33.6168 | V26: 28.3469 | X26: 14.6705 | Z26: 0 | AC26: =SUM(C26:AB26) -> 302.8042
A27: №18 | B27: Пухова | D27: 7.52 | F27: - р. | H27: 30.69 | J27: - р. | L27: 472.46 | M27: -1500 | N27: 711.31 | O27: =-500-600 -> -1100 | P27: 818.21 | Q27: -711 | R27: 1033.51 | S27: =-850-1040 -> -1890 | T27: 881.7725 | V27: 121.3288 | W27: -850 | X27: 0.8959 | Y27: -900 | Z27: 0 | AC27: =SUM(C27:AB27) -> -2873.3028
A28: №19 | B28: Ермилина | D28: - р. | F28: - р. | H28: - р. | J28: - р. | L28: 17.83 | N28: 64.49 | P28: 19.8 | R28: 120.65 | T28: 256.5016 | V28: 0.8959 | W28: -611.97 | X28: 0 | Z28: 0 | AC28: =SUM(C28:AB28) -> -131.8025
A29: №20 | B29: Артюхова | D29: - р. | F29: - р. | H29: - р. | J29: - р. | L29: 178.87 | N29: 197.05 | P29: 1055.79 | Q29: -375.92 | R29: 945.61 | S29: -2001.4 | T29: 597.3486 | V29: 606.8486 | X29: 0 | Y29: -1204.2 | Z29: 0 | AC29: =SUM(C29:AB29) -> -0.0028
A30: №21 | B30: Виноградов | AC30: =SUM(C30:AB30) -> 0
A31: №22 | B31: Волчкова | D31: 2.15 | F31: 2.15 | H31: 1.97 | J31: 77.16 | L31: 859.54 | N31: 931.16 | O31: =-7-78-140-157-619-860 -> -1861 | P31: 1148.38 | R31: 1362.71 | T31: 1524.5781 | V31: 2146.6026 | W31: -4963.5 | X31: 168.9157 | Z31: 2.4133 | AC31: =SUM(C31:AB31) -> 1403.2297
A32: №23 | B32: Горбунов | D32: 12.48 | F32: 12.27 | H32: 13.06 | I32: =-12.27-12.48 -> -24.75 | J32: 14.64 | K32: =-13.06-14.64 -> -27.7 | L32: 300.04 | M32: -300.04 | N32: 844.39 | P32: 1478.77 | Q32: =-844.39-1217.22-1478.77 -> -3540.38 | R32: 1173.59 | S32: -1173.59 | T32: 1239.3622 | U32: -1239.36 | V32: 1190.822 | W32: -1190.82 | X32: 20.5194 | Y32: -20.52 | Z32: 14.3694 | AA32: -14.37 | AC32: =SUM(C32:AB32) -> -1217.217
A33: №24 | B33: Мартанова | D33: 2.29 | F33: 234.94 | H33: 3.64 | J33: 81.83 | L33: 185.7 | N33: 673.98 | P33: 1962.93 | R33: 1981.65 | T33: 2578.0106 | V33: 550.034 | X33: 4.4388 | Z33: 10.9199 | AC33: =SUM(C33:AB33) -> 8270.3633
A34: №25 | B34: Садовникова | D34: 3.59 | F34: 3.49 | H34: 3.19 | J34: 3.48 | L34: 35.38 | N34: 154.33 | P34: 274.63 | R34: 292.35 | T34: 689.7915 | V34: 165.5912 | X34: 3.875 | Z34: 3.7517 | AC34: =SUM(C34:AB34) -> 1633.4494
A35: №26 | B35: Колотушкина | D35: - р. | F35: - р. | H35: - р. | J35: - р. | L35: 4.41 | N35: 378.37 | O35: -337.09 | P35: 708.82 | R35: 985.59 | S35: -2072.78 | T35: 361.4823 | V35: 89.646 | X35: 1.3702 | Z35: 0 | AC35: =SUM(C35:AB35) -> 119.8185
A36: №26Б | B36: Андреева | D36: - р. | F36: - р. | H36: - р. | J36: - р. | L36: - р. | N36: 17.43 | P36: - р. | R36: 298.98 | T36: 72.4419 | V36: 0 | X36: 0 | Z36: 0 | AC36: =SUM(C36:AB36) -> 388.8519
A37: №27 | B37: Рассказихин | D37: 3.65 | F37: 3.72 | H37: 3.36 | J37: 9.46 | L37: 62.01 | N37: 485.31 | P37: 531.72 | R37: 776.11 | S37: -2000 | T37: 739.9261 | V37: 213.5847 | X37: 4.1216 | Z37: 3.9108 | AC37: =SUM(C37:AB37) -> 836.8832
A38: №28 | B38: Хруцкая | D38: - р. | F38: - р. | H38: - р. | J38: - р. | L38: 1.74 | N38: 52.87 | P38: 89.35 | R38: 153.97 | T38: 83.9967 | V38: 134.4972 | X38: 0.7219 | Z38: 0 | AC38: =SUM(C38:AB38) -> 517.1458
A39: №29 | B39: Сахаров | D39: - р. | F39: - р. | H39: 0.1 | J39: - р. | L39: 6.4 | N39: - р. | P39: 18.44 | R39: 48.18 | T39: 20.925 | U39: -105.33 | V39: 6.3767 | X39: 2.3188 | Z39: 0 | AC39: =SUM(C39:AB39) -> -2.5895
A40: №30 | B40: Засыпкина | D40: - р. | F40: - р. | H40: - р. | J40: - р. | L40: 638.01 | N40: 834.96 | O40: =-638.01-834.96 -> -1472.97 | P40: 923.61 | R40: 1036.02 | S40: =-923.61-1036.2 -> -1959.81 | T40: 2047.8132 | V40: 575.2606 | W40: -2047.81 | X40: 0 | Z40: 0 | AC40: =SUM(C40:AB40) -> 575.0838
A41: №31А | B41: Сизых | D41: - р. | F41: - р. | H41: - р. | J41: - р. | L41: 61.41 | N41: 330.7 | O41: -410.41 | P41: 490.9 | Q41: -821.6 | R41: 568.76 | S41: -568.76 | T41: 519.6139 | W41: -519.61 | AC41: =SUM(C41:AB41) -> -348.9961
A42: №31Б | B42: Акмеева | D42: 12.71 | F42: 11.27 | H42: 10.93 | J42: 39.77 | L42: 272.35 | N42: 295.23 | P42: 282.88 | Q42: -2845 | R42: 257.38 | T42: 516.7039 | V42: 1090.7538 | X42: 347.3642 | Z42: 8.8487 | AC42: =SUM(C42:AB42) -> 301.1906
A43: №32 | B43: Горюшкин | D43: 10.11 | F43: 10.07 | H43: 9.1 | J43: 90.84 | K43: =-9.69-120.12 -> -129.81 | L43: 308.27 | N43: 1110.8 | O43: =-308.27-1110.8 -> -1419.07 | P43: 1285.11 | Q43: -1285.11 | R43: 1381.98 | S43: -1381.98 | T43: 1261.7059 | U43: -1261.71 | V43: 835.5391 | W43: -835.54 | X43: 13.908 | Z43: 10.6565 | AC43: =SUM(C43:AB43) -> 14.8695
A44: №33 | B44: Житенев | AC44: =SUM(C44:AB44) -> 0
A45: №34 | B45: Корчененков | D45: 12180.38 | F45: 6692.97 | G45: =-548.79-5826.28-6354.1-6692.97 -> -19422.14 | H45: 3797.59 | J45: 5287.96 | K45: -3797.59 | L45: 3111.92 | M45: =-3111.92-5287.96 -> -8399.88 | N45: 2748.84 | O45: -2748.84 | P45: 3059 | R45: 3345.25 | S45: =-2748.84-3059-3345.25 -> -9153.09 | T45: 5710.5891 | U45: -5710.59 | V45: 3948.337 | W45: -3948.34 | X45: 5154.4455 | Y45: -5154.45 | Z45: 14622.721 | AA45: -14622.72 | AC45: =SUM(C45:AB45) -> -3297.6374
A46: №35 | B46: Осипова, Яковл. | D46: 4.07 | F46: 4.04 | H46: 3.7 | J46: 4.04 | L46: 3.97 | N46: 236.54 | P46: 423.42 | R46: 654.25 | T46: 377.0704 | U46: -8000 | V46: 1155.585 | X46: 23.8503 | Z46: 4.2628 | AC46: =SUM(C46:AB46) -> -5105.2015
A47: №36 | B47: Кулишкин | C47: 54 | D47: - р. | F47: - р. | H47: - р. | J47: - р. | L47: 0.14 | N47: 1.1 | P47: 36.61 | R47: 33.12 | T47: 135.0671 | V47: 352.4244 | X47: 0 | Z47: 0 | AC47: =SUM(C47:AB47) -> 612.4615
A48: №37 | B48: Бирюкова | D48: 24936.99 | E48: -73000 | F48: 26182.91 | H48: 23886.31 | I48: -32000 | J48: 26472.48 | K48: =-24000-26500 -> -50500 | L48: 16070.1 | M48: -16100 | N48: 6203.63 | O48: -6210 | P48: 3550.07 | Q48: -3550 | R48: 5499.55 | S48: -5500 | T48: 5256.8249 | U48: -5300 | V48: 10184.791 | W48: -10200 | X48: 12561.717 | Y48: -12570 | Z48: 3410.2615 | AA48: -3412 | AC48: =SUM(C48:AB48) -> -54126.366
A49: №39 | B49: Хорошева | D49: 11.8 | F49: 11.67 | H49: 10.54 | J49: 11.69 | L49: 260.51 | N49: 395.51 | O49: -211.86 | P49: 539.68 | Q49: -1108 | R49: 585.79 | T49: 803.5723 | U49: -585.79 | V49: 618.4808 | X49: 93.3519 | Y49: -1503.57 | Z49: 12.5239 | AC49: =SUM(C49:AB49) -> -54.1011
...

Sheet 2014
A10: Участок | B10: ФИО | C10: 41640 | E10: 41671 | G10: 41699 | I10: 41730 | K10: май 2014 | M10: 41791 | O10: 41821 | Q10: 41852 | S10: 41883 | U10: 41913 | W10: 41944 | Y10: 41974 | AB10: Итого
A11: №1 | B11: Рябцева | C11: 1656.55 | E11: 1773.05 | F11: -1656.55 | G11: 703.87 | H11: -1773.05 | I11: 435.47 | J11: -703.87 | K11: 1954.79 | L11: =-435.47-1954.79 -> -2390.26 | M11: - р. | O11: 1002.44 | P11: =-443.94-1002.44 -> -1446.38 | Q11: 1460.93 | S11: 1836.12 | T11: -1460.93 | U11: 2425.9 | V11: -1836.12 | W11: 672.29 | X11: -2425.9 | Y11: 1692.55 | Z11: =-672.29-1692.65 -> -2364.94 | AB11: =SUM(C11:AA11) -> -444.04
A12: №2 | B12: Антипов | C12: 3.03 | E12: 2.57 | G12: 2.75 | I12: 24.63 | K12: 19.2 | M12: 44.84 | O12: 331.19 | P12: -1000 | Q12: 393.31 | S12: 586.92 | U12: 606.97 | V12: -700 | W12: 503.91 | Y12: 75.51 | Z12: -1100 | AB12: =SUM(C12:AA12) -> -205.17
A13: №3 | B13: Ханина | C13: 2.74 | E13: 2.26 | G13: 2.43 | I13: 2.71 | K13: 3.45 | M13: - р. | O13: 19.82 | Q13: 160.05 | S13: 149.62 | U13: 19.68 | V13: -200 | W13: 3.3 | Y13: 3.14 | AB13: =SUM(C13:AA13) -> 169.2
A14: №5 | B14: Павлюк | D14: -3616.57 | AB14: =SUM(C14:AA14) -> -3616.57
A15: №6 | B15: Ребрина | C15: - р. | E15: 80.03 | G15: 92.93 | I15: 169.44 | K15: 219.09 | M15: 807.34 | O15: 845.28 | P15: =-2200-1200-845.28 -> -4245.28 | Q15: 838.59 | S15: 1219.77 | T15: -838.59 | U15: 456.28 | V15: =-1219.77-456.28 -> -1676.05 | W15: 1437.63 | X15: -1437.63 | Y15: 2017.98 | Z15: -2017.98 | AB15: =SUM(C15:AA15) -> -2031.17
A16: №7 | B16: Еропкин | C16: - р. | E16: - р. | G16: 0.64 | I16: 17.66 | J16: -2650 | K16: 408.95 | M16: 426.12 | O16: 526.02 | P16: -853 | Q16: 647.75 | S16: 460.13 | U16: 265.8 | W16: 0.77 | X16: -2000 | Y16: - р. | AB16: =SUM(C16:AA16) -> -2749.16
A17: №8 | B17: Шатилов | C17: 51 | E17: 154.57 | G17: 682.19 | I17: 1231.04 | K17: 1185.69 | M17: 663.2 | O17: 800.58 | P17: -10000 | Q17: 1763.31 | S17: 3813.34 | U17: 346.74 | V17: -4500 | W17: 183.2 | Y17: 14.41 | AB17: =SUM(C17:AA17) -> -3610.73
A18: №9 | B18: Ворнаков | C18: 3.87 | E18: 3.21 | G18: 3.55 | I18: 3.86 | K18: 59.33 | M18: 42.04 | O18: 44.04 | Q18: 127.32 | S18: 21.9 | U18: 7.9 | W18: 4.04 | Y18: 3.81 | AB18: =SUM(C18:AA18) -> 324.87
A19: №10 | B19: Усова | C19: 2.91 | E19: 2.47 | G19: 2.6 | I19: 11.42 | K19: 116.87 | M19: 156.63 | N19: =-88.73-136.27 -> -225 | O19: 155.59 | Q19: 148.93 | S19: 95.69 | U19: 71.76 | W19: 11.47 | Y19: 2.82 | Z19: -639.8 | AB19: =SUM(C19:AA19) -> -85.64
A20: №11 | B20: Щербачев | C20: 4.24 | E20: 3 | G20: 4.36 | I20: 3.6 | K20: 53.67 | M20: 212.48 | O20: 251.74 | P20: -266.08 | T20: -670.07 | AB20: =SUM(C20:AA20) -> -403.06
A21: №12 | B21: Козлов | C21: 0.97 | E21: 0.26 | G21: 0.23 | I21: 12.28 | K21: 173.35 | M21: 163.66 | N21: -173.35 | O21: 499.06 | P21: -280.54 | AB21: =SUM(C21:AA21) -> 395.92
A22: №13 | B22: Самсонов | C22: 8.31 | E22: 8 | G22: 287.8 | H22: =-16.31-1685.13 -> -1701.44 | I22: 466.74 | K22: 449.42 | L22: -754.54 | M22: 191.71 | N22: -641.13 | O22: 218.2 | Q22: 259.7 | S22: 416.45 | T22: -477.9 | U22: 1063.25 | W22: 2112.04 | X22: -1479.7 | Y22: 773.88 | AB22: =SUM(C22:AA22) -> 1200.79
A23: №14 | B23: Корчагина | C23: 15.94 | E23: 13.36 | G23: 14.43 | I23: 22.03 | K23: 218.58 | M23: 586.19 | O23: 1153.83 | Q23: 1204.56 | R23: =-1958.6-516.64 -> -2475.24 | S23: 1644.87 | U23: 286.71 | V23: -2849.43 | W23: 19.06 | Y23: 13.02 | AB23: =SUM(C23:AA23) -> -132.09
A24: №15 | B24: Кречет | C24: 1591.5 | E24: 975.72 | F24: =-1591.5-975.72 -> -2567.22 | G24: 101.11 | H24: -101.11 | I24: 1615.53 | K24: 1958.76 | L24: -1615.53 | M24: 1527.81 | N24: -1958.86 | O24: 1676.52 | Q24: 1404.3 | R24: =-1676.52-1842.29-1404.3 -> -4923.11 | S24: 2032.37 | U24: 3473.74 | V24: -2032.47 | W24: 538.49 | X24: -3473.74 | Y24: 28.03 | Z24: =-538.49-28.03 -> -566.52 | AB24: =SUM(C24:AA24) -> -314.68
A25: №16 | B25: Назаров | C25: 427.19 | E25: 423.23 | G25: 431.68 | I25: 543.59 | K25: 557.61 | L25: -6500 | M25: 580.17 | O25: 510.27 | Q25: 1530.88 | S25: 1915.53 | U25: 704.09 | W25: 581.47 | Y25: 548.59 | AB25: =SUM(C25:AA25) -> 2254.3
A26: №17 | B26: Розофарова | C26: - р. | E26: - р. | G26: - р. | I26: - р. | K26: 54.21 | M26: 414.97 | O26: 938.99 | Q26: 615.86 | S26: 827.65 | U26: 107.88 | W26: 4.12 | Y26: - р. | AB26: =SUM(C26:AA26) -> 2963.68
A27: №18 | B27: Пухова | C27: 53.46 | E27: - р. | G27: - р. | I27: 0.92 | K27: 455.67 | L27: -2000 | M27: 705.37 | O27: 755.84 | Q27: 800.51 | R27: -750 | S27: 744.91 | T27: -760 | U27: 91.71 | W27: 63.42 | Y27: - р. | AB27: =SUM(C27:AA27) -> 161.81
A28: №19 | B28: Ермилина | C28: - р. | E28: - р. | G28: - р. | I28: - р. | K28: 21.36 | M28: 214.91 | O28: 106.75 | Q28: 31.29 | S28: 42.34 | T28: -550 | U28: 86.36 | W28: 3.89 | Y28: 0.11 | AB28: =SUM(C28:AA28) -> -42.99
A29: №20 | B29: Артюхова | C29: - р. | E29: - р. | G29: - р. | I29: - р. | K29: 103.86 | M29: 620.64 | N29: -103.86 | O29: 1034.11 | P29: -620.64 | Q29: 845.73 | R29: -1034.11 | S29: 656.66 | U29: 381.74 | W29: 103.46 | X29: -1987.59 | Y29: - р. | AB29: =SUM(C29:AA29) -> 0
A30: №21 | B30: Виноградова | D30: -3758.71 | AB30: =SUM(C30:AA30) -> -3758.71
A31: №22 | B31: Волчкова | C31: 2.11 | E31: 1.74 | G31: 1.92 | I31: 2.18 | K31: 98.42 | M31: 946.92 | O31: 1240.83 | P31: -1647.22 | Q31: 691.43 | S31: 618.65 | T31: -1932.26 | U31: 156.4 | W31: 115.04 | Y31: 24.16 | AB31: =SUM(C31:AA31) -> 320.32
A32: №23 | B32: Горбунов | C32: 12.45 | E32: 10.44 | G32: 30.6 | H32: =-10.44-12.45-30.6-43.5 -> -96.99 | I32: 313.28 | K32: 253.82 | M32: 540.15 | O32: 897.83 | P32: =-253.82-313.28-540.15 -> -1107.25 | Q32: 861.84 | R32: -897.83 | S32: 979.96 | T32: =-861.84-979.96 -> -1841.8 | U32: 1036.88 | W32: 54.05 | X32: -1036.88 | Y32: 57.23 | Z32: =-54.05-57.23 -> -111.28 | AB32: =SUM(C32:AA32) -> -43.5
A33: №24 | B33: Мартанова | C33: 3.86 | E33: 231.41 | G33: 239.16 | H33: -2500 | I33: 3.87 | K33: 900.6 | M33: 354.22 | N33: -900 | O33: 704.82 | Q33: 578.42 | R33: -5105.15 | S33: 335.75 | U33: 85.68 | W33: 3.99 | Y33: 4.02 | Z33: -1700 | AB33: =SUM(C33:AA33) -> -6759.35
A34: №25 | B34: Садовникова | C34: 3.55 | E34: 2.97 | G34: 3.23 | I34: 3.6 | K34: 80.81 | M34: 144.83 | O34: 204.28 | Q34: 214.71 | S34: 280.22 | U34: 136.3 | W34: 3.7 | Y34: 3.54 | AB34: =SUM(C34:AA34) -> 1081.74
A35: №26 | B35: Колотушкина | C35: - р. | E35: - р. | G35: - р. | I35: - р. | K35: 235.01 | M35: 211.02 | N35: -235 | O35: 380.83 | Q35: 527.4 | R35: -591.85 | S35: 306.52 | T35: -527.4 | U35: 2.83 | W35: 23.28 | Y35: 0.05 | AB35: =SUM(C35:AA35) -> 332.69
A36: №26Б | B36: Андреева | C36: - р. | E36: - р. | G36: - р. | I36: - р. | K36: 36.06 | M36: - р. | O36: - р. | Q36: 282.93 | S36: 4.36 | U36: - р. | V36: -323.35 | W36: - р. | Y36: - р. | AB36: =SUM(C36:AA36) -> 0
A37: №27 | B37: Рассказихин | C37: 3.44 | E37: 2.95 | G37: 3.12 | I37: 3.54 | K37: 156.05 | M37: 284.7 | O37: 443.82 | Q37: 560.38 | S37: 186.11 | U37: 3.94 | V37: -1800 | W37: 3.59 | Y37: 3.43 | AB37: =SUM(C37:AA37) -> -144.93
A38: №28 | B38: Хруцкая | C38: 3.83 | E38: 3.27 | G38: 3.44 | I38: 3.87 | K38: 3.61 | M38: 37.16 | O38: 109.13 | Q38: 91.31 | S38: 113.99 | U38: 2.56 | V38: -880.1 | W38: - р. | Y38: - р. | AB38: =SUM(C38:AA38) -> -507.93
A39: №29 | B39: Сахаров | C39: - р. | E39: - р. | F39: -238.07 | G39: - р. | I39: - р. | K39: 0.97 | M39: 8.91 | O39: 1.77 | Q39: 8.81 | S39: 11.28 | T39: -19.49 | U39: - р. | W39: - р. | Y39: - р. | AB39: =SUM(C39:AA39) -> -225.82
A40: №30 | B40: Засыпкина | C40: - р. | E40: - р. | G40: - р. | I40: - р. | K40: 824.36 | L40: -824.36 | M40: 894.86 | N40: -894.86 | O40: 926.76 | P40: -926.76 | Q40: 669.08 | R40: -693.29 | S40: 1571.76 | T40: -1571.76 | U40: 239.45 | W40: - р. | X40: -239.45 | Y40: - р. | AB40: =SUM(C40:AA40) -> -24.21
A41: №31А | B41: Сизых | C41: - р. | E41: - р. | G41: - р. | I41: - р. | K41: 103.65 | M41: - р. | O41: 316.78 | Q41: 578.71 | R41: -420.43 | S41: 351.76 | T41: -578.71 | U41: 112.91 | V41: -464.67 | W41: - р. | Y41: - р. | AB41: =SUM(C41:AA41) -> 0
A42: №31Б | B42: Акмеева | C42: 66.42 | E42: 47.86 | G42: 12.91 | I42: 20.01 | K42: 79.7 | M42: 106.4 | O42: 135.44 | Q42: 296.37 | R42: -3000 | S42: 456.01 | U42: 383.75 | W42: 16.33 | Y42: 10.73 | AB42: =SUM(C42:AA42) -> -1368.07
A43: №32 | B43: Горюшкин | C43: 9.79 | D43: -9.56 | E43: 8.22 | G43: 11.58 | I43: 9.9 | J43: -39.5 | K43: 631.34 | L43: -631.34 | M43: 851.58 | O43: 1291.42 | P43: =-851.58-1291.42 -> -2143 | Q43: 1109.2 | R43: -1109.2 | S43: 1416.04 | T43: -1416.04 | U43: 700.94 | V43: -700.94 | W43: 40.35 | X43: -40.35 | Y43: 9.69 | AB43: =SUM(C43:AA43) -> 0.12
A44: №33 | B44: Житенев | C44: 2.03 | E44: 35.56 | G44: 104.23 | I44: 164.14 | K44: 366.35 | M44: 687.8 | N44: -665.8 | O44: 733.13 | V44: -1427.21 | AB44: =SUM(C44:AA44) -> 0.23
A45: №34 | B45: Корчененков | C45: 8431.53 | E45: 5206.54 | G45: 5078.58 | I45: 1625.26 | K45: 1784.75 | L45: =-20341.91-49257.17 -> -69599.08 | M45: 1863.59 | O45: 2742.49 | Q45: 2408.76 | S45: 5052.47 | U45: 1852.95 | W45: 6326.08 | Y45: 7527.33 | AB45: =SUM(C45:AA45) -> -19698.75
A46: №35 | B46: Осипова, Яковл. | C46: 4.04 | E46: 3.38 | G46: 3.61 | I46: 4 | K46: 58.72 | M46: 80.8 | O46: 345.6 | Q46: 370.79 | S46: 346.24 | U46: 402.07 | V46: -1700 | W46: 24.69 | Y46: 3.92 | AB46: =SUM(C46:AA46) -> -52.14
A47: №36 | B47: Кулишкин | C47: - р. | E47: - р. | G47: - р. | I47: - р. | K47: - р. | M47: - р. | O47: 28.09 | Q47: 456.67 | S47: 124.49 | U47: - р. | W47: 14.9 | Y47: - р. | Z47: -1000 | AB47: =SUM(C47:AA47) -> -375.85
A48: №37 | B48: Бирюков | C48: 3.67 | E48: 3.12 | G48: 3.34 | I48: 2133.16 | J48: -2000 | K48: 420.46 | M48: 1368.51 | O48: 1855.48 | Q48: 1923.49 | R48: -15000 | S48: 4434.24 | U48: 13413.1 | W48: 19527.53 | Y48: 20153.64 | AB48: =SUM(C48:AA48) -> 48239.74
A49: №39 | B49: Хорошева | C49: 10.99 | E49: 9.68 | G49: 10.54 | I49: 13.64 | K49: 227.19 | M49: 533.71 | N49: -229 | O49: 470.64 | Q49: 396.48 | R49: -511.81 | S49: 675.44 | U49: 524.02 | V49: =-396.48-470.64-675.44 -> -1542.56 | W49: 12.06 | Y49: 11.79 | Z49: -600 | AB49: =SUM(C49:AA49) -> 12.81
...

Sheet 2013
A10: Участок | B10: ФИО | C10: 41275 | E10: 41306 | G10: 41334 | I10: 41365 | K10: 41395 | M10: 41426 | O10: 41456 | Q10: 41487 | S10: 41518 | U10: 41548 | W10: 41579 | Y10: 41609 | AB10: Итого
A11: №1 | B11: Рябцева | C11: 1739.52 | E11: 623.79 | F11: -1739.52 | G11: 2348.93 | H11: -623.79 | I11: 723.82 | J11: -2348.93 | K11: 1357.34 | L11: =-723.82-1357.34 -> -2081.16 | M11: 848.17 | O11: 1059.83 | P11: -848.17 | Q11: 1730.75 | R11: -1059.83 | S11: 2182.71 | U11: 1869.75 | V11: =-1059.83-1730.75-1122.88 -> -3913.46 | W11: 400.48 | X11: -1587.69 | Y11: 1221.46 | Z11: =-400.48-1221.46 -> -1621.94 | AB11: =SUM(C11:AA11) -> 282.06
A12: №2 | B12: Антипов | C12: 2.43 | E12: 18.48 | G12: 3.7 | I12: 9.46 | K12: 274.3 | M12: 308.26 | N12: -1100 | O12: 305.5 | Q12: 381.19 | S12: 758.35 | U12: 745.73 | W12: 259.57 | X12: -2500 | Y12: 15.58 | AB12: =SUM(C12:AA12) -> -517.45
A13: №3 | B13: Ханина | C13: 2.17 | E13: 0.74 | G13: 3.34 | I13: 2.17 | K13: 13.43 | M13: 15.98 | O13: 43.38 | Q13: 74.87 | S13: 35.75 | U13: 12.26 | W13: 2.23 | Y13: 2.61 | AB13: =SUM(C13:AA13) -> 208.93
A14: №5 | B14: Павлюк | C14: 129.75 | E14: 24.65 | G14: 101.56 | H14: -1500 | I14: 115.34 | K14: 544.4 | M14: 392.9 | O14: 1090.87 | Q14: 1292.78 | R14: -1423.4 | S14: 371.35 | U14: 428.84 | W14: 973.21 | Y14: 549.35 | AB14: =SUM(C14:AA14) -> 3091.6
A15: №6 | B15: Ребрина | C15: 45.79 | E15: - р. | G15: - р. | I15: 33.75 | K15: 163.21 | M15: 177.75 | N15: -815.95 | O15: 208.78 | Q15: 261.37 | S15: 312.89 | U15: 310.36 | W15: 323.88 | Y15: 156.33 | AB15: =SUM(C15:AA15) -> 1178.16
A16: №7 | B16: Еропкин | C16: 66.67 | E16: - р. | G16: - р. | I16: 1.07 | K16: 522.36 | M16: 625.97 | N16: -522.36 | O16: 396.11 | Q16: 455.28 | S16: 156.67 | U16: 125.24 | W16: 0.41 | Y16: - р. | AB16: =SUM(C16:AA16) -> 1827.42
A17: №8 | B17: Шатилов | C17: 13.5 | E17: 4.8 | G17: 20.09 | I17: 12.74 | K17: 740.39 | M17: 1107.72 | O17: 1396.42 | Q17: 1159.32 | S17: 1341.42 | U17: 1709.31 | W17: 746.83 | Y17: 1.77 | AB17: =SUM(C17:AA17) -> 8254.31
A18: №9 | B18: Ворнаков | C18: 3.08 | E18: 1.06 | G18: 4.77 | I18: 3.12 | K18: 3.01 | M18: 80.72 | O18: 119.91 | Q18: 126.77 | S18: 84.57 | U18: 118.48 | W18: 3.36 | Y18: 3.64 | AB18: =SUM(C18:AA18) -> 552.49
A19: №10 | B19: Усова | C19: - р. | E19: - р. | G19: - р. | I19: - р. | K19: 89.47 | M19: 94.27 | O19: 291.96 | P19: -94.27 | Q19: 337.5 | R19: -291.96 | S19: 109.91 | U19: 54.98 | V19: =-337.5-109.91 -> -447.41 | W19: 30.92 | Y19: 2.83 | AB19: =SUM(C19:AA19) -> 178.2
A20: №11 | B20: Щербачев | C20: 2.86 | E20: 0.96 | G20: 4.41 | I20: 2.79 | K20: 134.88 | M20: 170.16 | N20: -31.5 | O20: 202.02 | P20: -170.16 | Q20: 177.95 | S20: 214.78 | T20: -379.97 | U20: 201.95 | V20: -214.78 | W20: 3.17 | X20: -201.95 | Y20: 3.32 | AB20: =SUM(C20:AA20) -> 120.89
A21: №12 | B21: Козлов | C21: 0.32 | E21: 0.1 | G21: 1.11 | I21: 0.6 | K21: 229.57 | M21: 162.23 | N21: -450.8 | O21: 432.09 | P21: -162.23 | Q21: 550.56 | R21: -432.09 | S21: 260.46 | T21: -550.56 | U21: 651.29 | V21: -811.11 | W21: 1.24 | Y21: 1.26 | AB21: =SUM(C21:AA21) -> -115.96
A22: №13 | B22: Самсонов | C22: 223.9 | E22: 111.25 | G22: 143.74 | H22: -335.15 | I22: 175.5 | K22: 215.06 | L22: -319.24 | M22: 149.28 | O22: 203.33 | P22: =-100.86-384.34 -> -485.2 | Q22: 292.46 | S22: 539.05 | T22: -495.79 | U22: 1875.7 | V22: -2414.75 | W22: 1420.65 | Y22: 264.48 | AB22: =SUM(C22:AA22) -> 1564.27
A23: №14 | B23: Корчагина | C23: 12.52 | E23: 4.4 | G23: 19.41 | I23: 12.62 | K23: 278.19 | M23: 541.19 | O23: 498.65 | P23: =-418.03-541.19 -> -959.22 | Q23: 731.98 | R23: -498.65 | S23: 716.16 | T23: -731.98 | U23: 143.29 | W23: 24.4 | X23: -716.16 | Y23: 14.93 | AB23: =SUM(C23:AA23) -> 91.73
A24: №15 | B24: Кречет | C24: 737.47 | E24: 232.42 | G24: 345.02 | I24: 77.26 | K24: 918.03 | M24: 920.38 | N24: =-1779.22-918.03 -> -2697.25 | O24: 1389.58 | P24: =-920.38-1389.58 -> -2309.96 | Q24: 1574.63 | S24: 2238.5 | T24: -1574.63 | U24: 3664.58 | W24: 2259.71 | X24: =-2238.5-3664.58 -> -5903.08 | Y24: 1215.57 | Z24: =-2259.71-1215.57 -> -3475.28 | AB24: =SUM(C24:AA24) -> -387.05
A25: №16 | B25: Назаров | C25: 385 | E25: 176.91 | G25: 784.59 | I25: 520.04 | K25: 561.16 | M25: 492.11 | N25: =-9382.24-3000 -> -12382.24 | O25: 734.13 | Q25: 859.67 | S25: 335.41 | U25: 412.88 | W25: 689.64 | Y25: 429.74 | AB25: =SUM(C25:AA25) -> -6000.96
A26: №17 | B26: Розофарова | C26: 3.39 | E26: 1.18 | G26: 5.2 | I26: 3.39 | K26: 7.87 | L26: -334.17 | M26: 54.87 | O26: 112.25 | Q26: 148.12 | S26: 29.34 | U26: 31.46 | W26: 3.76 | Y26: 0.91 | AB26: =SUM(C26:AA26) -> 67.57
A27: №18 | B27: Пухова | C27: 42.08 | E27: - р. | G27: 59.23 | I27: 0.62 | K27: 349.18 | M27: 440.96 | O27: 608.91 | P27: -1300 | Q27: 596.94 | S27: 414.73 | U27: 1.89 | W27: 51.63 | Y27: 9.89 | AB27: =SUM(C27:AA27) -> 1276.06
A28: №19 | B28: Ермилина | C28: 2.97 | E28: 1.02 | G28: 4.66 | I28: 3.02 | K28: 28.64 | M28: 111.19 | O28: 131.32 | P28: -117.53 | Q28: 81.79 | R28: =-111.19-131.32 -> -242.51 | S28: 180.3 | T28: -81.79 | U28: 253.66 | W28: 3.22 | X28: -433.96 | Y28: 0.06 | AB28: =SUM(C28:AA28) -> -73.94
A29: №20 | B29: Артюхова | C29: - р. | E29: - р. | G29: - р. | I29: - р. | K29: 125.78 | M29: 442.39 | N29: -381.34 | O29: 584.67 | P29: -442.39 | Q29: 642.72 | R29: -584.67 | S29: 426.39 | U29: 332.59 | W29: 329.49 | X29: -1401.7 | Y29: - р. | Z29: -329.49 | AB29: =SUM(C29:AA29) -> -255.56
